Workbook

Sheet CandidatosFilaDeEspera
A1: ID | B1: Regional | C1: Unidade Escolar | D1: INEP | E1: Ano Escolar | F1: Turno | G1: Fila | H1: Posição | I1: Protocolo | J1: Cadastro | K1: Nome | L1: CPF | M1: Data de Nascimento | N1: Documentos | O1: Quantidade de contatos efetuados
B2: {=_xlfn.XLOOKUP(D2,Tabela_Dados_Esc_JAB_2026[INEP],Tabela_Dados_Esc_JAB_2026[REGIONAL],"NE",0)} -> REGIONAL 7 | C2: =IFERROR(__xludf.dummyfunction("QUERY(IMPORTRANGE(""https://docs.google.com/spreadsheets/d/1d_cIwlOLUoinxyGHZf9tybE_zjflL7oelQpkKokKpnw/edit?gid=427424825#gid=427424825"",""CandidatosFilaDeEspera!A2:N""), ""SELECT * "")"),"CEMEI DR. PAULO MENDES") -> CEMEI DR. PAULO MENDES | D2: =IFERROR(__xludf.dummyfunction("""COMPUTED_VALUE"""),"26194643") -> 26194643 | E2: =IFERROR(__xludf.dummyfunction("""COMPUTED_VALUE"""),"INFANTIL 1") -> INFANTIL 1 | F2: =IFERROR(__xludf.dummyfunction("""COMPUTED_VALUE"""),"Integral") -> Integral | G2: =IFERROR(__xludf.dummyfunction("""COMPUTED_VALUE"""),"Comum") -> Comum | H2: =IFERROR(__xludf.dummyfunction("""COMPUTED_VALUE"""),"1") -> 1 | I2: =IFERROR(__xludf.dummyfunction("""COMPUTED_VALUE"""),"26032971417") -> 26032971417 | J2: =IFERROR(__xludf.dummyfunction("""COMPUTED_VALUE"""),"24/03/2026 13:31:53") -> 24/03/2026 13:31:53 | K2: =IFERROR(__xludf.dummyfunction("""COMPUTED_VALUE"""),"MARIA EDUARDA SANTANA FELIX DA SILVA") -> MARIA EDUARDA SANTANA FELIX DA SILVA | L2: =IFERROR(__xludf.dummyfunction("""COMPUTED_VALUE"""),"004.110.684-90") -> 004.110.684-90 | M2: =IFERROR(__xludf.dummyfunction("""COMPUTED_VALUE"""),"09/06/2024") -> 09/06/2024 | O2: =IFERROR(__xludf.dummyfunction("""COMPUTED_VALUE"""),"0") -> 0
B3: {=_xlfn.XLOOKUP(D3,Tabela_Dados_Esc_JAB_2026[INEP],Tabela_Dados_Esc_JAB_2026[REGIONAL],"NE",0)} -> REGIONAL 7 | C3: =IFERROR(__xludf.dummyfunction("""COMPUTED_VALUE"""),"CEMEI DR. PAULO MENDES") -> CEMEI DR. PAULO MENDES | D3: =IFERROR(__xludf.dummyfunction("""COMPUTED_VALUE"""),"26194643") -> 26194643 | E3: =IFERROR(__xludf.dummyfunction("""COMPUTED_VALUE"""),"INFANTIL 1") -> INFANTIL 1 | F3: =IFERROR(__xludf.dummyfunction("""COMPUTED_VALUE"""),"Integral") -> Integral | G3: =IFERROR(__xludf.dummyfunction("""COMPUTED_VALUE"""),"Comum") -> Comum | H3: =IFERROR(__xludf.dummyfunction("""COMPUTED_VALUE"""),"2") -> 2 | I3: =IFERROR(__xludf.dummyfunction("""COMPUTED_VALUE"""),"26032365428") -> 26032365428 | J3: =IFERROR(__xludf.dummyfunction("""COMPUTED_VALUE"""),"27/03/2026 12:51:51") -> 27/03/2026 12:51:51 | K3: =IFERROR(__xludf.dummyfunction("""COMPUTED_VALUE"""),"OLIVER BENJAMIN DA SILVA LIMA") -> OLIVER BENJAMIN DA SILVA LIMA | L3: =IFERROR(__xludf.dummyfunction("""COMPUTED_VALUE"""),"022.780.734-00") -> 022.780.734-00 | M3: =IFERROR(__xludf.dummyfunction("""COMPUTED_VALUE"""),"13/11/2025") -> 13/11/2025 | O3: =IFERROR(__xludf.dummyfunction("""COMPUTED_VALUE"""),"0") -> 0
B4: {=_xlfn.XLOOKUP(D4,Tabela_Dados_Esc_JAB_2026[INEP],Tabela_Dados_Esc_JAB_2026[REGIONAL],"NE",0)} -> REGIONAL 7 | C4: =IFERROR(__xludf.dummyfunction("""COMPUTED_VALUE"""),"CEMEI DR. PAULO MENDES") -> CEMEI DR. PAULO MENDES | D4: =IFERROR(__xludf.dummyfunction("""COMPUTED_VALUE"""),"26194643") -> 26194643 | E4: =IFERROR(__xludf.dummyfunction("""COMPUTED_VALUE"""),"INFANTIL 1") -> INFANTIL 1 | F4: =IFERROR(__xludf.dummyfunction("""COMPUTED_VALUE"""),"Integral") -> Integral | G4: =IFERROR(__xludf.dummyfunction("""COMPUTED_VALUE"""),"Comum") -> Comum | H4: =IFERROR(__xludf.dummyfunction("""COMPUTED_VALUE"""),"3") -> 3 | I4: =IFERROR(__xludf.dummyfunction("""COMPUTED_VALUE"""),"26052086599") -> 26052086599 | J4: =IFERROR(__xludf.dummyfunction("""COMPUTED_VALUE"""),"21/05/2026 11:32:39") -> 21/05/2026 11:32:39 | K4: =IFERROR(__xludf.dummyfunction("""COMPUTED_VALUE"""),"KAUÊ HENRIQUE DE ARAÚJO SILVA") -> KAUÊ HENRIQUE DE ARAÚJO SILVA | L4: =IFERROR(__xludf.dummyfunction("""COMPUTED_VALUE"""),"002.527.454-69") -> 002.527.454-69 | M4: =IFERROR(__xludf.dummyfunction("""COMPUTED_VALUE"""),"01/04/2024") -> 01/04/2024 | O4: =IFERROR(__xludf.dummyfunction("""COMPUTED_VALUE"""),"0") -> 0
B5: {=_xlfn.XLOOKUP(D5,Tabela_Dados_Esc_JAB_2026[INEP],Tabela_Dados_Esc_JAB_2026[REGIONAL],"NE",0)} -> REGIONAL 7 | C5: =IFERROR(__xludf.dummyfunction("""COMPUTED_VALUE"""),"CEMEI DR. PAULO MENDES") -> CEMEI DR. PAULO MENDES | D5: =IFERROR(__xludf.dummyfunction("""COMPUTED_VALUE"""),"26194643") -> 26194643 | E5: =IFERROR(__xludf.dummyfunction("""COMPUTED_VALUE"""),"INFANTIL 1") -> INFANTIL 1 | F5: =IFERROR(__xludf.dummyfunction("""COMPUTED_VALUE"""),"Integral") -> Integral | G5: =IFERROR(__xludf.dummyfunction("""COMPUTED_VALUE"""),"Comum") -> Comum | H5: =IFERROR(__xludf.dummyfunction("""COMPUTED_VALUE"""),"4") -> 4 | I5: =IFERROR(__xludf.dummyfunction("""COMPUTED_VALUE"""),"26052534169") -> 26052534169 | J5: =IFERROR(__xludf.dummyfunction("""COMPUTED_VALUE"""),"22/05/2026 09:22:30") -> 22/05/2026 09:22:30 | K5: =IFERROR(__xludf.dummyfunction("""COMPUTED_VALUE"""),"Aylla Eduarda Marques da Silva") -> Aylla Eduarda Marques da Silva | L5: =IFERROR(__xludf.dummyfunction("""COMPUTED_VALUE"""),"003.643.684-46") -> 003.643.684-46 | M5: =IFERROR(__xludf.dummyfunction("""COMPUTED_VALUE"""),"27/07/2024") -> 27/07/2024 | O5: =IFERROR(__xludf.dummyfunction("""COMPUTED_VALUE"""),"0") -> 0
B6: {=_xlfn.XLOOKUP(D6,Tabela_Dados_Esc_JAB_2026[INEP],Tabela_Dados_Esc_JAB_2026[REGIONAL],"NE",0)} -> REGIONAL 7 | C6: =IFERROR(__xludf.dummyfunction("""COMPUTED_VALUE"""),"CEMEI DR. PAULO MENDES") -> CEMEI DR. PAULO MENDES | D6: =IFERROR(__xludf.dummyfunction("""COMPUTED_VALUE"""),"26194643") -> 26194643 | E6: =IFERROR(__xludf.dummyfunction("""COMPUTED_VALUE"""),"INFANTIL 1") -> INFANTIL 1 | F6: =IFERROR(__xludf.dummyfunction("""COMPUTED_VALUE"""),"Integral") -> Integral | G6: =IFERROR(__xludf.dummyfunction("""COMPUTED_VALUE"""),"Comum") -> Comum | H6: =IFERROR(__xludf.dummyfunction("""COMPUTED_VALUE"""),"5") -> 5 | I6: =IFERROR(__xludf.dummyfunction("""COMPUTED_VALUE"""),"26062410587") -> 26062410587 | J6: =IFERROR(__xludf.dummyfunction("""COMPUTED_VALUE"""),"23/06/2026 09:32:02") -> 23/06/2026 09:32:02 | K6: =IFERROR(__xludf.dummyfunction("""COMPUTED_VALUE"""),"MARIANA LEANDRA TOMAZ DE MELO") -> MARIANA LEANDRA TOMAZ DE MELO | L6: =IFERROR(__xludf.dummyfunction("""COMPUTED_VALUE"""),"004.786.214-93") -> 004.786.214-93 | M6: =IFERROR(__xludf.dummyfunction("""COMPUTED_VALUE"""),"25/11/2024") -> 25/11/2024 | O6: =IFERROR(__xludf.dummyfunction("""COMPUTED_VALUE"""),"0") -> 0
B7: {=_xlfn.XLOOKUP(D7,Tabela_Dados_Esc_JAB_2026[INEP],Tabela_Dados_Esc_JAB_2026[REGIONAL],"NE",0)} -> REGIONAL 7 | C7: =IFERROR(__xludf.dummyfunction("""COMPUTED_VALUE"""),"CEMEI DR. PAULO MENDES") -> CEMEI DR. PAULO MENDES | D7: =IFERROR(__xludf.dummyfunction("""COMPUTED_VALUE"""),"26194643") -> 26194643 | E7: =IFERROR(__xludf.dummyfunction("""COMPUTED_VALUE"""),"INFANTIL 1") -> INFANTIL 1 | F7: =IFERROR(__xludf.dummyfunction("""COMPUTED_VALUE"""),"Integral") -> Integral | G7: =IFERROR(__xludf.dummyfunction("""COMPUTED_VALUE"""),"Comum") -> Comum | H7: =IFERROR(__xludf.dummyfunction("""COMPUTED_VALUE"""),"6") -> 6 | I7: =IFERROR(__xludf.dummyfunction("""COMPUTED_VALUE"""),"26062171235") -> 26062171235 | J7: =IFERROR(__xludf.dummyfunction("""COMPUTED_VALUE"""),"23/06/2026 09:36:48") -> 23/06/2026 09:36:48 | K7: =IFERROR(__xludf.dummyfunction("""COMPUTED_VALUE"""),"FERNANDA LEANDRA TOMAZ DE MELO") -> FERNANDA LEANDRA TOMAZ DE MELO | L7: =IFERROR(__xludf.dummyfunction("""COMPUTED_VALUE"""),"004.785.384-05") -> 004.785.384-05 | M7: =IFERROR(__xludf.dummyfunction("""COMPUTED_VALUE"""),"25/11/2024") -> 25/11/2024 | O7: =IFERROR(__xludf.dummyfunction("""COMPUTED_VALUE"""),"0") -> 0
B8: {=_xlfn.XLOOKUP(D8,Tabela_Dados_Esc_JAB_2026[INEP],Tabela_Dados_Esc_JAB_2026[REGIONAL],"NE",0)} -> REGIONAL 7 | C8: =IFERROR(__xludf.dummyfunction("""COMPUTED_VALUE"""),"CEMEI DR. PAULO MENDES") -> CEMEI DR. PAULO MENDES | D8: =IFERROR(__xludf.dummyfunction("""COMPUTED_VALUE"""),"26194643") -> 26194643 | E8: =IFERROR(__xludf.dummyfunction("""COMPUTED_VALUE"""),"INFANTIL 1") -> INFANTIL 1 | F8: =IFERROR(__xludf.dummyfunction("""COMPUTED_VALUE"""),"Integral") -> Integral | G8: =IFERROR(__xludf.dummyfunction("""COMPUTED_VALUE"""),"Comum") -> Comum | H8: =IFERROR(__xludf.dummyfunction("""COMPUTED_VALUE"""),"7") -> 7 | I8: =IFERROR(__xludf.dummyfunction("""COMPUTED_VALUE"""),"26072980169") -> 26072980169 | J8: =IFERROR(__xludf.dummyfunction("""COMPUTED_VALUE"""),"23/07/2026 04:45:19") -> 23/07/2026 04:45:19 | K8: =IFERROR(__xludf.dummyfunction("""COMPUTED_VALUE"""),"Ramon Oliveira Silva") -> Ramon Oliveira Silva | L8: =IFERROR(__xludf.dummyfunction("""COMPUTED_VALUE"""),"024.777.004-30") -> 024.777.004-30 | M8: =IFERROR(__xludf.dummyfunction("""COMPUTED_VALUE"""),"17/11/2025") -> 17/11/2025 | O8: =IFERROR(__xludf.dummyfunction("""COMPUTED_VALUE"""),"0") -> 0
B9: {=_xlfn.XLOOKUP(D9,Tabela_Dados_Esc_JAB_2026[INEP],Tabela_Dados_Esc_JAB_2026[REGIONAL],"NE",0)} -> REGIONAL 7 | C9: =IFERROR(__xludf.dummyfunction("""COMPUTED_VALUE"""),"CEMEI DR. PAULO MENDES") -> CEMEI DR. PAULO MENDES | D9: =IFERROR(__xludf.dummyfunction("""COMPUTED_VALUE"""),"26194643") -> 26194643 | E9: =IFERROR(__xludf.dummyfunction("""COMPUTED_VALUE"""),"INFANTIL 1") -> INFANTIL 1 | F9: =IFERROR(__xludf.dummyfunction("""COMPUTED_VALUE"""),"Integral") -> Integral | G9: =IFERROR(__xludf.dummyfunction("""COMPUTED_VALUE"""),"Comum") -> Comum | H9: =IFERROR(__xludf.dummyfunction("""COMPUTED_VALUE"""),"8") -> 8 | I9: =IFERROR(__xludf.dummyfunction("""COMPUTED_VALUE"""),"26092048380") -> 26092048380 | J9: =IFERROR(__xludf.dummyfunction("""COMPUTED_VALUE"""),"02/09/2026 11:53:05") -> 02/09/2026 11:53:05 | K9: =IFERROR(__xludf.dummyfunction("""COMPUTED_VALUE"""),"Efraim Miranda da Silva") -> Efraim Miranda da Silva | L9: =IFERROR(__xludf.dummyfunction("""COMPUTED_VALUE"""),"006.663.544-64") -> 006.663.544-64 | M9: =IFERROR(__xludf.dummyfunction("""COMPUTED_VALUE"""),"06/07/2025") -> 06/07/2025 | O9: =IFERROR(__xludf.dummyfunction("""COMPUTED_VALUE"""),"0") -> 0
B10: {=_xlfn.XLOOKUP(D10,Tabela_Dados_Esc_JAB_2026[INEP],Tabela_Dados_Esc_JAB_2026[REGIONAL],"NE",0)} -> REGIONAL 7 | C10: =IFERROR(__xludf.dummyfunction("""COMPUTED_VALUE"""),"CEMEI DR. PAULO MENDES") -> CEMEI DR. PAULO MENDES | D10: =IFERROR(__xludf.dummyfunction("""COMPUTED_VALUE"""),"26194643") -> 26194643 | E10: =IFERROR(__xludf.dummyfunction("""COMPUTED_VALUE"""),"INFANTIL 2") -> INFANTIL 2 | F10: =IFERROR(__xludf.dummyfunction("""COMPUTED_VALUE"""),"Integral") -> Integral | G10: =IFERROR(__xludf.dummyfunction("""COMPUTED_VALUE"""),"Comum") -> Comum | H10: =IFERROR(__xludf.dummyfunction("""COMPUTED_VALUE"""),"1") -> 1 | I10: =IFERROR(__xludf.dummyfunction("""COMPUTED_VALUE"""),"26062791417") -> 26062791417 | J10: =IFERROR(__xludf.dummyfunction("""COMPUTED_VALUE"""),"10/06/2026 11:22:14") -> 10/06/2026 11:22:14 | K10: =IFERROR(__xludf.dummyfunction("""COMPUTED_VALUE"""),"BRUNO GABRIEL SOARES DA SILVA") -> BRUNO GABRIEL SOARES DA SILVA | L10: =IFERROR(__xludf.dummyfunction("""COMPUTED_VALUE"""),"001.026.744-18") -> 001.026.744-18 | M10: =IFERROR(__xludf.dummyfunction("""COMPUTED_VALUE"""),"10/11/2023") -> 10/11/2023 | O10: =IFERROR(__xludf.dummyfunction("""COMPUTED_VALUE"""),"0") -> 0
B11: {=_xlfn.XLOOKUP(D11,Tabela_Dados_Esc_JAB_2026[INEP],Tabela_Dados_Esc_JAB_2026[REGIONAL],"NE",0)} -> REGIONAL 7 | C11: =IFERROR(__xludf.dummyfunction("""COMPUTED_VALUE"""),"CEMEI DR. PAULO MENDES") -> CEMEI DR. PAULO MENDES | D11: =IFERROR(__xludf.dummyfunction("""COMPUTED_VALUE"""),"26194643") -> 26194643 | E11: =IFERROR(__xludf.dummyfunction("""COMPUTED_VALUE"""),"INFANTIL 2") -> INFANTIL 2 | F11: =IFERROR(__xludf.dummyfunction("""COMPUTED_VALUE"""),"Integral") -> Integral | G11: =IFERROR(__xludf.dummyfunction("""COMPUTED_VALUE"""),"Comum") -> Comum | H11: =IFERROR(__xludf.dummyfunction("""COMPUTED_VALUE"""),"2") -> 2 | I11: =IFERROR(__xludf.dummyfunction("""COMPUTED_VALUE"""),"26092920457") -> 26092920457 | J11: =IFERROR(__xludf.dummyfunction("""COMPUTED_VALUE"""),"16/09/2026 22:07:06") -> 16/09/2026 22:07:06 | K11: =IFERROR(__xludf.dummyfunction("""COMPUTED_VALUE"""),"Theo Antonio Belarmino Cavalcanti") -> Theo Antonio Belarmino Cavalcanti | L11: =IFERROR(__xludf.dummyfunction("""COMPUTED_VALUE"""),"000.037.494-60") -> 000.037.494-60 | M11: =IFERROR(__xludf.dummyfunction("""COMPUTED_VALUE"""),"20/09/2023") -> 20/09/2023 | O11: =IFERROR(__xludf.dummyfunction("""COMPUTED_VALUE"""),"0") -> 0
B12: {=_xlfn.XLOOKUP(D12,Tabela_Dados_Esc_JAB_2026[INEP],Tabela_Dados_Esc_JAB_2026[REGIONAL],"NE",0)} -> REGIONAL 7 | C12: =IFERROR(__xludf.dummyfunction("""COMPUTED_VALUE"""),"CEMEI DR. PAULO MENDES") -> CEMEI DR. PAULO MENDES | D12: =IFERROR(__xludf.dummyfunction("""COMPUTED_VALUE"""),"26194643") -> 26194643 | E12: =IFERROR(__xludf.dummyfunction("""COMPUTED_VALUE"""),"INFANTIL 3") -> INFANTIL 3 | F12: =IFERROR(__xludf.dummyfunction("""COMPUTED_VALUE"""),"Integral") -> Integral | G12: =IFERROR(__xludf.dummyfunction("""COMPUTED_VALUE"""),"Comum") -> Comum | H12: =IFERROR(__xludf.dummyfunction("""COMPUTED_VALUE"""),"1") -> 1 | I12: =IFERROR(__xludf.dummyfunction("""COMPUTED_VALUE"""),"26052484301") -> 26052484301 | J12: =IFERROR(__xludf.dummyfunction("""COMPUTED_VALUE"""),"18/05/2026 09:15:19") -> 18/05/2026 09:15:19 | K12: =IFERROR(__xludf.dummyfunction("""COMPUTED_VALUE"""),"HELLOYSE VITÓRIA SANTOS DUARTE") -> HELLOYSE VITÓRIA SANTOS DUARTE | L12: =IFERROR(__xludf.dummyfunction("""COMPUTED_VALUE"""),"184.035.244-20") -> 184.035.244-20 | M12: =IFERROR(__xludf.dummyfunction("""COMPUTED_VALUE"""),"11/01/2023") -> 11/01/2023 | O12: =IFERROR(__xludf.dummyfunction("""COMPUTED_VALUE"""),"0") -> 0
B13: {=_xlfn.XLOOKUP(D13,Tabela_Dados_Esc_JAB_2026[INEP],Tabela_Dados_Esc_JAB_2026[REGIONAL],"NE",0)} -> REGIONAL 7 | C13: =IFERROR(__xludf.dummyfunction("""COMPUTED_VALUE"""),"CEMEI DR. PAULO MENDES") -> CEMEI DR. PAULO MENDES | D13: =IFERROR(__xludf.dummyfunction("""COMPUTED_VALUE"""),"26194643") -> 26194643 | E13: =IFERROR(__xludf.dummyfunction("""COMPUTED_VALUE"""),"INFANTIL 5") -> INFANTIL 5 | F13: =IFERROR(__xludf.dummyfunction("""COMPUTED_VALUE"""),"Vespertino/Tarde") -> Vespertino/Tarde | G13: =IFERROR(__xludf.dummyfunction("""COMPUTED_VALUE"""),"Comum") -> Comum | H13: =IFERROR(__xludf.dummyfunction("""COMPUTED_VALUE"""),"1") -> 1 | I13: =IFERROR(__xludf.dummyfunction("""COMPUTED_VALUE"""),"26032246255") -> 26032246255 | J13: =IFERROR(__xludf.dummyfunction("""COMPUTED_VALUE"""),"04/03/2026 13:11:39") -> 04/03/2026 13:11:39 | K13: =IFERROR(__xludf.dummyfunction("""COMPUTED_VALUE"""),"DÉBORA ANA VALQUÍRIA GOMES DOS SANTOS") -> DÉBORA ANA VALQUÍRIA GOMES DOS SANTOS | L13: =IFERROR(__xludf.dummyfunction("""COMPUTED_VALUE"""),"174.916.104-47") -> 174.916.104-47 | M13: =IFERROR(__xludf.dummyfunction("""COMPUTED_VALUE"""),"12/10/2020") -> 12/10/2020 | O13: =IFERROR(__xludf.dummyfunction("""COMPUTED_VALUE"""),"0") -> 0
B14: {=_xlfn.XLOOKUP(D14,Tabela_Dados_Esc_JAB_2026[INEP],Tabela_Dados_Esc_JAB_2026[REGIONAL],"NE",0)} -> REGIONAL 7 | C14: =IFERROR(__xludf.dummyfunction("""COMPUTED_VALUE"""),"CEMEI ELIEL EUSTAQUIO DA SILVA") -> CEMEI ELIEL EUSTAQUIO DA SILVA | D14: =IFERROR(__xludf.dummyfunction("""COMPUTED_VALUE"""),"26109255") -> 26109255 | E14: =IFERROR(__xludf.dummyfunction("""COMPUTED_VALUE"""),"INFANTIL 3") -> INFANTIL 3 | F14: =IFERROR(__xludf.dummyfunction("""COMPUTED_VALUE"""),"Matutino/Manhã") -> Matutino/Manhã | G14: =IFERROR(__xludf.dummyfunction("""COMPUTED_VALUE"""),"Comum") -> Comum | H14: =IFERROR(__xludf.dummyfunction("""COMPUTED_VALUE"""),"1") -> 1 | I14: =IFERROR(__xludf.dummyfunction("""COMPUTED_VALUE"""),"26022224621") -> 26022224621 | J14: =IFERROR(__xludf.dummyfunction("""COMPUTED_VALUE"""),"06/02/2026 09:17:41") -> 06/02/2026 09:17:41 | K14: =IFERROR(__xludf.dummyfunction("""COMPUTED_VALUE"""),"JOÃO VITOR CERQUEIRA CAMPOS") -> JOÃO VITOR CERQUEIRA CAMPOS | L14: =IFERROR(__xludf.dummyfunction("""COMPUTED_VALUE"""),"184.852.244-42") -> 184.852.244-42 | M14: =IFERROR(__xludf.dummyfunction("""COMPUTED_VALUE"""),"26/03/2023") -> 26/03/2023 | O14: =IFERROR(__xludf.dummyfunction("""COMPUTED_VALUE"""),"0") -> 0
B15: {=_xlfn.XLOOKUP(D15,Tabela_Dados_Esc_JAB_2026[INEP],Tabela_Dados_Esc_JAB_2026[REGIONAL],"NE",0)} -> REGIONAL 7 | C15: =IFERROR(__xludf.dummyfunction("""COMPUTED_VALUE"""),"CEMEI ELIEL EUSTAQUIO DA SILVA") -> CEMEI ELIEL EUSTAQUIO DA SILVA | D15: =IFERROR(__xludf.dummyfunction("""COMPUTED_VALUE"""),"26109255") -> 26109255 | E15: =IFERROR(__xludf.dummyfunction("""COMPUTED_VALUE"""),"INFANTIL 3") -> INFANTIL 3 | F15: =IFERROR(__xludf.dummyfunction("""COMPUTED_VALUE"""),"Matutino/Manhã") -> Matutino/Manhã | G15: =IFERROR(__xludf.dummyfunction("""COMPUTED_VALUE"""),"Comum") -> Comum | H15: =IFERROR(__xludf.dummyfunction("""COMPUTED_VALUE"""),"2") -> 2 | I15: =IFERROR(__xludf.dummyfunction("""COMPUTED_VALUE"""),"26052680185") -> 26052680185 | J15: =IFERROR(__xludf.dummyfunction("""COMPUTED_VALUE"""),"04/05/2026 08:16:17") -> 04/05/2026 08:16:17 | K15: =IFERROR(__xludf.dummyfunction("""COMPUTED_VALUE"""),"ASAFE ALLAN DE PAULA SILVA") -> ASAFE ALLAN DE PAULA SILVA | L15: =IFERROR(__xludf.dummyfunction("""COMPUTED_VALUE"""),"183.832.884-09") -> 183.832.884-09 | M15: =IFERROR(__xludf.dummyfunction("""COMPUTED_VALUE"""),"24/12/2022") -> 24/12/2022 | O15: =IFERROR(__xludf.dummyfunction("""COMPUTED_VALUE"""),"0") -> 0
B16: {=_xlfn.XLOOKUP(D16,Tabela_Dados_Esc_JAB_2026[INEP],Tabela_Dados_Esc_JAB_2026[REGIONAL],"NE",0)} -> REGIONAL 7 | C16: =IFERROR(__xludf.dummyfunction("""COMPUTED_VALUE"""),"CEMEI ELIEL EUSTAQUIO DA SILVA") -> CEMEI ELIEL EUSTAQUIO DA SILVA | D16: =IFERROR(__xludf.dummyfunction("""COMPUTED_VALUE"""),"26109255") -> 26109255 | E16: =IFERROR(__xludf.dummyfunction("""COMPUTED_VALUE"""),"INFANTIL 3") -> INFANTIL 3 | F16: =IFERROR(__xludf.dummyfunction("""COMPUTED_VALUE"""),"Matutino/Manhã") -> Matutino/Manhã | G16: =IFERROR(__xludf.dummyfunction("""COMPUTED_VALUE"""),"Comum") -> Comum | H16: =IFERROR(__xludf.dummyfunction("""COMPUTED_VALUE"""),"3") -> 3 | I16: =IFERROR(__xludf.dummyfunction("""COMPUTED_VALUE"""),"26062196800") -> 26062196800 | J16: =IFERROR(__xludf.dummyfunction("""COMPUTED_VALUE"""),"22/06/2026 14:09:23") -> 22/06/2026 14:09:23 | K16: =IFERROR(__xludf.dummyfunction("""COMPUTED_VALUE"""),"Isabella Valentina dos Santos") -> Isabella Valentina dos Santos | L16: =IFERROR(__xludf.dummyfunction("""COMPUTED_VALUE"""),"181.388.084-03") -> 181.388.084-03 | M16: =IFERROR(__xludf.dummyfunction("""COMPUTED_VALUE"""),"07/04/2022") -> 07/04/2022 | O16: =IFERROR(__xludf.dummyfunction("""COMPUTED_VALUE"""),"0") -> 0
B17: {=_xlfn.XLOOKUP(D17,Tabela_Dados_Esc_JAB_2026[INEP],Tabela_Dados_Esc_JAB_2026[REGIONAL],"NE",0)} -> REGIONAL 7 | C17: =IFERROR(__xludf.dummyfunction("""COMPUTED_VALUE"""),"CEMEI ELIEL EUSTAQUIO DA SILVA") -> CEMEI ELIEL EUSTAQUIO DA SILVA | D17: =IFERROR(__xludf.dummyfunction("""COMPUTED_VALUE"""),"26109255") -> 26109255 | E17: =IFERROR(__xludf.dummyfunction("""COMPUTED_VALUE"""),"INFANTIL 3") -> INFANTIL 3 | F17: =IFERROR(__xludf.dummyfunction("""COMPUTED_VALUE"""),"Matutino/Manhã") -> Matutino/Manhã | G17: =IFERROR(__xludf.dummyfunction("""COMPUTED_VALUE"""),"Comum") -> Comum | H17: =IFERROR(__xludf.dummyfunction("""COMPUTED_VALUE"""),"4") -> 4 | I17: =IFERROR(__xludf.dummyfunction("""COMPUTED_VALUE"""),"26092251432") -> 26092251432 | J17: =IFERROR(__xludf.dummyfunction("""COMPUTED_VALUE"""),"10/09/2026 09:46:29") -> 10/09/2026 09:46:29 | K17: =IFERROR(__xludf.dummyfunction("""COMPUTED_VALUE"""),"Samuel dos Santos Pereira da Silva") -> Samuel dos Santos Pereira da Silva | L17: =IFERROR(__xludf.dummyfunction("""COMPUTED_VALUE"""),"183.072.104-61") -> 183.072.104-61 | M17: =IFERROR(__xludf.dummyfunction("""COMPUTED_VALUE"""),"08/10/2022") -> 08/10/2022 | O17: =IFERROR(__xludf.dummyfunction("""COMPUTED_VALUE"""),"0") -> 0
B18: {=_xlfn.XLOOKUP(D18,Tabela_Dados_Esc_JAB_2026[INEP],Tabela_Dados_Esc_JAB_2026[REGIONAL],"NE",0)} -> REGIONAL 7 | C18: =IFERROR(__xludf.dummyfunction("""COMPUTED_VALUE"""),"CEMEI ELIEL EUSTAQUIO DA SILVA") -> CEMEI ELIEL EUSTAQUIO DA SILVA | D18: =IFERROR(__xludf.dummyfunction("""COMPUTED_VALUE"""),"26109255") -> 26109255 | E18: =IFERROR(__xludf.dummyfunction("""COMPUTED_VALUE"""),"INFANTIL 4") -> INFANTIL 4 | F18: =IFERROR(__xludf.dummyfunction("""COMPUTED_VALUE"""),"Matutino/Manhã") -> Matutino/Manhã | G18: =IFERROR(__xludf.dummyfunction("""COMPUTED_VALUE"""),"Comum") -> Comum | H18: =IFERROR(__xludf.dummyfunction("""COMPUTED_VALUE"""),"1") -> 1 | I18: =IFERROR(__xludf.dummyfunction("""COMPUTED_VALUE"""),"26012960959") -> 26012960959 | J18: =IFERROR(__xludf.dummyfunction("""COMPUTED_VALUE"""),"28/01/2026 10:18:39") -> 28/01/2026 10:18:39 | K18: =IFERROR(__xludf.dummyfunction("""COMPUTED_VALUE"""),"LAYLA MANUELY DANTAS DIAS DA SILVA") -> LAYLA MANUELY DANTAS DIAS DA SILVA | L18: =IFERROR(__xludf.dummyfunction("""COMPUTED_VALUE"""),"179.149.914-73") -> 179.149.914-73 | M18: =IFERROR(__xludf.dummyfunction("""COMPUTED_VALUE"""),"01/11/2021") -> 01/11/2021 | O18: =IFERROR(__xludf.dummyfunction("""COMPUTED_VALUE"""),"0") -> 0
B19: {=_xlfn.XLOOKUP(D19,Tabela_Dados_Esc_JAB_2026[INEP],Tabela_Dados_Esc_JAB_2026[REGIONAL],"NE",0)} -> REGIONAL 7 | C19: =IFERROR(__xludf.dummyfunction("""COMPUTED_VALUE"""),"CEMEI ELIEL EUSTAQUIO DA SILVA") -> CEMEI ELIEL EUSTAQUIO DA SILVA | D19: =IFERROR(__xludf.dummyfunction("""COMPUTED_VALUE"""),"26109255") -> 26109255 | E19: =IFERROR(__xludf.dummyfunction("""COMPUTED_VALUE"""),"INFANTIL 4") -> INFANTIL 4 | F19: =IFERROR(__xludf.dummyfunction("""COMPUTED_VALUE"""),"Matutino/Manhã") -> Matutino/Manhã | G19: =IFERROR(__xludf.dummyfunction("""COMPUTED_VALUE"""),"Comum") -> Comum | H19: =IFERROR(__xludf.dummyfunction("""COMPUTED_VALUE"""),"2") -> 2 | I19: =IFERROR(__xludf.dummyfunction("""COMPUTED_VALUE"""),"26012514123") -> 26012514123 | J19: =IFERROR(__xludf.dummyfunction("""COMPUTED_VALUE"""),"28/01/2026 10:27:27") -> 28/01/2026 10:27:27 | K19: =IFERROR(__xludf.dummyfunction("""COMPUTED_VALUE"""),"KALEL MATHIAS SILVA DO NASCIMENTO") -> KALEL MATHIAS SILVA DO NASCIMENTO | L19: =IFERROR(__xludf.dummyfunction("""COMPUTED_VALUE"""),"179.890.114-50") -> 179.890.114-50 | M19: =IFERROR(__xludf.dummyfunction("""COMPUTED_VALUE"""),"21/11/2021") -> 21/11/2021 | O19: =IFERROR(__xludf.dummyfunction("""COMPUTED_VALUE"""),"0") -> 0
B20: {=_xlfn.XLOOKUP(D20,Tabela_Dados_Esc_JAB_2026[INEP],Tabela_Dados_Esc_JAB_2026[REGIONAL],"NE",0)} -> REGIONAL 7 | C20: =IFERROR(__xludf.dummyfunction("""COMPUTED_VALUE"""),"CEMEI ELIEL EUSTAQUIO DA SILVA") -> CEMEI ELIEL EUSTAQUIO DA SILVA | D20: =IFERROR(__xludf.dummyfunction("""COMPUTED_VALUE"""),"26109255") -> 26109255 | E20: =IFERROR(__xludf.dummyfunction("""COMPUTED_VALUE"""),"INFANTIL 4") -> INFANTIL 4 | F20: =IFERROR(__xludf.dummyfunction("""COMPUTED_VALUE"""),"Matutino/Manhã") -> Matutino/Manhã | G20: =IFERROR(__xludf.dummyfunction("""COMPUTED_VALUE"""),"Comum") -> Comum | H20: =IFERROR(__xludf.dummyfunction("""COMPUTED_VALUE"""),"3") -> 3 | I20: =IFERROR(__xludf.dummyfunction("""COMPUTED_VALUE"""),"26012851393") -> 26012851393 | J20: =IFERROR(__xludf.dummyfunction("""COMPUTED_VALUE"""),"29/01/2026 21:02:49") -> 29/01/2026 21:02:49 | K20: =IFERROR(__xludf.dummyfunction("""COMPUTED_VALUE"""),"BRYAN RAVI PRIMO DA SILVA") -> BRYAN RAVI PRIMO DA SILVA | L20: =IFERROR(__xludf.dummyfunction("""COMPUTED_VALUE"""),"179.610.804-90") -> 179.610.804-90 | M20: =IFERROR(__xludf.dummyfunction("""COMPUTED_VALUE"""),"12/12/2021") -> 12/12/2021 | O20: =IFERROR(__xludf.dummyfunction("""COMPUTED_VALUE"""),"0") -> 0
B21: {=_xlfn.XLOOKUP(D21,Tabela_Dados_Esc_JAB_2026[INEP],Tabela_Dados_Esc_JAB_2026[REGIONAL],"NE",0)} -> REGIONAL 7 | C21: =IFERROR(__xludf.dummyfunction("""COMPUTED_VALUE"""),"CEMEI ELIEL EUSTAQUIO DA SILVA") -> CEMEI ELIEL EUSTAQUIO DA SILVA | D21: =IFERROR(__xludf.dummyfunction("""COMPUTED_VALUE"""),"26109255") -> 26109255 | E21: =IFERROR(__xludf.dummyfunction("""COMPUTED_VALUE"""),"INFANTIL 4") -> INFANTIL 4 | F21: =IFERROR(__xludf.dummyfunction("""COMPUTED_VALUE"""),"Matutino/Manhã") -> Matutino/Manhã | G21: =IFERROR(__xludf.dummyfunction("""COMPUTED_VALUE"""),"Comum") -> Comum | H21: =IFERROR(__xludf.dummyfunction("""COMPUTED_VALUE"""),"4") -> 4 | I21: =IFERROR(__xludf.dummyfunction("""COMPUTED_VALUE"""),"26022367185") -> 26022367185 | J21: =IFERROR(__xludf.dummyfunction("""COMPUTED_VALUE"""),"03/02/2026 09:59:50") -> 03/02/2026 09:59:50 | K21: =IFERROR(__xludf.dummyfunction("""COMPUTED_VALUE"""),"ANTHONY GAEL CACIANO FRANÇA VIEIRA") -> ANTHONY GAEL CACIANO FRANÇA VIEIRA | L21: =IFERROR(__xludf.dummyfunction("""COMPUTED_VALUE"""),"180.577.814-59") -> 180.577.814-59 | M21: =IFERROR(__xludf.dummyfunction("""COMPUTED_VALUE"""),"20/02/2022") -> 20/02/2022 | O21: =IFERROR(__xludf.dummyfunction("""COMPUTED_VALUE"""),"0") -> 0
B22: {=_xlfn.XLOOKUP(D22,Tabela_Dados_Esc_JAB_2026[INEP],Tabela_Dados_Esc_JAB_2026[REGIONAL],"NE",0)} -> REGIONAL 7 | C22: =IFERROR(__xludf.dummyfunction("""COMPUTED_VALUE"""),"CEMEI ELIEL EUSTAQUIO DA SILVA") -> CEMEI ELIEL EUSTAQUIO DA SILVA | D22: =IFERROR(__xludf.dummyfunction("""COMPUTED_VALUE"""),"26109255") -> 26109255 | E22: =IFERROR(__xludf.dummyfunction("""COMPUTED_VALUE"""),"INFANTIL 4") -> INFANTIL 4 | F22: =IFERROR(__xludf.dummyfunction("""COMPUTED_VALUE"""),"Matutino/Manhã") -> Matutino/Manhã | G22: =IFERROR(__xludf.dummyfunction("""COMPUTED_VALUE"""),"Comum") -> Comum | H22: =IFERROR(__xludf.dummyfunction("""COMPUTED_VALUE"""),"5") -> 5 | I22: =IFERROR(__xludf.dummyfunction("""COMPUTED_VALUE"""),"26022615852") -> 26022615852 | J22: =IFERROR(__xludf.dummyfunction("""COMPUTED_VALUE"""),"05/02/2026 11:30:23") -> 05/02/2026 11:30:23 | K22: =IFERROR(__xludf.dummyfunction("""COMPUTED_VALUE"""),"JEFFERSON WILLIAM ALVES DA SILVA") -> JEFFERSON WILLIAM ALVES DA SILVA | L22: =IFERROR(__xludf.dummyfunction("""COMPUTED_VALUE"""),"180.705.954-50") -> 180.705.954-50 | M22: =IFERROR(__xludf.dummyfunction("""COMPUTED_VALUE"""),"01/03/2022") -> 01/03/2022 | O22: =IFERROR(__xludf.dummyfunction("""COMPUTED_VALUE"""),"0") -> 0
B23: {=_xlfn.XLOOKUP(D23,Tabela_Dados_Esc_JAB_2026[INEP],Tabela_Dados_Esc_JAB_2026[REGIONAL],"NE",0)} -> REGIONAL 7 | C23: =IFERROR(__xludf.dummyfunction("""COMPUTED_VALUE"""),"CEMEI ELIEL EUSTAQUIO DA SILVA") -> CEMEI ELIEL EUSTAQUIO DA SILVA | D23: =IFERROR(__xludf.dummyfunction("""COMPUTED_VALUE"""),"26109255") -> 26109255 | E23: =IFERROR(__xludf.dummyfunction("""COMPUTED_VALUE"""),"INFANTIL 4") -> INFANTIL 4 | F23: =IFERROR(__xludf.dummyfunction("""COMPUTED_VALUE"""),"Matutino/Manhã") -> Matutino/Manhã | G23: =IFERROR(__xludf.dummyfunction("""COMPUTED_VALUE"""),"Comum") -> Comum | H23: =IFERROR(__xludf.dummyfunction("""COMPUTED_VALUE"""),"6") -> 6 | I23: =IFERROR(__xludf.dummyfunction("""COMPUTED_VALUE"""),"26022967127") -> 26022967127 | J23: =IFERROR(__xludf.dummyfunction("""COMPUTED_VALUE"""),"05/02/2026 11:43:49") -> 05/02/2026 11:43:49 | K23: =IFERROR(__xludf.dummyfunction("""COMPUTED_VALUE"""),"EDUARDO LUIZ PEREIRA DOS SANTOS") -> EDUARDO LUIZ PEREIRA DOS SANTOS | L23: =IFERROR(__xludf.dummyfunction("""COMPUTED_VALUE"""),"180.724.984-01") -> 180.724.984-01 | M23: =IFERROR(__xludf.dummyfunction("""COMPUTED_VALUE"""),"26/01/2022") -> 26/01/2022 | O23: =IFERROR(__xludf.dummyfunction("""COMPUTED_VALUE"""),"0") -> 0
B24: {=_xlfn.XLOOKUP(D24,Tabela_Dados_Esc_JAB_2026[INEP],Tabela_Dados_Esc_JAB_2026[REGIONAL],"NE",0)} -> REGIONAL 7 | C24: =IFERROR(__xludf.dummyfunction("""COMPUTED_VALUE"""),"CEMEI ELIEL EUSTAQUIO DA SILVA") -> CEMEI ELIEL EUSTAQUIO DA SILVA | D24: =IFERROR(__xludf.dummyfunction("""COMPUTED_VALUE"""),"26109255") -> 26109255 | E24: =IFERROR(__xludf.dummyfunction("""COMPUTED_VALUE"""),"INFANTIL 4") -> INFANTIL 4 | F24: =IFERROR(__xludf.dummyfunction("""COMPUTED_VALUE"""),"Matutino/Manhã") -> Matutino/Manhã | G24: =IFERROR(__xludf.dummyfunction("""COMPUTED_VALUE"""),"Comum") -> Comum | H24: =IFERROR(__xludf.dummyfunction("""COMPUTED_VALUE"""),"7") -> 7 | I24: =IFERROR(__xludf.dummyfunction("""COMPUTED_VALUE"""),"26022109575") -> 26022109575 | J24: =IFERROR(__xludf.dummyfunction("""COMPUTED_VALUE"""),"09/02/2026 08:33:33") -> 09/02/2026 08:33:33 | K24: =IFERROR(__xludf.dummyfunction("""COMPUTED_VALUE"""),"EDERSON GABRIEL DA SILVA SANTOS GOIS") -> EDERSON GABRIEL DA SILVA SANTOS GOIS | L24: =IFERROR(__xludf.dummyfunction("""COMPUTED_VALUE"""),"181.265.684-02") -> 181.265.684-02 | M24: =IFERROR(__xludf.dummyfunction("""COMPUTED_VALUE"""),"17/02/2022") -> 17/02/2022 | O24: =IFERROR(__xludf.dummyfunction("""COMPUTED_VALUE"""),"0") -> 0
B25: {=_xlfn.XLOOKUP(D25,Tabela_Dados_Esc_JAB_2026[INEP],Tabela_Dados_Esc_JAB_2026[REGIONAL],"NE",0)} -> REGIONAL 7 | C25: =IFERROR(__xludf.dummyfunction("""COMPUTED_VALUE"""),"CEMEI ELIEL EUSTAQUIO DA SILVA") -> CEMEI ELIEL EUSTAQUIO DA SILVA | D25: =IFERROR(__xludf.dummyfunction("""COMPUTED_VALUE"""),"26109255") -> 26109255 | E25: =IFERROR(__xludf.dummyfunction("""COMPUTED_VALUE"""),"INFANTIL 4") -> INFANTIL 4 | F25: =IFERROR(__xludf.dummyfunction("""COMPUTED_VALUE"""),"Matutino/Manhã") -> Matutino/Manhã | G25: =IFERROR(__xludf.dummyfunction("""COMPUTED_VALUE"""),"Comum") -> Comum | H25: =IFERROR(__xludf.dummyfunction("""COMPUTED_VALUE"""),"8") -> 8 | I25: =IFERROR(__xludf.dummyfunction("""COMPUTED_VALUE"""),"26022674866") -> 26022674866 | J25: =IFERROR(__xludf.dummyfunction("""COMPUTED_VALUE"""),"10/02/2026 08:38:18") -> 10/02/2026 08:38:18 | K25: =IFERROR(__xludf.dummyfunction("""COMPUTED_VALUE"""),"ALLÍCYA SOPHIA E SILVA RODRIGUES") -> ALLÍCYA SOPHIA E SILVA RODRIGUES | L25: =IFERROR(__xludf.dummyfunction("""COMPUTED_VALUE"""),"178.859.044-90") -> 178.859.044-90 | M25: =IFERROR(__xludf.dummyfunction("""COMPUTED_VALUE"""),"21/10/2021") -> 21/10/2021 | O25: =IFERROR(__xludf.dummyfunction("""COMPUTED_VALUE"""),"0") -> 0
B26: {=_xlfn.XLOOKUP(D26,Tabela_Dados_Esc_JAB_2026[INEP],Tabela_Dados_Esc_JAB_2026[REGIONAL],"NE",0)} -> REGIONAL 7 | C26: =IFERROR(__xludf.dummyfunction("""COMPUTED_VALUE"""),"CEMEI ELIEL EUSTAQUIO DA SILVA") -> CEMEI ELIEL EUSTAQUIO DA SILVA | D26: =IFERROR(__xludf.dummyfunction("""COMPUTED_VALUE"""),"26109255") -> 26109255 | E26: =IFERROR(__xludf.dummyfunction("""COMPUTED_VALUE"""),"INFANTIL 4") -> INFANTIL 4 | F26: =IFERROR(__xludf.dummyfunction("""COMPUTED_VALUE"""),"Matutino/Manhã") -> Matutino/Manhã | G26: =IFERROR(__xludf.dummyfunction("""COMPUTED_VALUE"""),"Comum") -> Comum | H26: =IFERROR(__xludf.dummyfunction("""COMPUTED_VALUE"""),"9") -> 9 | I26: =IFERROR(__xludf.dummyfunction("""COMPUTED_VALUE"""),"26032523852") -> 26032523852 | J26: =IFERROR(__xludf.dummyfunction("""COMPUTED_VALUE"""),"26/03/2026 15:15:54") -> 26/03/2026 15:15:54 | K26: =IFERROR(__xludf.dummyfunction("""COMPUTED_VALUE"""),"YOHANNA LARISSA BARBOSA LOPES") -> YOHANNA LARISSA BARBOSA LOPES | L26: =IFERROR(__xludf.dummyfunction("""COMPUTED_VALUE"""),"176.892.574-70") -> 176.892.574-70 | M26: =IFERROR(__xludf.dummyfunction("""COMPUTED_VALUE"""),"30/05/2021") -> 30/05/2021 | O26: =IFERROR(__xludf.dummyfunction("""COMPUTED_VALUE"""),"0") -> 0
B27: {=_xlfn.XLOOKUP(D27,Tabela_Dados_Esc_JAB_2026[INEP],Tabela_Dados_Esc_JAB_2026[REGIONAL],"NE",0)} -> REGIONAL 7 | C27: =IFERROR(__xludf.dummyfunction("""COMPUTED_VALUE"""),"CEMEI ELIEL EUSTAQUIO DA SILVA") -> CEMEI ELIEL EUSTAQUIO DA SILVA | D27: =IFERROR(__xludf.dummyfunction("""COMPUTED_VALUE"""),"26109255") -> 26109255 | E27: =IFERROR(__xludf.dummyfunction("""COMPUTED_VALUE"""),"INFANTIL 4") -> INFANTIL 4 | F27: =IFERROR(__xludf.dummyfunction("""COMPUTED_VALUE"""),"Matutino/Manhã") -> Matutino/Manhã | G27: =IFERROR(__xludf.dummyfunction("""COMPUTED_VALUE"""),"Comum") -> Comum | H27: =IFERROR(__xludf.dummyfunction("""COMPUTED_VALUE"""),"10") -> 10 | I27: =IFERROR(__xludf.dummyfunction("""COMPUTED_VALUE"""),"26042354258") -> 26042354258 | J27: =IFERROR(__xludf.dummyfunction("""COMPUTED_VALUE"""),"09/04/2026 13:55:24") -> 09/04/2026 13:55:24 | K27: =IFERROR(__xludf.dummyfunction("""COMPUTED_VALUE"""),"DAVI EMANUEL FARIAS GINO") -> DAVI EMANUEL FARIAS GINO | L27: =IFERROR(__xludf.dummyfunction("""COMPUTED_VALUE"""),"178.842.614-21") -> 178.842.614-21 | M27: =IFERROR(__xludf.dummyfunction("""COMPUTED_VALUE"""),"16/10/2021") -> 16/10/2021 | O27: =IFERROR(__xludf.dummyfunction("""COMPUTED_VALUE"""),"0") -> 0
B28: {=_xlfn.XLOOKUP(D28,Tabela_Dados_Esc_JAB_2026[INEP],Tabela_Dados_Esc_JAB_2026[REGIONAL],"NE",0)} -> REGIONAL 7 | C28: =IFERROR(__xludf.dummyfunction("""COMPUTED_VALUE"""),"CEMEI ELIEL EUSTAQUIO DA SILVA") -> CEMEI ELIEL EUSTAQUIO DA SILVA | D28: =IFERROR(__xludf.dummyfunction("""COMPUTED_VALUE"""),"26109255") -> 26109255 | E28: =IFERROR(__xludf.dummyfunction("""COMPUTED_VALUE"""),"INFANTIL 4") -> INFANTIL 4 | F28: =IFERROR(__xludf.dummyfunction("""COMPUTED_VALUE"""),"Matutino/Manhã") -> Matutino/Manhã | G28: =IFERROR(__xludf.dummyfunction("""COMPUTED_VALUE"""),"Comum") -> Comum | H28: =IFERROR(__xludf.dummyfunction("""COMPUTED_VALUE"""),"11") -> 11 | I28: =IFERROR(__xludf.dummyfunction("""COMPUTED_VALUE"""),"26052109575") -> 26052109575 | J28: =IFERROR(__xludf.dummyfunction("""COMPUTED_VALUE"""),"27/05/2026 11:45:30") -> 27/05/2026 11:45:30 | K28: =IFERROR(__xludf.dummyfunction("""COMPUTED_VALUE"""),"Maria Beatriz da rocha Campelo") -> Maria Beatriz da rocha Campelo | L28: =IFERROR(__xludf.dummyfunction("""COMPUTED_VALUE"""),"177.413.554-06") -> 177.413.554-06 | M28: =IFERROR(__xludf.dummyfunction("""COMPUTED_VALUE"""),"09/07/2021") -> 09/07/2021 | O28: =IFERROR(__xludf.dummyfunction("""COMPUTED_VALUE"""),"0") -> 0
B29: {=_xlfn.XLOOKUP(D29,Tabela_Dados_Esc_JAB_2026[INEP],Tabela_Dados_Esc_JAB_2026[REGIONAL],"NE",0)} -> REGIONAL 7 | C29: =IFERROR(__xludf.dummyfunction("""COMPUTED_VALUE"""),"CEMEI JOÃO FERNANDES VIEIRA") -> CEMEI JOÃO FERNANDES VIEIRA | D29: =IFERROR(__xludf.dummyfunction("""COMPUTED_VALUE"""),"26109530") -> 26109530 | E29: =IFERROR(__xludf.dummyfunction("""COMPUTED_VALUE"""),"INFANTIL 4") -> INFANTIL 4 | F29: =IFERROR(__xludf.dummyfunction("""COMPUTED_VALUE"""),"Matutino/Manhã") -> Matutino/Manhã | G29: =IFERROR(__xludf.dummyfunction("""COMPUTED_VALUE"""),"Comum") -> Comum | H29: =IFERROR(__xludf.dummyfunction("""COMPUTED_VALUE"""),"1") -> 1 | I29: =IFERROR(__xludf.dummyfunction("""COMPUTED_VALUE"""),"26012511040") -> 26012511040 | J29: =IFERROR(__xludf.dummyfunction("""COMPUTED_VALUE"""),"28/01/2026 08:40:52") -> 28/01/2026 08:40:52 | K29: =IFERROR(__xludf.dummyfunction("""COMPUTED_VALUE"""),"VITORIA ALVES BELO DA SILVA") -> VITORIA ALVES BELO DA SILVA | L29: =IFERROR(__xludf.dummyfunction("""COMPUTED_VALUE"""),"177.337.994-14") -> 177.337.994-14 | M29: =IFERROR(__xludf.dummyfunction("""COMPUTED_VALUE"""),"05/07/2021") -> 05/07/2021 | O29: =IFERROR(__xludf.dummyfunction("""COMPUTED_VALUE"""),"0") -> 0
B30: {=_xlfn.XLOOKUP(D30,Tabela_Dados_Esc_JAB_2026[INEP],Tabela_Dados_Esc_JAB_2026[REGIONAL],"NE",0)} -> REGIONAL 7 | C30: =IFERROR(__xludf.dummyfunction("""COMPUTED_VALUE"""),"CEMEI JOÃO FERNANDES VIEIRA") -> CEMEI JOÃO FERNANDES VIEIRA | D30: =IFERROR(__xludf.dummyfunction("""COMPUTED_VALUE"""),"26109530") -> 26109530 | E30: =IFERROR(__xludf.dummyfunction("""COMPUTED_VALUE"""),"INFANTIL 4") -> INFANTIL 4 | F30: =IFERROR(__xludf.dummyfunction("""COMPUTED_VALUE"""),"Matutino/Manhã") -> Matutino/Manhã | G30: =IFERROR(__xludf.dummyfunction("""COMPUTED_VALUE"""),"Comum") -> Comum | H30: =IFERROR(__xludf.dummyfunction("""COMPUTED_VALUE"""),"2") -> 2 | I30: =IFERROR(__xludf.dummyfunction("""COMPUTED_VALUE"""),"26022386245") -> 26022386245 | J30: =IFERROR(__xludf.dummyfunction("""COMPUTED_VALUE"""),"04/02/2026 10:08:37") -> 04/02/2026 10:08:37 | K30: =IFERROR(__xludf.dummyfunction("""COMPUTED_VALUE"""),"MARIA VALLENTHINA SOPHIA NASCIMENTO") -> MARIA VALLENTHINA SOPHIA NASCIMENTO | L30: =IFERROR(__xludf.dummyfunction("""COMPUTED_VALUE"""),"180.367.124-66") -> 180.367.124-66 | M30: =IFERROR(__xludf.dummyfunction("""COMPUTED_VALUE"""),"04/02/2022") -> 04/02/2022 | O30: =IFERROR(__xludf.dummyfunction("""COMPUTED_VALUE"""),"0") -> 0
B31: {=_xlfn.XLOOKUP(D31,Tabela_Dados_Esc_JAB_2026[INEP],Tabela_Dados_Esc_JAB_2026[REGIONAL],"NE",0)} -> REGIONAL 7 | C31: =IFERROR(__xludf.dummyfunction("""COMPUTED_VALUE"""),"CEMEI JOÃO FERNANDES VIEIRA") -> CEMEI JOÃO FERNANDES VIEIRA | D31: =IFERROR(__xludf.dummyfunction("""COMPUTED_VALUE"""),"26109530") -> 26109530 | E31: =IFERROR(__xludf.dummyfunction("""COMPUTED_VALUE"""),"INFANTIL 4") -> INFANTIL 4 | F31: =IFERROR(__xludf.dummyfunction("""COMPUTED_VALUE"""),"Vespertino/Tarde") -> Vespertino/Tarde | G31: =IFERROR(__xludf.dummyfunction("""COMPUTED_VALUE"""),"Comum") -> Comum | H31: =IFERROR(__xludf.dummyfunction("""COMPUTED_VALUE"""),"1") -> 1 | I31: =IFERROR(__xludf.dummyfunction("""COMPUTED_VALUE"""),"26012971328") -> 26012971328 | J31: =IFERROR(__xludf.dummyfunction("""COMPUTED_VALUE"""),"29/01/2026 12:10:37") -> 29/01/2026 12:10:37 | K31: =IFERROR(__xludf.dummyfunction("""COMPUTED_VALUE"""),"MARIA CLARA DA SILVA") -> MARIA CLARA DA SILVA | L31: =IFERROR(__xludf.dummyfunction("""COMPUTED_VALUE"""),"177.832.344-88") -> 177.832.344-88 | M31: =IFERROR(__xludf.dummyfunction("""COMPUTED_VALUE"""),"30/04/2021") -> 30/04/2021 | O31: =IFERROR(__xludf.dummyfunction("""COMPUTED_VALUE"""),"0") -> 0
B32: {=_xlfn.XLOOKUP(D32,Tabela_Dados_Esc_JAB_2026[INEP],Tabela_Dados_Esc_JAB_2026[REGIONAL],"NE",0)} -> REGIONAL 7 | C32: =IFERROR(__xludf.dummyfunction("""COMPUTED_VALUE"""),"CEMEI JOÃO FERNANDES VIEIRA") -> CEMEI JOÃO FERNANDES VIEIRA | D32: =IFERROR(__xludf.dummyfunction("""COMPUTED_VALUE"""),"26109530") -> 26109530 | E32: =IFERROR(__xludf.dummyfunction("""COMPUTED_VALUE"""),"INFANTIL 5") -> INFANTIL 5 | F32: =IFERROR(__xludf.dummyfunction("""COMPUTED_VALUE"""),"Matutino/Manhã") -> Matutino/Manhã | G32: =IFERROR(__xludf.dummyfunction("""COMPUTED_VALUE"""),"Comum") -> Comum | H32: =IFERROR(__xludf.dummyfunction("""COMPUTED_VALUE"""),"1") -> 1 | I32: =IFERROR(__xludf.dummyfunction("""COMPUTED_VALUE"""),"26022172975") -> 26022172975 | J32: =IFERROR(__xludf.dummyfunction("""COMPUTED_VALUE"""),"02/02/2026 08:05:51") -> 02/02/2026 08:05:51 | K32: =IFERROR(__xludf.dummyfunction("""COMPUTED_VALUE"""),"GUILHERME BELO DA SILVA") -> GUILHERME BELO DA SILVA | L32: =IFERROR(__xludf.dummyfunction("""COMPUTED_VALUE"""),"171.947.514-88") -> 171.947.514-88 | M32: =IFERROR(__xludf.dummyfunction("""COMPUTED_VALUE"""),"21/05/2020") -> 21/05/2020 | O32: =IFERROR(__xludf.dummyfunction("""COMPUTED_VALUE"""),"0") -> 0
B33: {=_xlfn.XLOOKUP(D33,Tabela_Dados_Esc_JAB_2026[INEP],Tabela_Dados_Esc_JAB_2026[REGIONAL],"NE",0)} -> REGIONAL 6 | C33: =IFERROR(__xludf.dummyfunction("""COMPUTED_VALUE"""),"CEMEI LIGIA ARAUJO DE OLIVEIRA") -> CEMEI LIGIA ARAUJO DE OLIVEIRA | D33: =IFERROR(__xludf.dummyfunction("""COMPUTED_VALUE"""),"26191300") -> 26191300 | E33: =IFERROR(__xludf.dummyfunction("""COMPUTED_VALUE"""),"INFANTIL 1") -> INFANTIL 1 | F33: =IFERROR(__xludf.dummyfunction("""COMPUTED_VALUE"""),"Integral") -> Integral | G33: =IFERROR(__xludf.dummyfunction("""COMPUTED_VALUE"""),"Comum") -> Comum | H33: =IFERROR(__xludf.dummyfunction("""COMPUTED_VALUE"""),"1") -> 1 | I33: =IFERROR(__xludf.dummyfunction("""COMPUTED_VALUE"""),"26032957457") -> 26032957457 | J33: =IFERROR(__xludf.dummyfunction("""COMPUTED_VALUE"""),"09/03/2026 17:29:00") -> 09/03/2026 17:29:00 | K33: =IFERROR(__xludf.dummyfunction("""COMPUTED_VALUE"""),"MIGUEL DE CARVALHO MELO CARDOSO") -> MIGUEL DE CARVALHO MELO CARDOSO | L33: =IFERROR(__xludf.dummyfunction("""COMPUTED_VALUE"""),"003.288.894-58") -> 003.288.894-58 | M33: =IFERROR(__xludf.dummyfunction("""COMPUTED_VALUE"""),"21/05/2024") -> 21/05/2024 | O33: =IFERROR(__xludf.dummyfunction("""COMPUTED_VALUE"""),"0") -> 0
B34: {=_xlfn.XLOOKUP(D34,Tabela_Dados_Esc_JAB_2026[INEP],Tabela_Dados_Esc_JAB_2026[REGIONAL],"NE",0)} -> REGIONAL 6 | C34: =IFERROR(__xludf.dummyfunction("""COMPUTED_VALUE"""),"CEMEI LIGIA ARAUJO DE OLIVEIRA") -> CEMEI LIGIA ARAUJO DE OLIVEIRA | D34: =IFERROR(__xludf.dummyfunction("""COMPUTED_VALUE"""),"26191300") -> 26191300 | E34: =IFERROR(__xludf.dummyfunction("""COMPUTED_VALUE"""),"INFANTIL 1") -> INFANTIL 1 | F34: =IFERROR(__xludf.dummyfunction("""COMPUTED_VALUE"""),"Integral") -> Integral | G34: =IFERROR(__xludf.dummyfunction("""COMPUTED_VALUE"""),"Comum") -> Comum | H34: =IFERROR(__xludf.dummyfunction("""COMPUTED_VALUE"""),"2") -> 2 | I34: =IFERROR(__xludf.dummyfunction("""COMPUTED_VALUE"""),"26032662209") -> 26032662209 | J34: =IFERROR(__xludf.dummyfunction("""COMPUTED_VALUE"""),"23/03/2026 19:01:28") -> 23/03/2026 19:01:28 | K34: =IFERROR(__xludf.dummyfunction("""COMPUTED_VALUE"""),"LIAN SALAZAR SERNA") -> LIAN SALAZAR SERNA | L34: =IFERROR(__xludf.dummyfunction("""COMPUTED_VALUE"""),"003.732.314-82") -> 003.732.314-82 | M34: =IFERROR(__xludf.dummyfunction("""COMPUTED_VALUE"""),"15/05/2024") -> 15/05/2024 | O34: =IFERROR(__xludf.dummyfunction("""COMPUTED_VALUE"""),"0") -> 0
B35: {=_xlfn.XLOOKUP(D35,Tabela_Dados_Esc_JAB_2026[INEP],Tabela_Dados_Esc_JAB_2026[REGIONAL],"NE",0)} -> REGIONAL 6 | C35: =IFERROR(__xludf.dummyfunction("""COMPUTED_VALUE"""),"CEMEI LIGIA ARAUJO DE OLIVEIRA") -> CEMEI LIGIA ARAUJO DE OLIVEIRA | D35: =IFERROR(__xludf.dummyfunction("""COMPUTED_VALUE"""),"26191300") -> 26191300 | E35: =IFERROR(__xludf.dummyfunction("""COMPUTED_VALUE"""),"INFANTIL 1") -> INFANTIL 1 | F35: =IFERROR(__xludf.dummyfunction("""COMPUTED_VALUE"""),"Integral") -> Integral | G35: =IFERROR(__xludf.dummyfunction("""COMPUTED_VALUE"""),"Comum") -> Comum | H35: =IFERROR(__xludf.dummyfunction("""COMPUTED_VALUE"""),"3") -> 3 | I35: =IFERROR(__xludf.dummyfunction("""COMPUTED_VALUE"""),"26082426504") -> 26082426504 | J35: =IFERROR(__xludf.dummyfunction("""COMPUTED_VALUE"""),"25/08/2026 13:04:30") -> 25/08/2026 13:04:30 | K35: =IFERROR(__xludf.dummyfunction("""COMPUTED_VALUE"""),"Lucca ravi do santos ferraz") -> Lucca ravi do santos ferraz | L35: =IFERROR(__xludf.dummyfunction("""COMPUTED_VALUE"""),"037.044.904-58") -> 037.044.904-58 | M35: =IFERROR(__xludf.dummyfunction("""COMPUTED_VALUE"""),"26/12/2025") -> 26/12/2025 | O35: =IFERROR(__xludf.dummyfunction("""COMPUTED_VALUE"""),"0") -> 0
B36: {=_xlfn.XLOOKUP(D36,Tabela_Dados_Esc_JAB_2026[INEP],Tabela_Dados_Esc_JAB_2026[REGIONAL],"NE",0)} -> REGIONAL 6 | C36: =IFERROR(__xludf.dummyfunction("""COMPUTED_VALUE"""),"CEMEI LIGIA ARAUJO DE OLIVEIRA") -> CEMEI LIGIA ARAUJO DE OLIVEIRA | D36: =IFERROR(__xludf.dummyfunction("""COMPUTED_VALUE"""),"26191300") -> 26191300 | E36: =IFERROR(__xludf.dummyfunction("""COMPUTED_VALUE"""),"INFANTIL 1") -> INFANTIL 1 | F36: =IFERROR(__xludf.dummyfunction("""COMPUTED_VALUE"""),"Integral") -> Integral | G36: =IFERROR(__xludf.dummyfunction("""COMPUTED_VALUE"""),"Comum") -> Comum | H36: =IFERROR(__xludf.dummyfunction("""COMPUTED_VALUE"""),"4") -> 4 | I36: =IFERROR(__xludf.dummyfunction("""COMPUTED_VALUE"""),"26082015595") -> 26082015595 | J36: =IFERROR(__xludf.dummyfunction("""COMPUTED_VALUE"""),"29/08/2026 22:31:44") -> 29/08/2026 22:31:44 | K36: =IFERROR(__xludf.dummyfunction("""COMPUTED_VALUE"""),"Benício Alves Silva") -> Benício Alves Silva | L36: =IFERROR(__xludf.dummyfunction("""COMPUTED_VALUE"""),"007.002.114-70") -> 007.002.114-70 | M36: =IFERROR(__xludf.dummyfunction("""COMPUTED_VALUE"""),"05/08/2025") -> 05/08/2025 | O36: =IFERROR(__xludf.dummyfunction("""COMPUTED_VALUE"""),"0") -> 0
B37: {=_xlfn.XLOOKUP(D37,Tabela_Dados_Esc_JAB_2026[INEP],Tabela_Dados_Esc_JAB_2026[REGIONAL],"NE",0)} -> REGIONAL 6 | C37: =IFERROR(__xludf.dummyfunction("""COMPUTED_VALUE"""),"CEMEI LIGIA ARAUJO DE OLIVEIRA") -> CEMEI LIGIA ARAUJO DE OLIVEIRA | D37: =IFERROR(__xludf.dummyfunction("""COMPUTED_VALUE"""),"26191300") -> 26191300 | E37: =IFERROR(__xludf.dummyfunction("""COMPUTED_VALUE"""),"INFANTIL 2") -> INFANTIL 2 | F37: =IFERROR(__xludf.dummyfunction("""COMPUTED_VALUE"""),"Integral") -> Integral | G37: =IFERROR(__xludf.dummyfunction("""COMPUTED_VALUE"""),"Comum") -> Comum | H37: =IFERROR(__xludf.dummyfunction("""COMPUTED_VALUE"""),"1") -> 1 | I37: =IFERROR(__xludf.dummyfunction("""COMPUTED_VALUE"""),"26012747238") -> 26012747238 | J37: =IFERROR(__xludf.dummyfunction("""COMPUTED_VALUE"""),"28/01/2026 08:07:40") -> 28/01/2026 08:07:40 | K37: =IFERROR(__xludf.dummyfunction("""COMPUTED_VALUE"""),"ÍCARO MIGUEL ESPÍNDOLA DA SILVA") -> ÍCARO MIGUEL ESPÍNDOLA DA SILVA | L37: =IFERROR(__xludf.dummyfunction("""COMPUTED_VALUE"""),"001.566.454-67") -> 001.566.454-67 | M37: =IFERROR(__xludf.dummyfunction("""COMPUTED_VALUE"""),"19/08/2023") -> 19/08/2023 | O37: =IFERROR(__xludf.dummyfunction("""COMPUTED_VALUE"""),"0") -> 0
B38: {=_xlfn.XLOOKUP(D38,Tabela_Dados_Esc_JAB_2026[INEP],Tabela_Dados_Esc_JAB_2026[REGIONAL],"NE",0)} -> REGIONAL 6 | C38: =IFERROR(__xludf.dummyfunction("""COMPUTED_VALUE"""),"CEMEI LIGIA ARAUJO DE OLIVEIRA") -> CEMEI LIGIA ARAUJO DE OLIVEIRA | D38: =IFERROR(__xludf.dummyfunction("""COMPUTED_VALUE"""),"26191300") -> 26191300 | E38: =IFERROR(__xludf.dummyfunction("""COMPUTED_VALUE"""),"INFANTIL 2") -> INFANTIL 2 | F38: =IFERROR(__xludf.dummyfunction("""COMPUTED_VALUE"""),"Integral") -> Integral | G38: =IFERROR(__xludf.dummyfunction("""COMPUTED_VALUE"""),"Comum") -> Comum | H38: =IFERROR(__xludf.dummyfunction("""COMPUTED_VALUE"""),"2") -> 2 | I38: =IFERROR(__xludf.dummyfunction("""COMPUTED_VALUE"""),"26012677600") -> 26012677600 | J38: =IFERROR(__xludf.dummyfunction("""COMPUTED_VALUE"""),"29/01/2026 10:35:38") -> 29/01/2026 10:35:38 | K38: =IFERROR(__xludf.dummyfunction("""COMPUTED_VALUE"""),"OLIVER HEITOR LINS LIRA") -> OLIVER HEITOR LINS LIRA | L38: =IFERROR(__xludf.dummyfunction("""COMPUTED_VALUE"""),"185.479.534-18") -> 185.479.534-18 | M38: =IFERROR(__xludf.dummyfunction("""COMPUTED_VALUE"""),"27/05/2023") -> 27/05/2023 | O38: =IFERROR(__xludf.dummyfunction("""COMPUTED_VALUE"""),"0") -> 0
B39: {=_xlfn.XLOOKUP(D39,Tabela_Dados_Esc_JAB_2026[INEP],Tabela_Dados_Esc_JAB_2026[REGIONAL],"NE",0)} -> REGIONAL 6 | C39: =IFERROR(__xludf.dummyfunction("""COMPUTED_VALUE"""),"CEMEI LIGIA ARAUJO DE OLIVEIRA") -> CEMEI LIGIA ARAUJO DE OLIVEIRA | D39: =IFERROR(__xludf.dummyfunction("""COMPUTED_VALUE"""),"26191300") -> 26191300 | E39: =IFERROR(__xludf.dummyfunction("""COMPUTED_VALUE"""),"INFANTIL 2") -> INFANTIL 2 | F39: =IFERROR(__xludf.dummyfunction("""COMPUTED_VALUE"""),"Integral") -> Integral | G39: =IFERROR(__xludf.dummyfunction("""COMPUTED_VALUE"""),"Comum") -> Comum | H39: =IFERROR(__xludf.dummyfunction("""COMPUTED_VALUE"""),"3") -> 3 | I39: =IFERROR(__xludf.dummyfunction("""COMPUTED_VALUE"""),"26032167672") -> 26032167672 | J39: =IFERROR(__xludf.dummyfunction("""COMPUTED_VALUE"""),"11/03/2026 10:19:05") -> 11/03/2026 10:19:05 | K39: =IFERROR(__xludf.dummyfunction("""COMPUTED_VALUE"""),"ALISSON GABRIEL DOS SANTOS SILVA") -> ALISSON GABRIEL DOS SANTOS SILVA | L39: =IFERROR(__xludf.dummyfunction("""COMPUTED_VALUE"""),"001.878.044-00") -> 001.878.044-00 | M39: =IFERROR(__xludf.dummyfunction("""COMPUTED_VALUE"""),"30/12/2023") -> 30/12/2023 | O39: =IFERROR(__xludf.dummyfunction("""COMPUTED_VALUE"""),"0") -> 0
B40: {=_xlfn.XLOOKUP(D40,Tabela_Dados_Esc_JAB_2026[INEP],Tabela_Dados_Esc_JAB_2026[REGIONAL],"NE",0)} -> REGIONAL 6 | C40: =IFERROR(__xludf.dummyfunction("""COMPUTED_VALUE"""),"CEMEI LIGIA ARAUJO DE OLIVEIRA") -> CEMEI LIGIA ARAUJO DE OLIVEIRA | D40: =IFERROR(__xludf.dummyfunction("""COMPUTED_VALUE"""),"26191300") -> 26191300 | E40: =IFERROR(__xludf.dummyfunction("""COMPUTED_VALUE"""),"INFANTIL 2") -> INFANTIL 2 | F40: =IFERROR(__xludf.dummyfunction("""COMPUTED_VALUE"""),"Integral") -> Integral | G40: =IFERROR(__xludf.dummyfunction("""COMPUTED_VALUE"""),"Comum") -> Comum | H40: =IFERROR(__xludf.dummyfunction("""COMPUTED_VALUE"""),"4") -> 4 | I40: =IFERROR(__xludf.dummyfunction("""COMPUTED_VALUE"""),"26042573900") -> 26042573900 | J40: =IFERROR(__xludf.dummyfunction("""COMPUTED_VALUE"""),"20/04/2026 12:53:45") -> 20/04/2026 12:53:45 | K40: =IFERROR(__xludf.dummyfunction("""COMPUTED_VALUE"""),"ISABELA MARIA DIAS DA SILVA") -> ISABELA MARIA DIAS DA SILVA | L40: =IFERROR(__xludf.dummyfunction("""COMPUTED_VALUE"""),"166.511.419-37") -> 166.511.419-37 | M40: =IFERROR(__xludf.dummyfunction("""COMPUTED_VALUE"""),"02/05/2023") -> 02/05/2023 | O40: =IFERROR(__xludf.dummyfunction("""COMPUTED_VALUE"""),"0") -> 0
B41: {=_xlfn.XLOOKUP(D41,Tabela_Dados_Esc_JAB_2026[INEP],Tabela_Dados_Esc_JAB_2026[REGIONAL],"NE",0)} -> REGIONAL 6 | C41: =IFERROR(__xludf.dummyfunction("""COMPUTED_VALUE"""),"CEMEI LIGIA ARAUJO DE OLIVEIRA") -> CEMEI LIGIA ARAUJO DE OLIVEIRA | D41: =IFERROR(__xludf.dummyfunction("""COMPUTED_VALUE"""),"26191300") -> 26191300 | E41: =IFERROR(__xludf.dummyfunction("""COMPUTED_VALUE"""),"INFANTIL 2") -> INFANTIL 2 | F41: =IFERROR(__xludf.dummyfunction("""COMPUTED_VALUE"""),"Integral") -> Integral | G41: =IFERROR(__xludf.dummyfunction("""COMPUTED_VALUE"""),"Comum") -> Comum | H41: =IFERROR(__xludf.dummyfunction("""COMPUTED_VALUE"""),"5") -> 5 | I41: =IFERROR(__xludf.dummyfunction("""COMPUTED_VALUE"""),"26052223423") -> 26052223423 | J41: =IFERROR(__xludf.dummyfunction("""COMPUTED_VALUE"""),"08/05/2026 07:30:21") -> 08/05/2026 07:30:21 | K41: =IFERROR(__xludf.dummyfunction("""COMPUTED_VALUE"""),"HEITOR GABRIEL MARQUES DOS SANTOS") -> HEITOR GABRIEL MARQUES DOS SANTOS | L41: =IFERROR(__xludf.dummyfunction("""COMPUTED_VALUE"""),"185.759.414-29") -> 185.759.414-29 | M41: =IFERROR(__xludf.dummyfunction("""COMPUTED_VALUE"""),"20/05/2023") -> 20/05/2023 | O41: =IFERROR(__xludf.dummyfunction("""COMPUTED_VALUE"""),"0") -> 0
B42: {=_xlfn.XLOOKUP(D42,Tabela_Dados_Esc_JAB_2026[INEP],Tabela_Dados_Esc_JAB_2026[REGIONAL],"NE",0)} -> REGIONAL 6 | C42: =IFERROR(__xludf.dummyfunction("""COMPUTED_VALUE"""),"CEMEI LIGIA ARAUJO DE OLIVEIRA") -> CEMEI LIGIA ARAUJO DE OLIVEIRA | D42: =IFERROR(__xludf.dummyfunction("""COMPUTED_VALUE"""),"26191300") -> 26191300 | E42: =IFERROR(__xludf.dummyfunction("""COMPUTED_VALUE"""),"INFANTIL 2") -> INFANTIL 2 | F42: =IFERROR(__xludf.dummyfunction("""COMPUTED_VALUE"""),"Integral") -> Integral | G42: =IFERROR(__xludf.dummyfunction("""COMPUTED_VALUE"""),"Comum") -> Comum | H42: =IFERROR(__xludf.dummyfunction("""COMPUTED_VALUE"""),"6") -> 6 | I42: =IFERROR(__xludf.dummyfunction("""COMPUTED_VALUE"""),"26062955555") -> 26062955555 | J42: =IFERROR(__xludf.dummyfunction("""COMPUTED_VALUE"""),"10/06/2026 09:35:26") -> 10/06/2026 09:35:26 | K42: =IFERROR(__xludf.dummyfunction("""COMPUTED_VALUE"""),"HENRIQUE LORENZO PACHECO DA SILVA") -> HENRIQUE LORENZO PACHECO DA SILVA | L42: =IFERROR(__xludf.dummyfunction("""COMPUTED_VALUE"""),"035.434.204-53") -> 035.434.204-53 | M42: =IFERROR(__xludf.dummyfunction("""COMPUTED_VALUE"""),"22/06/2023") -> 22/06/2023 | O42: =IFERROR(__xludf.dummyfunction("""COMPUTED_VALUE"""),"0") -> 0
B43: {=_xlfn.XLOOKUP(D43,Tabela_Dados_Esc_JAB_2026[INEP],Tabela_Dados_Esc_JAB_2026[REGIONAL],"NE",0)} -> REGIONAL 6 | C43: =IFERROR(__xludf.dummyfunction("""COMPUTED_VALUE"""),"CEMEI LIGIA ARAUJO DE OLIVEIRA") -> CEMEI LIGIA ARAUJO DE OLIVEIRA | D43: =IFERROR(__xludf.dummyfunction("""COMPUTED_VALUE"""),"26191300") -> 26191300 | E43: =IFERROR(__xludf.dummyfunction("""COMPUTED_VALUE"""),"INFANTIL 3") -> INFANTIL 3 | F43: =IFERROR(__xludf.dummyfunction("""COMPUTED_VALUE"""),"Integral") -> Integral | G43: =IFERROR(__xludf.dummyfunction("""COMPUTED_VALUE"""),"Comum") -> Comum | H43: =IFERROR(__xludf.dummyfunction("""COMPUTED_VALUE"""),"1") -> 1 | I43: =IFERROR(__xludf.dummyfunction("""COMPUTED_VALUE"""),"26022419534") -> 26022419534 | J43: =IFERROR(__xludf.dummyfunction("""COMPUTED_VALUE"""),"03/02/2026 14:12:28") -> 03/02/2026 14:12:28 | K43: =IFERROR(__xludf.dummyfunction("""COMPUTED_VALUE"""),"AYLLA FERREIRA DA SILVA") -> AYLLA FERREIRA DA SILVA | L43: =IFERROR(__xludf.dummyfunction("""COMPUTED_VALUE"""),"183.532.494-05") -> 183.532.494-05 | M43: =IFERROR(__xludf.dummyfunction("""COMPUTED_VALUE"""),"22/11/2022") -> 22/11/2022 | O43: =IFERROR(__xludf.dummyfunction("""COMPUTED_VALUE"""),"0") -> 0
B44: {=_xlfn.XLOOKUP(D44,Tabela_Dados_Esc_JAB_2026[INEP],Tabela_Dados_Esc_JAB_2026[REGIONAL],"NE",0)} -> REGIONAL 6 | C44: =IFERROR(__xludf.dummyfunction("""COMPUTED_VALUE"""),"CEMEI LIGIA ARAUJO DE OLIVEIRA") -> CEMEI LIGIA ARAUJO DE OLIVEIRA | D44: =IFERROR(__xludf.dummyfunction("""COMPUTED_VALUE"""),"26191300") -> 26191300 | E44: =IFERROR(__xludf.dummyfunction("""COMPUTED_VALUE"""),"INFANTIL 3") -> INFANTIL 3 | F44: =IFERROR(__xludf.dummyfunction("""COMPUTED_VALUE"""),"Integral") -> Integral | G44: =IFERROR(__xludf.dummyfunction("""COMPUTED_VALUE"""),"Comum") -> Comum | H44: =IFERROR(__xludf.dummyfunction("""COMPUTED_VALUE"""),"2") -> 2 | I44: =IFERROR(__xludf.dummyfunction("""COMPUTED_VALUE"""),"26022477473") -> 26022477473 | J44: =IFERROR(__xludf.dummyfunction("""COMPUTED_VALUE"""),"03/02/2026 14:18:57") -> 03/02/2026 14:18:57 | K44: =IFERROR(__xludf.dummyfunction("""COMPUTED_VALUE"""),"ALYCIA FERREIRA DA SILVA") -> ALYCIA FERREIRA DA SILVA | L44: =IFERROR(__xludf.dummyfunction("""COMPUTED_VALUE"""),"183.532.504-11") -> 183.532.504-11 | M44: =IFERROR(__xludf.dummyfunction("""COMPUTED_VALUE"""),"22/11/2022") -> 22/11/2022 | O44: =IFERROR(__xludf.dummyfunction("""COMPUTED_VALUE"""),"0") -> 0
B45: {=_xlfn.XLOOKUP(D45,Tabela_Dados_Esc_JAB_2026[INEP],Tabela_Dados_Esc_JAB_2026[REGIONAL],"NE",0)} -> REGIONAL 6 | C45: =IFERROR(__xludf.dummyfunction("""COMPUTED_VALUE"""),"CEMEI LIGIA ARAUJO DE OLIVEIRA") -> CEMEI LIGIA ARAUJO DE OLIVEIRA | D45: =IFERROR(__xludf.dummyfunction("""COMPUTED_VALUE"""),"26191300") -> 26191300 | E45: =IFERROR(__xludf.dummyfunction("""COMPUTED_VALUE"""),"INFANTIL 3") -> INFANTIL 3 | F45: =IFERROR(__xludf.dummyfunction("""COMPUTED_VALUE"""),"Integral") -> Integral | G45: =IFERROR(__xludf.dummyfunction("""COMPUTED_VALUE"""),"Comum") -> Comum | H45: =IFERROR(__xludf.dummyfunction("""COMPUTED_VALUE"""),"3") -> 3 | I45: =IFERROR(__xludf.dummyfunction("""COMPUTED_VALUE"""),"26022456645") -> 26022456645 | J45: =IFERROR(__xludf.dummyfunction("""COMPUTED_VALUE"""),"23/02/2026 20:39:24") -> 23/02/2026 20:39:24 | K45: =IFERROR(__xludf.dummyfunction("""COMPUTED_VALUE"""),"ABRAÃO EMANOEL PINHEIRO DA SILVA") -> ABRAÃO EMANOEL PINHEIRO DA SILVA | L45: =IFERROR(__xludf.dummyfunction("""COMPUTED_VALUE"""),"182.714.394-05") -> 182.714.394-05 | M45: =IFERROR(__xludf.dummyfunction("""COMPUTED_VALUE"""),"31/08/2022") -> 31/08/2022 | O45: =IFERROR(__xludf.dummyfunction("""COMPUTED_VALUE"""),"0") -> 0
B46: {=_xlfn.XLOOKUP(D46,Tabela_Dados_Esc_JAB_2026[INEP],Tabela_Dados_Esc_JAB_2026[REGIONAL],"NE",0)} -> REGIONAL 6 | C46: =IFERROR(__xludf.dummyfunction("""COMPUTED_VALUE"""),"CEMEI LIGIA ARAUJO DE OLIVEIRA") -> CEMEI LIGIA ARAUJO DE OLIVEIRA | D46: =IFERROR(__xludf.dummyfunction("""COMPUTED_VALUE"""),"26191300") -> 26191300 | E46: =IFERROR(__xludf.dummyfunction("""COMPUTED_VALUE"""),"INFANTIL 3") -> INFANTIL 3 | F46: =IFERROR(__xludf.dummyfunction("""COMPUTED_VALUE"""),"Integral") -> Integral | G46: =IFERROR(__xludf.dummyfunction("""COMPUTED_VALUE"""),"Comum") -> Comum | H46: =IFERROR(__xludf.dummyfunction("""COMPUTED_VALUE"""),"4") -> 4 | I46: =IFERROR(__xludf.dummyfunction("""COMPUTED_VALUE"""),"26082943110") -> 26082943110 | J46: =IFERROR(__xludf.dummyfunction("""COMPUTED_VALUE"""),"11/08/2026 13:20:40") -> 11/08/2026 13:20:40 | K46: =IFERROR(__xludf.dummyfunction("""COMPUTED_VALUE"""),"Kiara Heloise dos Santos") -> Kiara Heloise dos Santos | L46: =IFERROR(__xludf.dummyfunction("""COMPUTED_VALUE"""),"184.757.404-13") -> 184.757.404-13 | M46: =IFERROR(__xludf.dummyfunction("""COMPUTED_VALUE"""),"09/03/2023") -> 09/03/2023 | O46: =IFERROR(__xludf.dummyfunction("""COMPUTED_VALUE"""),"0") -> 0
B47: {=_xlfn.XLOOKUP(D47,Tabela_Dados_Esc_JAB_2026[INEP],Tabela_Dados_Esc_JAB_2026[REGIONAL],"NE",0)} -> REGIONAL 6 | C47: =IFERROR(__xludf.dummyfunction("""COMPUTED_VALUE"""),"CEMEI LIGIA ARAUJO DE OLIVEIRA") -> CEMEI LIGIA ARAUJO DE OLIVEIRA | D47: =IFERROR(__xludf.dummyfunction("""COMPUTED_VALUE"""),"26191300") -> 26191300 | E47: =IFERROR(__xludf.dummyfunction("""COMPUTED_VALUE"""),"INFANTIL 4") -> INFANTIL 4 | F47: =IFERROR(__xludf.dummyfunction("""COMPUTED_VALUE"""),"Matutino/Manhã") -> Matutino/Manhã | G47: =IFERROR(__xludf.dummyfunction("""COMPUTED_VALUE"""),"Comum") -> Comum | H47: =IFERROR(__xludf.dummyfunction("""COMPUTED_VALUE"""),"1") -> 1 | I47: =IFERROR(__xludf.dummyfunction("""COMPUTED_VALUE"""),"26082180118") -> 26082180118 | J47: =IFERROR(__xludf.dummyfunction("""COMPUTED_VALUE"""),"11/08/2026 13:16:26") -> 11/08/2026 13:16:26 | K47: =IFERROR(__xludf.dummyfunction("""COMPUTED_VALUE"""),"Valentina Gabriela dos Santos") -> Valentina Gabriela dos Santos | L47: =IFERROR(__xludf.dummyfunction("""COMPUTED_VALUE"""),"176.437.184-40") -> 176.437.184-40 | M47: =IFERROR(__xludf.dummyfunction("""COMPUTED_VALUE"""),"27/04/2021") -> 27/04/2021 | O47: =IFERROR(__xludf.dummyfunction("""COMPUTED_VALUE"""),"0") -> 0
B48: {=_xlfn.XLOOKUP(D48,Tabela_Dados_Esc_JAB_2026[INEP],Tabela_Dados_Esc_JAB_2026[REGIONAL],"NE",0)} -> REGIONAL 6 | C48: =IFERROR(__xludf.dummyfunction("""COMPUTED_VALUE"""),"CEMEI LIGIA ARAUJO DE OLIVEIRA") -> CEMEI LIGIA ARAUJO DE OLIVEIRA | D48: =IFERROR(__xludf.dummyfunction("""COMPUTED_VALUE"""),"26191300") -> 26191300 | E48: =IFERROR(__xludf.dummyfunction("""COMPUTED_VALUE"""),"INFANTIL 5") -> INFANTIL 5 | F48: =IFERROR(__xludf.dummyfunction("""COMPUTED_VALUE"""),"Vespertino/Tarde") -> Vespertino/Tarde | G48: =IFERROR(__xludf.dummyfunction("""COMPUTED_VALUE"""),"Comum") -> Comum | H48: =IFERROR(__xludf.dummyfunction("""COMPUTED_VALUE"""),"1") -> 1 | I48: =IFERROR(__xludf.dummyfunction("""COMPUTED_VALUE"""),"26072395830") -> 26072395830 | J48: =IFERROR(__xludf.dummyfunction("""COMPUTED_VALUE"""),"09/07/2026 15:42:02") -> 09/07/2026 15:42:02 | K48: =IFERROR(__xludf.dummyfunction("""COMPUTED_VALUE"""),"Maria Lorhanna Gonzaga Reis") -> Maria Lorhanna Gonzaga Reis | L48: =IFERROR(__xludf.dummyfunction("""COMPUTED_VALUE"""),"173.858.514-01") -> 173.858.514-01 | M48: =IFERROR(__xludf.dummyfunction("""COMPUTED_VALUE"""),"13/05/2020") -> 13/05/2020 | O48: =IFERROR(__xludf.dummyfunction("""COMPUTED_VALUE"""),"0") -> 0
B49: {=_xlfn.XLOOKUP(D49,Tabela_Dados_Esc_JAB_2026[INEP],Tabela_Dados_Esc_JAB_2026[REGIONAL],"NE",0)} -> REGIONAL 2 | C49: =IFERROR(__xludf.dummyfunction("""COMPUTED_VALUE"""),"CEMEI LUIZ FERNANDO DE CARVALHO ARCOVERDE") -> CEMEI LUIZ FERNANDO DE CARVALHO ARCOVERDE | D49: =IFERROR(__xludf.dummyfunction("""COMPUTED_VALUE"""),"26186063") -> 26186063 | E49: =IFERROR(__xludf.dummyfunction("""COMPUTED_VALUE"""),"INFANTIL 2") -> INFANTIL 2 | F49: =IFERROR(__xludf.dummyfunction("""COMPUTED_VALUE"""),"Integral") -> Integral | G49: =IFERROR(__xludf.dummyfunction("""COMPUTED_VALUE"""),"Comum") -> Comum | H49: =IFERROR(__xludf.dummyfunction("""COMPUTED_VALUE"""),"1") -> 1 | I49: =IFERROR(__xludf.dummyfunction("""COMPUTED_VALUE"""),"26072370562") -> 26072370562 | J49: =IFERROR(__xludf.dummyfunction("""COMPUTED_VALUE"""),"09/07/2026 20:11:39") -> 09/07/2026 20:11:39 | K49: =IFERROR(__xludf.dummyfunction("""COMPUTED_VALUE"""),"MARIA CLARA VASCONCELOS DA SILVA") -> MARIA CLARA VASCONCELOS DA SILVA | L49: =IFERROR(__xludf.dummyfunction("""COMPUTED_VALUE"""),"185.771.984-05") -> 185.771.984-05 | M49: =IFERROR(__xludf.dummyfunction("""COMPUTED_VALUE"""),"02/06/2023") -> 02/06/2023 | O49: =IFERROR(__xludf.dummyfunction("""COMPUTED_VALUE"""),"0") -> 0
B50: {=_xlfn.XLOOKUP(D50,Tabela_Dados_Esc_JAB_2026[INEP],Tabela_Dados_Esc_JAB_2026[REGIONAL],"NE",0)} -> REGIONAL 2 | C50: =IFERROR(__xludf.dummyfunction("""COMPUTED_VALUE"""),"CEMEI LUIZ FERNANDO DE CARVALHO ARCOVERDE") -> CEMEI LUIZ FERNANDO DE CARVALHO ARCOVERDE | D50: =IFERROR(__xludf.dummyfunction("""COMPUTED_VALUE"""),"26186063") -> 26186063 | E50: =IFERROR(__xludf.dummyfunction("""COMPUTED_VALUE"""),"INFANTIL 2") -> INFANTIL 2 | F50: =IFERROR(__xludf.dummyfunction("""COMPUTED_VALUE"""),"Integral") -> Integral | G50: =IFERROR(__xludf.dummyfunction("""COMPUTED_VALUE"""),"Comum") -> Comum | H50: =IFERROR(__xludf.dummyfunction("""COMPUTED_VALUE"""),"2") -> 2 | I50: =IFERROR(__xludf.dummyfunction("""COMPUTED_VALUE"""),"26072614229") -> 26072614229 | J50: =IFERROR(__xludf.dummyfunction("""COMPUTED_VALUE"""),"24/07/2026 16:57:07") -> 24/07/2026 16:57:07 | K50: =IFERROR(__xludf.dummyfunction("""COMPUTED_VALUE"""),"Isaac luiz Maia do Nascimento") -> Isaac luiz Maia do Nascimento | L50: =IFERROR(__xludf.dummyfunction("""COMPUTED_VALUE"""),"001.976.204-69") -> 001.976.204-69 | M50: =IFERROR(__xludf.dummyfunction("""COMPUTED_VALUE"""),"11/12/2023") -> 11/12/2023 | O50: =IFERROR(__xludf.dummyfunction("""COMPUTED_VALUE"""),"0") -> 0
B51: {=_xlfn.XLOOKUP(D51,Tabela_Dados_Esc_JAB_2026[INEP],Tabela_Dados_Esc_JAB_2026[REGIONAL],"NE",0)} -> REGIONAL 5 | C51: =IFERROR(__xludf.dummyfunction("""COMPUTED_VALUE"""),"CEMEI PROFª MARIA LUZIA RIO LIMA") -> CEMEI PROFª MARIA LUZIA RIO LIMA | D51: =IFERROR(__xludf.dummyfunction("""COMPUTED_VALUE"""),"26187060") -> 26187060 | E51: =IFERROR(__xludf.dummyfunction("""COMPUTED_VALUE"""),"INFANTIL 1") -> INFANTIL 1 | F51: =IFERROR(__xludf.dummyfunction("""COMPUTED_VALUE"""),"Integral") -> Integral | G51: =IFERROR(__xludf.dummyfunction("""COMPUTED_VALUE"""),"Comum") -> Comum | H51: =IFERROR(__xludf.dummyfunction("""COMPUTED_VALUE"""),"1") -> 1 | I51: =IFERROR(__xludf.dummyfunction("""COMPUTED_VALUE"""),"26032132321") -> 26032132321 | J51: =IFERROR(__xludf.dummyfunction("""COMPUTED_VALUE"""),"19/03/2026 08:28:18") -> 19/03/2026 08:28:18 | K51: =IFERROR(__xludf.dummyfunction("""COMPUTED_VALUE"""),"MARIA CLARA DE LIMA") -> MARIA CLARA DE LIMA | L51: =IFERROR(__xludf.dummyfunction("""COMPUTED_VALUE"""),"004.995.084-32") -> 004.995.084-32 | M51: =IFERROR(__xludf.dummyfunction("""COMPUTED_VALUE"""),"16/12/2024") -> 16/12/2024 | O51: =IFERROR(__xludf.dummyfunction("""COMPUTED_VALUE"""),"0") -> 0
B52: {=_xlfn.XLOOKUP(D52,Tabela_Dados_Esc_JAB_2026[INEP],Tabela_Dados_Esc_JAB_2026[REGIONAL],"NE",0)} -> REGIONAL 5 | C52: =IFERROR(__xludf.dummyfunction("""COMPUTED_VALUE"""),"CEMEI PROFª MARIA LUZIA RIO LIMA") -> CEMEI PROFª MARIA LUZIA RIO LIMA | D52: =IFERROR(__xludf.dummyfunction("""COMPUTED_VALUE"""),"26187060") -> 26187060 | E52: =IFERROR(__xludf.dummyfunction("""COMPUTED_VALUE"""),"INFANTIL 1") -> INFANTIL 1 | F52: =IFERROR(__xludf.dummyfunction("""COMPUTED_VALUE"""),"Integral") -> Integral | G52: =IFERROR(__xludf.dummyfunction("""COMPUTED_VALUE"""),"Comum") -> Comum | H52: =IFERROR(__xludf.dummyfunction("""COMPUTED_VALUE"""),"2") -> 2 | I52: =IFERROR(__xludf.dummyfunction("""COMPUTED_VALUE"""),"26032131066") -> 26032131066 | J52: =IFERROR(__xludf.dummyfunction("""COMPUTED_VALUE"""),"19/03/2026 08:46:18") -> 19/03/2026 08:46:18 | K52: =IFERROR(__xludf.dummyfunction("""COMPUTED_VALUE"""),"MARIA FLOR DE LIMA") -> MARIA FLOR DE LIMA | L52: =IFERROR(__xludf.dummyfunction("""COMPUTED_VALUE"""),"004.995.534-97") -> 004.995.534-97 | M52: =IFERROR(__xludf.dummyfunction("""COMPUTED_VALUE"""),"16/12/2024") -> 16/12/2024 | O52: =IFERROR(__xludf.dummyfunction("""COMPUTED_VALUE"""),"0") -> 0
B53: {=_xlfn.XLOOKUP(D53,Tabela_Dados_Esc_JAB_2026[INEP],Tabela_Dados_Esc_JAB_2026[REGIONAL],"NE",0)} -> REGIONAL 5 | C53: =IFERROR(__xludf.dummyfunction("""COMPUTED_VALUE"""),"CEMEI PROFª MARIA LUZIA RIO LIMA") -> CEMEI PROFª MARIA LUZIA RIO LIMA | D53: =IFERROR(__xludf.dummyfunction("""COMPUTED_VALUE"""),"26187060") -> 26187060 | E53: =IFERROR(__xludf.dummyfunction("""COMPUTED_VALUE"""),"INFANTIL 1") -> INFANTIL 1 | F53: =IFERROR(__xludf.dummyfunction("""COMPUTED_VALUE"""),"Integral") -> Integral | G53: =IFERROR(__xludf.dummyfunction("""COMPUTED_VALUE"""),"Comum") -> Comum | H53: =IFERROR(__xludf.dummyfunction("""COMPUTED_VALUE"""),"3") -> 3 | I53: =IFERROR(__xludf.dummyfunction("""COMPUTED_VALUE"""),"26052596009") -> 26052596009 | J53: =IFERROR(__xludf.dummyfunction("""COMPUTED_VALUE"""),"06/05/2026 15:38:45") -> 06/05/2026 15:38:45 | K53: =IFERROR(__xludf.dummyfunction("""COMPUTED_VALUE"""),"EMANUEL LUCAS FAUSTINO DA SILVA") -> EMANUEL LUCAS FAUSTINO DA SILVA | L53: =IFERROR(__xludf.dummyfunction("""COMPUTED_VALUE"""),"118.065.824-81") -> 118.065.824-81 | M53: =IFERROR(__xludf.dummyfunction("""COMPUTED_VALUE"""),"05/09/2024") -> 05/09/2024 | O53: =IFERROR(__xludf.dummyfunction("""COMPUTED_VALUE"""),"0") -> 0
B54: {=_xlfn.XLOOKUP(D54,Tabela_Dados_Esc_JAB_2026[INEP],Tabela_Dados_Esc_JAB_2026[REGIONAL],"NE",0)} -> REGIONAL 5 | C54: =IFERROR(__xludf.dummyfunction("""COMPUTED_VALUE"""),"CEMEI PROFª MARIA LUZIA RIO LIMA") -> CEMEI PROFª MARIA LUZIA RIO LIMA | D54: =IFERROR(__xludf.dummyfunction("""COMPUTED_VALUE"""),"26187060") -> 26187060 | E54: =IFERROR(__xludf.dummyfunction("""COMPUTED_VALUE"""),"INFANTIL 1") -> INFANTIL 1 | F54: =IFERROR(__xludf.dummyfunction("""COMPUTED_VALUE"""),"Integral") -> Integral | G54: =IFERROR(__xludf.dummyfunction("""COMPUTED_VALUE"""),"Comum") -> Comum | H54: =IFERROR(__xludf.dummyfunction("""COMPUTED_VALUE"""),"4") -> 4 | I54: =IFERROR(__xludf.dummyfunction("""COMPUTED_VALUE"""),"26062876709") -> 26062876709 | J54: =IFERROR(__xludf.dummyfunction("""COMPUTED_VALUE"""),"10/06/2026 16:57:35") -> 10/06/2026 16:57:35 | K54: =IFERROR(__xludf.dummyfunction("""COMPUTED_VALUE"""),"Edgar Souza do monte") -> Edgar Souza do monte | L54: =IFERROR(__xludf.dummyfunction("""COMPUTED_VALUE"""),"004.150.004-08") -> 004.150.004-08 | M54: =IFERROR(__xludf.dummyfunction("""COMPUTED_VALUE"""),"19/09/2024") -> 19/09/2024 | O54: =IFERROR(__xludf.dummyfunction("""COMPUTED_VALUE"""),"0") -> 0
B55: {=_xlfn.XLOOKUP(D55,Tabela_Dados_Esc_JAB_2026[INEP],Tabela_Dados_Esc_JAB_2026[REGIONAL],"NE",0)} -> REGIONAL 5 | C55: =IFERROR(__xludf.dummyfunction("""COMPUTED_VALUE"""),"CEMEI PROFª MARIA LUZIA RIO LIMA") -> CEMEI PROFª MARIA LUZIA RIO LIMA | D55: =IFERROR(__xludf.dummyfunction("""COMPUTED_VALUE"""),"26187060") -> 26187060 | E55: =IFERROR(__xludf.dummyfunction("""COMPUTED_VALUE"""),"INFANTIL 1") -> INFANTIL 1 | F55: =IFERROR(__xludf.dummyfunction("""COMPUTED_VALUE"""),"Integral") -> Integral | G55: =IFERROR(__xludf.dummyfunction("""COMPUTED_VALUE"""),"Comum") -> Comum | H55: =IFERROR(__xludf.dummyfunction("""COMPUTED_VALUE"""),"5") -> 5 | I55: =IFERROR(__xludf.dummyfunction("""COMPUTED_VALUE"""),"26062552151") -> 26062552151 | J55: =IFERROR(__xludf.dummyfunction("""COMPUTED_VALUE"""),"10/06/2026 17:01:25") -> 10/06/2026 17:01:25 | K55: =IFERROR(__xludf.dummyfunction("""COMPUTED_VALUE"""),"Dante Souza do Monte") -> Dante Souza do Monte | L55: =IFERROR(__xludf.dummyfunction("""COMPUTED_VALUE"""),"004.149.744-92") -> 004.149.744-92 | M55: =IFERROR(__xludf.dummyfunction("""COMPUTED_VALUE"""),"19/09/2024") -> 19/09/2024 | O55: =IFERROR(__xludf.dummyfunction("""COMPUTED_VALUE"""),"0") -> 0
B56: {=_xlfn.XLOOKUP(D56,Tabela_Dados_Esc_JAB_2026[INEP],Tabela_Dados_Esc_JAB_2026[REGIONAL],"NE",0)} -> REGIONAL 7 | C56: =IFERROR(__xludf.dummyfunction("""COMPUTED_VALUE"""),"CEMEI PROFESSORA CIBELE DE ANDRADE MENDES DE AZEVEDO") -> CEMEI PROFESSORA CIBELE DE ANDRADE MENDES DE AZEVEDO | D56: =IFERROR(__xludf.dummyfunction("""COMPUTED_VALUE"""),"26193078") -> 26193078 | E56: =IFERROR(__xludf.dummyfunction("""COMPUTED_VALUE"""),"INFANTIL 1") -> INFANTIL 1 | F56: =IFERROR(__xludf.dummyfunction("""COMPUTED_VALUE"""),"Integral") -> Integral | G56: =IFERROR(__xludf.dummyfunction("""COMPUTED_VALUE"""),"Comum") -> Comum | H56: =IFERROR(__xludf.dummyfunction("""COMPUTED_VALUE"""),"1") -> 1 | I56: =IFERROR(__xludf.dummyfunction("""COMPUTED_VALUE"""),"26022986363") -> 26022986363 | J56: =IFERROR(__xludf.dummyfunction("""COMPUTED_VALUE"""),"04/02/2026 08:52:54") -> 04/02/2026 08:52:54 | K56: =IFERROR(__xludf.dummyfunction("""COMPUTED_VALUE"""),"RENAN JOSÉ DA SILVA") -> RENAN JOSÉ DA SILVA | L56: =IFERROR(__xludf.dummyfunction("""COMPUTED_VALUE"""),"003.612.264-54") -> 003.612.264-54 | M56: =IFERROR(__xludf.dummyfunction("""COMPUTED_VALUE"""),"18/04/2024") -> 18/04/2024 | O56: =IFERROR(__xludf.dummyfunction("""COMPUTED_VALUE"""),"0") -> 0
B57: {=_xlfn.XLOOKUP(D57,Tabela_Dados_Esc_JAB_2026[INEP],Tabela_Dados_Esc_JAB_2026[REGIONAL],"NE",0)} -> REGIONAL 7 | C57: =IFERROR(__xludf.dummyfunction("""COMPUTED_VALUE"""),"CEMEI PROFESSORA CIBELE DE ANDRADE MENDES DE AZEVEDO") -> CEMEI PROFESSORA CIBELE DE ANDRADE MENDES DE AZEVEDO | D57: =IFERROR(__xludf.dummyfunction("""COMPUTED_VALUE"""),"26193078") -> 26193078 | E57: =IFERROR(__xludf.dummyfunction("""COMPUTED_VALUE"""),"INFANTIL 1") -> INFANTIL 1 | F57: =IFERROR(__xludf.dummyfunction("""COMPUTED_VALUE"""),"Integral") -> Integral | G57: =IFERROR(__xludf.dummyfunction("""COMPUTED_VALUE"""),"Comum") -> Comum | H57: =IFERROR(__xludf.dummyfunction("""COMPUTED_VALUE"""),"2") -> 2 | I57: =IFERROR(__xludf.dummyfunction("""COMPUTED_VALUE"""),"26022051060") -> 26022051060 | J57: =IFERROR(__xludf.dummyfunction("""COMPUTED_VALUE"""),"05/02/2026 12:22:17") -> 05/02/2026 12:22:17 | K57: =IFERROR(__xludf.dummyfunction("""COMPUTED_VALUE"""),"ELLOÁH JASMIN NASCIMENTO DA SILVA") -> ELLOÁH JASMIN NASCIMENTO DA SILVA | L57: =IFERROR(__xludf.dummyfunction("""COMPUTED_VALUE"""),"003.964.064-75") -> 003.964.064-75 | M57: =IFERROR(__xludf.dummyfunction("""COMPUTED_VALUE"""),"12/08/2024") -> 12/08/2024 | O57: =IFERROR(__xludf.dummyfunction("""COMPUTED_VALUE"""),"0") -> 0
B58: {=_xlfn.XLOOKUP(D58,Tabela_Dados_Esc_JAB_2026[INEP],Tabela_Dados_Esc_JAB_2026[REGIONAL],"NE",0)} -> REGIONAL 7 | C58: =IFERROR(__xludf.dummyfunction("""COMPUTED_VALUE"""),"CEMEI PROFESSORA CIBELE DE ANDRADE MENDES DE AZEVEDO") -> CEMEI PROFESSORA CIBELE DE ANDRADE MENDES DE AZEVEDO | D58: =IFERROR(__xludf.dummyfunction("""COMPUTED_VALUE"""),"26193078") -> 26193078 | E58: =IFERROR(__xludf.dummyfunction("""COMPUTED_VALUE"""),"INFANTIL 1") -> INFANTIL 1 | F58: =IFERROR(__xludf.dummyfunction("""COMPUTED_VALUE"""),"Integral") -> Integral | G58: =IFERROR(__xludf.dummyfunction("""COMPUTED_VALUE"""),"Comum") -> Comum | H58: =IFERROR(__xludf.dummyfunction("""COMPUTED_VALUE"""),"3") -> 3 | I58: =IFERROR(__xludf.dummyfunction("""COMPUTED_VALUE"""),"26022579804") -> 26022579804 | J58: =IFERROR(__xludf.dummyfunction("""COMPUTED_VALUE"""),"05/02/2026 13:29:32") -> 05/02/2026 13:29:32 | K58: =IFERROR(__xludf.dummyfunction("""COMPUTED_VALUE"""),"OLIVER LICKS DE ALMEIDA") -> OLIVER LICKS DE ALMEIDA | L58: =IFERROR(__xludf.dummyfunction("""COMPUTED_VALUE"""),"002.966.174-90") -> 002.966.174-90 | M58: =IFERROR(__xludf.dummyfunction("""COMPUTED_VALUE"""),"16/05/2024") -> 16/05/2024 | O58: =IFERROR(__xludf.dummyfunction("""COMPUTED_VALUE"""),"0") -> 0
B59: {=_xlfn.XLOOKUP(D59,Tabela_Dados_Esc_JAB_2026[INEP],Tabela_Dados_Esc_JAB_2026[REGIONAL],"NE",0)} -> REGIONAL 7 | C59: =IFERROR(__xludf.dummyfunction("""COMPUTED_VALUE"""),"CEMEI PROFESSORA CIBELE DE ANDRADE MENDES DE AZEVEDO") -> CEMEI PROFESSORA CIBELE DE ANDRADE MENDES DE AZEVEDO | D59: =IFERROR(__xludf.dummyfunction("""COMPUTED_VALUE"""),"26193078") -> 26193078 | E59: =IFERROR(__xludf.dummyfunction("""COMPUTED_VALUE"""),"INFANTIL 1") -> INFANTIL 1 | F59: =IFERROR(__xludf.dummyfunction("""COMPUTED_VALUE"""),"Integral") -> Integral | G59: =IFERROR(__xludf.dummyfunction("""COMPUTED_VALUE"""),"Comum") -> Comum | H59: =IFERROR(__xludf.dummyfunction("""COMPUTED_VALUE"""),"4") -> 4 | I59: =IFERROR(__xludf.dummyfunction("""COMPUTED_VALUE"""),"26022646352") -> 26022646352 | J59: =IFERROR(__xludf.dummyfunction("""COMPUTED_VALUE"""),"05/02/2026 15:38:24") -> 05/02/2026 15:38:24 | K59: =IFERROR(__xludf.dummyfunction("""COMPUTED_VALUE"""),"THOMAS ENRICO RODRIGUES DE BARROS") -> THOMAS ENRICO RODRIGUES DE BARROS | L59: =IFERROR(__xludf.dummyfunction("""COMPUTED_VALUE"""),"003.082.134-75") -> 003.082.134-75 | M59: =IFERROR(__xludf.dummyfunction("""COMPUTED_VALUE"""),"19/05/2024") -> 19/05/2024 | O59: =IFERROR(__xludf.dummyfunction("""COMPUTED_VALUE"""),"0") -> 0
B60: {=_xlfn.XLOOKUP(D60,Tabela_Dados_Esc_JAB_2026[INEP],Tabela_Dados_Esc_JAB_2026[REGIONAL],"NE",0)} -> REGIONAL 7 | C60: =IFERROR(__xludf.dummyfunction("""COMPUTED_VALUE"""),"CEMEI PROFESSORA CIBELE DE ANDRADE MENDES DE AZEVEDO") -> CEMEI PROFESSORA CIBELE DE ANDRADE MENDES DE AZEVEDO | D60: =IFERROR(__xludf.dummyfunction("""COMPUTED_VALUE"""),"26193078") -> 26193078 | E60: =IFERROR(__xludf.dummyfunction("""COMPUTED_VALUE"""),"INFANTIL 1") -> INFANTIL 1 | F60: =IFERROR(__xludf.dummyfunction("""COMPUTED_VALUE"""),"Integral") -> Integral | G60: =IFERROR(__xludf.dummyfunction("""COMPUTED_VALUE"""),"Comum") -> Comum | H60: =IFERROR(__xludf.dummyfunction("""COMPUTED_VALUE"""),"5") -> 5 | I60: =IFERROR(__xludf.dummyfunction("""COMPUTED_VALUE"""),"26022733712") -> 26022733712 | J60: =IFERROR(__xludf.dummyfunction("""COMPUTED_VALUE"""),"05/02/2026 20:35:45") -> 05/02/2026 20:35:45 | K60: =IFERROR(__xludf.dummyfunction("""COMPUTED_VALUE"""),"YASMIM BEATRIZ DA SILVA ADRIÃO") -> YASMIM BEATRIZ DA SILVA ADRIÃO | L60: =IFERROR(__xludf.dummyfunction("""COMPUTED_VALUE"""),"005.732.894-33") -> 005.732.894-33 | M60: =IFERROR(__xludf.dummyfunction("""COMPUTED_VALUE"""),"14/03/2025") -> 14/03/2025 | O60: =IFERROR(__xludf.dummyfunction("""COMPUTED_VALUE"""),"0") -> 0
B61: {=_xlfn.XLOOKUP(D61,Tabela_Dados_Esc_JAB_2026[INEP],Tabela_Dados_Esc_JAB_2026[REGIONAL],"NE",0)} -> REGIONAL 7 | C61: =IFERROR(__xludf.dummyfunction("""COMPUTED_VALUE"""),"CEMEI PROFESSORA CIBELE DE ANDRADE MENDES DE AZEVEDO") -> CEMEI PROFESSORA CIBELE DE ANDRADE MENDES DE AZEVEDO | D61: =IFERROR(__xludf.dummyfunction("""COMPUTED_VALUE"""),"26193078") -> 26193078 | E61: =IFERROR(__xludf.dummyfunction("""COMPUTED_VALUE"""),"INFANTIL 1") -> INFANTIL 1 | F61: =IFERROR(__xludf.dummyfunction("""COMPUTED_VALUE"""),"Integral") -> Integral | G61: =IFERROR(__xludf.dummyfunction("""COMPUTED_VALUE"""),"Comum") -> Comum | H61: =IFERROR(__xludf.dummyfunction("""COMPUTED_VALUE"""),"6") -> 6 | I61: =IFERROR(__xludf.dummyfunction("""COMPUTED_VALUE"""),"26022056129") -> 26022056129 | J61: =IFERROR(__xludf.dummyfunction("""COMPUTED_VALUE"""),"23/02/2026 14:03:33") -> 23/02/2026 14:03:33 | K61: =IFERROR(__xludf.dummyfunction("""COMPUTED_VALUE"""),"EMANUELLY SOFIA DA SILVA") -> EMANUELLY SOFIA DA SILVA | L61: =IFERROR(__xludf.dummyfunction("""COMPUTED_VALUE"""),"002.714.984-63") -> 002.714.984-63 | M61: =IFERROR(__xludf.dummyfunction("""COMPUTED_VALUE"""),"10/04/2024") -> 10/04/2024 | O61: =IFERROR(__xludf.dummyfunction("""COMPUTED_VALUE"""),"0") -> 0
B62: {=_xlfn.XLOOKUP(D62,Tabela_Dados_Esc_JAB_2026[INEP],Tabela_Dados_Esc_JAB_2026[REGIONAL],"NE",0)} -> REGIONAL 7 | C62: =IFERROR(__xludf.dummyfunction("""COMPUTED_VALUE"""),"CEMEI PROFESSORA CIBELE DE ANDRADE MENDES DE AZEVEDO") -> CEMEI PROFESSORA CIBELE DE ANDRADE MENDES DE AZEVEDO | D62: =IFERROR(__xludf.dummyfunction("""COMPUTED_VALUE"""),"26193078") -> 26193078 | E62: =IFERROR(__xludf.dummyfunction("""COMPUTED_VALUE"""),"INFANTIL 1") -> INFANTIL 1 | F62: =IFERROR(__xludf.dummyfunction("""COMPUTED_VALUE"""),"Integral") -> Integral | G62: =IFERROR(__xludf.dummyfunction("""COMPUTED_VALUE"""),"Comum") -> Comum | H62: =IFERROR(__xludf.dummyfunction("""COMPUTED_VALUE"""),"7") -> 7 | I62: =IFERROR(__xludf.dummyfunction("""COMPUTED_VALUE"""),"26032949306") -> 26032949306 | J62: =IFERROR(__xludf.dummyfunction("""COMPUTED_VALUE"""),"16/03/2026 10:09:54") -> 16/03/2026 10:09:54 | K62: =IFERROR(__xludf.dummyfunction("""COMPUTED_VALUE"""),"HELENA MARIA CAVALCANTI MARTINS TORRES") -> HELENA MARIA CAVALCANTI MARTINS TORRES | L62: =IFERROR(__xludf.dummyfunction("""COMPUTED_VALUE"""),"002.611.704-57") -> 002.611.704-57 | M62: =IFERROR(__xludf.dummyfunction("""COMPUTED_VALUE"""),"15/04/2024") -> 15/04/2024 | O62: =IFERROR(__xludf.dummyfunction("""COMPUTED_VALUE"""),"0") -> 0
B63: {=_xlfn.XLOOKUP(D63,Tabela_Dados_Esc_JAB_2026[INEP],Tabela_Dados_Esc_JAB_2026[REGIONAL],"NE",0)} -> REGIONAL 7 | C63: =IFERROR(__xludf.dummyfunction("""COMPUTED_VALUE"""),"CEMEI PROFESSORA CIBELE DE ANDRADE MENDES DE AZEVEDO") -> CEMEI PROFESSORA CIBELE DE ANDRADE MENDES DE AZEVEDO | D63: =IFERROR(__xludf.dummyfunction("""COMPUTED_VALUE"""),"26193078") -> 26193078 | E63: =IFERROR(__xludf.dummyfunction("""COMPUTED_VALUE"""),"INFANTIL 1") -> INFANTIL 1 | F63: =IFERROR(__xludf.dummyfunction("""COMPUTED_VALUE"""),"Integral") -> Integral | G63: =IFERROR(__xludf.dummyfunction("""COMPUTED_VALUE"""),"Comum") -> Comum | H63: =IFERROR(__xludf.dummyfunction("""COMPUTED_VALUE"""),"8") -> 8 | I63: =IFERROR(__xludf.dummyfunction("""COMPUTED_VALUE"""),"26032567893") -> 26032567893 | J63: =IFERROR(__xludf.dummyfunction("""COMPUTED_VALUE"""),"18/03/2026 12:28:10") -> 18/03/2026 12:28:10 | K63: =IFERROR(__xludf.dummyfunction("""COMPUTED_VALUE"""),"LAVI EMANUEL SIQUEIRA DA SILVA") -> LAVI EMANUEL SIQUEIRA DA SILVA | L63: =IFERROR(__xludf.dummyfunction("""COMPUTED_VALUE"""),"045.571.744-34") -> 045.571.744-34 | M63: =IFERROR(__xludf.dummyfunction("""COMPUTED_VALUE"""),"19/01/2026") -> 19/01/2026 | O63: =IFERROR(__xludf.dummyfunction("""COMPUTED_VALUE"""),"0") -> 0
B64: {=_xlfn.XLOOKUP(D64,Tabela_Dados_Esc_JAB_2026[INEP],Tabela_Dados_Esc_JAB_2026[REGIONAL],"NE",0)} -> REGIONAL 7 | C64: =IFERROR(__xludf.dummyfunction("""COMPUTED_VALUE"""),"CEMEI PROFESSORA CIBELE DE ANDRADE MENDES DE AZEVEDO") -> CEMEI PROFESSORA CIBELE DE ANDRADE MENDES DE AZEVEDO | D64: =IFERROR(__xludf.dummyfunction("""COMPUTED_VALUE"""),"26193078") -> 26193078 | E64: =IFERROR(__xludf.dummyfunction("""COMPUTED_VALUE"""),"INFANTIL 1") -> INFANTIL 1 | F64: =IFERROR(__xludf.dummyfunction("""COMPUTED_VALUE"""),"Integral") -> Integral | G64: =IFERROR(__xludf.dummyfunction("""COMPUTED_VALUE"""),"Comum") -> Comum | H64: =IFERROR(__xludf.dummyfunction("""COMPUTED_VALUE"""),"9") -> 9 | I64: =IFERROR(__xludf.dummyfunction("""COMPUTED_VALUE"""),"26032563347") -> 26032563347 | J64: =IFERROR(__xludf.dummyfunction("""COMPUTED_VALUE"""),"26/03/2026 18:22:32") -> 26/03/2026 18:22:32 | K64: =IFERROR(__xludf.dummyfunction("""COMPUTED_VALUE"""),"AYLA MANUELLE ALMEIDA DURVAL BRISSANTT") -> AYLA MANUELLE ALMEIDA DURVAL BRISSANTT | L64: =IFERROR(__xludf.dummyfunction("""COMPUTED_VALUE"""),"004.727.814-56") -> 004.727.814-56 | M64: =IFERROR(__xludf.dummyfunction("""COMPUTED_VALUE"""),"20/11/2024") -> 20/11/2024 | O64: =IFERROR(__xludf.dummyfunction("""COMPUTED_VALUE"""),"0") -> 0
B65: {=_xlfn.XLOOKUP(D65,Tabela_Dados_Esc_JAB_2026[INEP],Tabela_Dados_Esc_JAB_2026[REGIONAL],"NE",0)} -> REGIONAL 7 | C65: =IFERROR(__xludf.dummyfunction("""COMPUTED_VALUE"""),"CEMEI PROFESSORA CIBELE DE ANDRADE MENDES DE AZEVEDO") -> CEMEI PROFESSORA CIBELE DE ANDRADE MENDES DE AZEVEDO | D65: =IFERROR(__xludf.dummyfunction("""COMPUTED_VALUE"""),"26193078") -> 26193078 | E65: =IFERROR(__xludf.dummyfunction("""COMPUTED_VALUE"""),"INFANTIL 1") -> INFANTIL 1 | F65: =IFERROR(__xludf.dummyfunction("""COMPUTED_VALUE"""),"Integral") -> Integral | G65: =IFERROR(__xludf.dummyfunction("""COMPUTED_VALUE"""),"Comum") -> Comum | H65: =IFERROR(__xludf.dummyfunction("""COMPUTED_VALUE"""),"10") -> 10 | I65: =IFERROR(__xludf.dummyfunction("""COMPUTED_VALUE"""),"26042763377") -> 26042763377 | J65: =IFERROR(__xludf.dummyfunction("""COMPUTED_VALUE"""),"29/04/2026 15:44:18") -> 29/04/2026 15:44:18 | K65: =IFERROR(__xludf.dummyfunction("""COMPUTED_VALUE"""),"AYLA SOFIA CORREIA DE LIMA") -> AYLA SOFIA CORREIA DE LIMA | L65: =IFERROR(__xludf.dummyfunction("""COMPUTED_VALUE"""),"006.122.294-16") -> 006.122.294-16 | M65: =IFERROR(__xludf.dummyfunction("""COMPUTED_VALUE"""),"06/05/2025") -> 06/05/2025 | O65: =IFERROR(__xludf.dummyfunction("""COMPUTED_VALUE"""),"0") -> 0
B66: {=_xlfn.XLOOKUP(D66,Tabela_Dados_Esc_JAB_2026[INEP],Tabela_Dados_Esc_JAB_2026[REGIONAL],"NE",0)} -> REGIONAL 7 | C66: =IFERROR(__xludf.dummyfunction("""COMPUTED_VALUE"""),"CEMEI PROFESSORA CIBELE DE ANDRADE MENDES DE AZEVEDO") -> CEMEI PROFESSORA CIBELE DE ANDRADE MENDES DE AZEVEDO | D66: =IFERROR(__xludf.dummyfunction("""COMPUTED_VALUE"""),"26193078") -> 26193078 | E66: =IFERROR(__xludf.dummyfunction("""COMPUTED_VALUE"""),"INFANTIL 1") -> INFANTIL 1 | F66: =IFERROR(__xludf.dummyfunction("""COMPUTED_VALUE"""),"Integral") -> Integral | G66: =IFERROR(__xludf.dummyfunction("""COMPUTED_VALUE"""),"Comum") -> Comum | H66: =IFERROR(__xludf.dummyfunction("""COMPUTED_VALUE"""),"11") -> 11 | I66: =IFERROR(__xludf.dummyfunction("""COMPUTED_VALUE"""),"26052821025") -> 26052821025 | J66: =IFERROR(__xludf.dummyfunction("""COMPUTED_VALUE"""),"19/05/2026 10:34:49") -> 19/05/2026 10:34:49 | K66: =IFERROR(__xludf.dummyfunction("""COMPUTED_VALUE"""),"HARIEL CRUZ CAMPOS") -> HARIEL CRUZ CAMPOS | L66: =IFERROR(__xludf.dummyfunction("""COMPUTED_VALUE"""),"017.444.294-72") -> 017.444.294-72 | M66: =IFERROR(__xludf.dummyfunction("""COMPUTED_VALUE"""),"25/10/2025") -> 25/10/2025 | O66: =IFERROR(__xludf.dummyfunction("""COMPUTED_VALUE"""),"0") -> 0
B67: {=_xlfn.XLOOKUP(D67,Tabela_Dados_Esc_JAB_2026[INEP],Tabela_Dados_Esc_JAB_2026[REGIONAL],"NE",0)} -> REGIONAL 7 | C67: =IFERROR(__xludf.dummyfunction("""COMPUTED_VALUE"""),"CEMEI PROFESSORA CIBELE DE ANDRADE MENDES DE AZEVEDO") -> CEMEI PROFESSORA CIBELE DE ANDRADE MENDES DE AZEVEDO | D67: =IFERROR(__xludf.dummyfunction("""COMPUTED_VALUE"""),"26193078") -> 26193078 | E67: =IFERROR(__xludf.dummyfunction("""COMPUTED_VALUE"""),"INFANTIL 1") -> INFANTIL 1 | F67: =IFERROR(__xludf.dummyfunction("""COMPUTED_VALUE"""),"Integral") -> Integral | G67: =IFERROR(__xludf.dummyfunction("""COMPUTED_VALUE"""),"Comum") -> Comum | H67: =IFERROR(__xludf.dummyfunction("""COMPUTED_VALUE"""),"12") -> 12 | I67: =IFERROR(__xludf.dummyfunction("""COMPUTED_VALUE"""),"26052725257") -> 26052725257 | J67: =IFERROR(__xludf.dummyfunction("""COMPUTED_VALUE"""),"25/05/2026 18:01:52") -> 25/05/2026 18:01:52 | K67: =IFERROR(__xludf.dummyfunction("""COMPUTED_VALUE"""),"Naomi Uehara Alves da Silva") -> Naomi Uehara Alves da Silva | L67: =IFERROR(__xludf.dummyfunction("""COMPUTED_VALUE"""),"005.944.274-36") -> 005.944.274-36 | M67: =IFERROR(__xludf.dummyfunction("""COMPUTED_VALUE"""),"15/04/2025") -> 15/04/2025 | O67: =IFERROR(__xludf.dummyfunction("""COMPUTED_VALUE"""),"0") -> 0
B68: {=_xlfn.XLOOKUP(D68,Tabela_Dados_Esc_JAB_2026[INEP],Tabela_Dados_Esc_JAB_2026[REGIONAL],"NE",0)} -> REGIONAL 7 | C68: =IFERROR(__xludf.dummyfunction("""COMPUTED_VALUE"""),"CEMEI PROFESSORA CIBELE DE ANDRADE MENDES DE AZEVEDO") -> CEMEI PROFESSORA CIBELE DE ANDRADE MENDES DE AZEVEDO | D68: =IFERROR(__xludf.dummyfunction("""COMPUTED_VALUE"""),"26193078") -> 26193078 | E68: =IFERROR(__xludf.dummyfunction("""COMPUTED_VALUE"""),"INFANTIL 1") -> INFANTIL 1 | F68: =IFERROR(__xludf.dummyfunction("""COMPUTED_VALUE"""),"Integral") -> Integral | G68: =IFERROR(__xludf.dummyfunction("""COMPUTED_VALUE"""),"Comum") -> Comum | H68: =IFERROR(__xludf.dummyfunction("""COMPUTED_VALUE"""),"13") -> 13 | I68: =IFERROR(__xludf.dummyfunction("""COMPUTED_VALUE"""),"26072282371") -> 26072282371 | J68: =IFERROR(__xludf.dummyfunction("""COMPUTED_VALUE"""),"10/07/2026 10:10:23") -> 10/07/2026 10:10:23 | K68: =IFERROR(__xludf.dummyfunction("""COMPUTED_VALUE"""),"Cecília rafaelle de santana Ferreira") -> Cecília rafaelle de santana Ferreira | L68: =IFERROR(__xludf.dummyfunction("""COMPUTED_VALUE"""),"004.210.464-57") -> 004.210.464-57 | M68: =IFERROR(__xludf.dummyfunction("""COMPUTED_VALUE"""),"31/08/2024") -> 31/08/2024 | O68: =IFERROR(__xludf.dummyfunction("""COMPUTED_VALUE"""),"0") -> 0
B69: {=_xlfn.XLOOKUP(D69,Tabela_Dados_Esc_JAB_2026[INEP],Tabela_Dados_Esc_JAB_2026[REGIONAL],"NE",0)} -> REGIONAL 7 | C69: =IFERROR(__xludf.dummyfunction("""COMPUTED_VALUE"""),"CEMEI PROFESSORA CIBELE DE ANDRADE MENDES DE AZEVEDO") -> CEMEI PROFESSORA CIBELE DE ANDRADE MENDES DE AZEVEDO | D69: =IFERROR(__xludf.dummyfunction("""COMPUTED_VALUE"""),"26193078") -> 26193078 | E69: =IFERROR(__xludf.dummyfunction("""COMPUTED_VALUE"""),"INFANTIL 1") -> INFANTIL 1 | F69: =IFERROR(__xludf.dummyfunction("""COMPUTED_VALUE"""),"Integral") -> Integral | G69: =IFERROR(__xludf.dummyfunction("""COMPUTED_VALUE"""),"Comum") -> Comum | H69: =IFERROR(__xludf.dummyfunction("""COMPUTED_VALUE"""),"14") -> 14 | I69: =IFERROR(__xludf.dummyfunction("""COMPUTED_VALUE"""),"26082029442") -> 26082029442 | J69: =IFERROR(__xludf.dummyfunction("""COMPUTED_VALUE"""),"07/08/2026 09:49:30") -> 07/08/2026 09:49:30 | K69: =IFERROR(__xludf.dummyfunction("""COMPUTED_VALUE"""),"Pedro Mikael vieira da Silva") -> Pedro Mikael vieira da Silva | L69: =IFERROR(__xludf.dummyfunction("""COMPUTED_VALUE"""),"004.703.434-35") -> 004.703.434-35 | M69: =IFERROR(__xludf.dummyfunction("""COMPUTED_VALUE"""),"28/11/2024") -> 28/11/2024 | O69: =IFERROR(__xludf.dummyfunction("""COMPUTED_VALUE"""),"0") -> 0
B70: {=_xlfn.XLOOKUP(D70,Tabela_Dados_Esc_JAB_2026[INEP],Tabela_Dados_Esc_JAB_2026[REGIONAL],"NE",0)} -> REGIONAL 7 | C70: =IFERROR(__xludf.dummyfunction("""COMPUTED_VALUE"""),"CEMEI PROFESSORA CIBELE DE ANDRADE MENDES DE AZEVEDO") -> CEMEI PROFESSORA CIBELE DE ANDRADE MENDES DE AZEVEDO | D70: =IFERROR(__xludf.dummyfunction("""COMPUTED_VALUE"""),"26193078") -> 26193078 | E70: =IFERROR(__xludf.dummyfunction("""COMPUTED_VALUE"""),"INFANTIL 1") -> INFANTIL 1 | F70: =IFERROR(__xludf.dummyfunction("""COMPUTED_VALUE"""),"Integral") -> Integral | G70: =IFERROR(__xludf.dummyfunction("""COMPUTED_VALUE"""),"Comum") -> Comum | H70: =IFERROR(__xludf.dummyfunction("""COMPUTED_VALUE"""),"15") -> 15 | I70: =IFERROR(__xludf.dummyfunction("""COMPUTED_VALUE"""),"26082498938") -> 26082498938 | J70: =IFERROR(__xludf.dummyfunction("""COMPUTED_VALUE"""),"13/08/2026 11:11:04") -> 13/08/2026 11:11:04 | K70: =IFERROR(__xludf.dummyfunction("""COMPUTED_VALUE"""),"ANDRÉ LUIZ DE MELO SILVA") -> ANDRÉ LUIZ DE MELO SILVA | L70: =IFERROR(__xludf.dummyfunction("""COMPUTED_VALUE"""),"033.619.694-68") -> 033.619.694-68 | M70: =IFERROR(__xludf.dummyfunction("""COMPUTED_VALUE"""),"08/12/2025") -> 08/12/2025 | O70: =IFERROR(__xludf.dummyfunction("""COMPUTED_VALUE"""),"0") -> 0
B71: {=_xlfn.XLOOKUP(D71,Tabela_Dados_Esc_JAB_2026[INEP],Tabela_Dados_Esc_JAB_2026[REGIONAL],"NE",0)} -> REGIONAL 7 | C71: =IFERROR(__xludf.dummyfunction("""COMPUTED_VALUE"""),"CEMEI PROFESSORA CIBELE DE ANDRADE MENDES DE AZEVEDO") -> CEMEI PROFESSORA CIBELE DE ANDRADE MENDES DE AZEVEDO | D71: =IFERROR(__xludf.dummyfunction("""COMPUTED_VALUE"""),"26193078") -> 26193078 | E71: =IFERROR(__xludf.dummyfunction("""COMPUTED_VALUE"""),"INFANTIL 2") -> INFANTIL 2 | F71: =IFERROR(__xludf.dummyfunction("""COMPUTED_VALUE"""),"Integral") -> Integral | G71: =IFERROR(__xludf.dummyfunction("""COMPUTED_VALUE"""),"Comum") -> Comum | H71: =IFERROR(__xludf.dummyfunction("""COMPUTED_VALUE"""),"1") -> 1 | I71: =IFERROR(__xludf.dummyfunction("""COMPUTED_VALUE"""),"26052250558") -> 26052250558 | J71: =IFERROR(__xludf.dummyfunction("""COMPUTED_VALUE"""),"25/05/2026 18:09:35") -> 25/05/2026 18:09:35 | K71: =IFERROR(__xludf.dummyfunction("""COMPUTED_VALUE"""),"Anthony Gabriel Alves Teixeira da silva") -> Anthony Gabriel Alves Teixeira da silva | L71: =IFERROR(__xludf.dummyfunction("""COMPUTED_VALUE"""),"002.138.204-20") -> 002.138.204-20 | M71: =IFERROR(__xludf.dummyfunction("""COMPUTED_VALUE"""),"29/02/2024") -> 29/02/2024 | O71: =IFERROR(__xludf.dummyfunction("""COMPUTED_VALUE"""),"0") -> 0
B72: {=_xlfn.XLOOKUP(D72,Tabela_Dados_Esc_JAB_2026[INEP],Tabela_Dados_Esc_JAB_2026[REGIONAL],"NE",0)} -> REGIONAL 7 | C72: =IFERROR(__xludf.dummyfunction("""COMPUTED_VALUE"""),"CEMEI PROFESSORA CIBELE DE ANDRADE MENDES DE AZEVEDO") -> CEMEI PROFESSORA CIBELE DE ANDRADE MENDES DE AZEVEDO | D72: =IFERROR(__xludf.dummyfunction("""COMPUTED_VALUE"""),"26193078") -> 26193078 | E72: =IFERROR(__xludf.dummyfunction("""COMPUTED_VALUE"""),"INFANTIL 2") -> INFANTIL 2 | F72: =IFERROR(__xludf.dummyfunction("""COMPUTED_VALUE"""),"Integral") -> Integral | G72: =IFERROR(__xludf.dummyfunction("""COMPUTED_VALUE"""),"Comum") -> Comum | H72: =IFERROR(__xludf.dummyfunction("""COMPUTED_VALUE"""),"2") -> 2 | I72: =IFERROR(__xludf.dummyfunction("""COMPUTED_VALUE"""),"26072032928") -> 26072032928 | J72: =IFERROR(__xludf.dummyfunction("""COMPUTED_VALUE"""),"15/07/2026 09:23:39") -> 15/07/2026 09:23:39 | K72: =IFERROR(__xludf.dummyfunction("""COMPUTED_VALUE"""),"Kaue Leandro da Silva") -> Kaue Leandro da Silva | L72: =IFERROR(__xludf.dummyfunction("""COMPUTED_VALUE"""),"186.590.934-37") -> 186.590.934-37 | M72: =IFERROR(__xludf.dummyfunction("""COMPUTED_VALUE"""),"18/09/2023") -> 18/09/2023 | O72: =IFERROR(__xludf.dummyfunction("""COMPUTED_VALUE"""),"0") -> 0
B73: {=_xlfn.XLOOKUP(D73,Tabela_Dados_Esc_JAB_2026[INEP],Tabela_Dados_Esc_JAB_2026[REGIONAL],"NE",0)} -> REGIONAL 7 | C73: =IFERROR(__xludf.dummyfunction("""COMPUTED_VALUE"""),"CEMEI PROFESSORA CIBELE DE ANDRADE MENDES DE AZEVEDO") -> CEMEI PROFESSORA CIBELE DE ANDRADE MENDES DE AZEVEDO | D73: =IFERROR(__xludf.dummyfunction("""COMPUTED_VALUE"""),"26193078") -> 26193078 | E73: =IFERROR(__xludf.dummyfunction("""COMPUTED_VALUE"""),"INFANTIL 2") -> INFANTIL 2 | F73: =IFERROR(__xludf.dummyfunction("""COMPUTED_VALUE"""),"Integral") -> Integral | G73: =IFERROR(__xludf.dummyfunction("""COMPUTED_VALUE"""),"Comum") -> Comum | H73: =IFERROR(__xludf.dummyfunction("""COMPUTED_VALUE"""),"3") -> 3 | I73: =IFERROR(__xludf.dummyfunction("""COMPUTED_VALUE"""),"26072993270") -> 26072993270 | J73: =IFERROR(__xludf.dummyfunction("""COMPUTED_VALUE"""),"15/07/2026 09:23:44") -> 15/07/2026 09:23:44 | K73: =IFERROR(__xludf.dummyfunction("""COMPUTED_VALUE"""),"Miguel rhavi de Amorim") -> Miguel rhavi de Amorim | L73: =IFERROR(__xludf.dummyfunction("""COMPUTED_VALUE"""),"001.025.094-84") -> 001.025.094-84 | M73: =IFERROR(__xludf.dummyfunction("""COMPUTED_VALUE"""),"19/09/2023") -> 19/09/2023 | O73: =IFERROR(__xludf.dummyfunction("""COMPUTED_VALUE"""),"0") -> 0
B74: {=_xlfn.XLOOKUP(D74,Tabela_Dados_Esc_JAB_2026[INEP],Tabela_Dados_Esc_JAB_2026[REGIONAL],"NE",0)} -> REGIONAL 7 | C74: =IFERROR(__xludf.dummyfunction("""COMPUTED_VALUE"""),"CEMEI PROFESSORA CIBELE DE ANDRADE MENDES DE AZEVEDO") -> CEMEI PROFESSORA CIBELE DE ANDRADE MENDES DE AZEVEDO | D74: =IFERROR(__xludf.dummyfunction("""COMPUTED_VALUE"""),"26193078") -> 26193078 | E74: =IFERROR(__xludf.dummyfunction("""COMPUTED_VALUE"""),"INFANTIL 2") -> INFANTIL 2 | F74: =IFERROR(__xludf.dummyfunction("""COMPUTED_VALUE"""),"Integral") -> Integral | G74: =IFERROR(__xludf.dummyfunction("""COMPUTED_VALUE"""),"Comum") -> Comum | H74: =IFERROR(__xludf.dummyfunction("""COMPUTED_VALUE"""),"4") -> 4 | I74: =IFERROR(__xludf.dummyfunction("""COMPUTED_VALUE"""),"26082476540") -> 26082476540 | J74: =IFERROR(__xludf.dummyfunction("""COMPUTED_VALUE"""),"10/08/2026 08:46:38") -> 10/08/2026 08:46:38 | K74: =IFERROR(__xludf.dummyfunction("""COMPUTED_VALUE"""),"Maria Isadora França Gomes") -> Maria Isadora França Gomes | L74: =IFERROR(__xludf.dummyfunction("""COMPUTED_VALUE"""),"186.202.454-57") -> 186.202.454-57 | M74: =IFERROR(__xludf.dummyfunction("""COMPUTED_VALUE"""),"07/08/2023") -> 07/08/2023 | O74: =IFERROR(__xludf.dummyfunction("""COMPUTED_VALUE"""),"0") -> 0
B75: {=_xlfn.XLOOKUP(D75,Tabela_Dados_Esc_JAB_2026[INEP],Tabela_Dados_Esc_JAB_2026[REGIONAL],"NE",0)} -> REGIONAL 7 | C75: =IFERROR(__xludf.dummyfunction("""COMPUTED_VALUE"""),"CEMEI PROFESSORA CIBELE DE ANDRADE MENDES DE AZEVEDO") -> CEMEI PROFESSORA CIBELE DE ANDRADE MENDES DE AZEVEDO | D75: =IFERROR(__xludf.dummyfunction("""COMPUTED_VALUE"""),"26193078") -> 26193078 | E75: =IFERROR(__xludf.dummyfunction("""COMPUTED_VALUE"""),"INFANTIL 3") -> INFANTIL 3 | F75: =IFERROR(__xludf.dummyfunction("""COMPUTED_VALUE"""),"Integral") -> Integral | G75: =IFERROR(__xludf.dummyfunction("""COMPUTED_VALUE"""),"Comum") -> Comum | H75: =IFERROR(__xludf.dummyfunction("""COMPUTED_VALUE"""),"1") -> 1 | I75: =IFERROR(__xludf.dummyfunction("""COMPUTED_VALUE"""),"26032700341") -> 26032700341 | J75: =IFERROR(__xludf.dummyfunction("""COMPUTED_VALUE"""),"09/03/2026 13:36:35") -> 09/03/2026 13:36:35 | K75: =IFERROR(__xludf.dummyfunction("""COMPUTED_VALUE"""),"BRAYAN MENDES") -> BRAYAN MENDES | L75: =IFERROR(__xludf.dummyfunction("""COMPUTED_VALUE"""),"006.823.174-11") -> 006.823.174-11 | M75: =IFERROR(__xludf.dummyfunction("""COMPUTED_VALUE"""),"07/02/2023") -> 07/02/2023 | O75: =IFERROR(__xludf.dummyfunction("""COMPUTED_VALUE"""),"0") -> 0
B76: {=_xlfn.XLOOKUP(D76,Tabela_Dados_Esc_JAB_2026[INEP],Tabela_Dados_Esc_JAB_2026[REGIONAL],"NE",0)} -> REGIONAL 7 | C76: =IFERROR(__xludf.dummyfunction("""COMPUTED_VALUE"""),"CEMEI PROFESSORA CIBELE DE ANDRADE MENDES DE AZEVEDO") -> CEMEI PROFESSORA CIBELE DE ANDRADE MENDES DE AZEVEDO | D76: =IFERROR(__xludf.dummyfunction("""COMPUTED_VALUE"""),"26193078") -> 26193078 | E76: =IFERROR(__xludf.dummyfunction("""COMPUTED_VALUE"""),"INFANTIL 3") -> INFANTIL 3 | F76: =IFERROR(__xludf.dummyfunction("""COMPUTED_VALUE"""),"Integral") -> Integral | G76: =IFERROR(__xludf.dummyfunction("""COMPUTED_VALUE"""),"Comum") -> Comum | H76: =IFERROR(__xludf.dummyfunction("""COMPUTED_VALUE"""),"2") -> 2 | I76: =IFERROR(__xludf.dummyfunction("""COMPUTED_VALUE"""),"26042541417") -> 26042541417 | J76: =IFERROR(__xludf.dummyfunction("""COMPUTED_VALUE"""),"23/04/2026 10:57:36") -> 23/04/2026 10:57:36 | K76: =IFERROR(__xludf.dummyfunction("""COMPUTED_VALUE"""),"AYLLA VALENTINA SOUZA DOS SANTOS") -> AYLLA VALENTINA SOUZA DOS SANTOS | L76: =IFERROR(__xludf.dummyfunction("""COMPUTED_VALUE"""),"183.494.434-13") -> 183.494.434-13 | M76: =IFERROR(__xludf.dummyfunction("""COMPUTED_VALUE"""),"18/11/2022") -> 18/11/2022 | O76: =IFERROR(__xludf.dummyfunction("""COMPUTED_VALUE"""),"0") -> 0
B77: {=_xlfn.XLOOKUP(D77,Tabela_Dados_Esc_JAB_2026[INEP],Tabela_Dados_Esc_JAB_2026[REGIONAL],"NE",0)} -> REGIONAL 7 | C77: =IFERROR(__xludf.dummyfunction("""COMPUTED_VALUE"""),"CEMEI PROFESSORA CIBELE DE ANDRADE MENDES DE AZEVEDO") -> CEMEI PROFESSORA CIBELE DE ANDRADE MENDES DE AZEVEDO | D77: =IFERROR(__xludf.dummyfunction("""COMPUTED_VALUE"""),"26193078") -> 26193078 | E77: =IFERROR(__xludf.dummyfunction("""COMPUTED_VALUE"""),"INFANTIL 3") -> INFANTIL 3 | F77: =IFERROR(__xludf.dummyfunction("""COMPUTED_VALUE"""),"Integral") -> Integral | G77: =IFERROR(__xludf.dummyfunction("""COMPUTED_VALUE"""),"Comum") -> Comum | H77: =IFERROR(__xludf.dummyfunction("""COMPUTED_VALUE"""),"3") -> 3 | I77: =IFERROR(__xludf.dummyfunction("""COMPUTED_VALUE"""),"26052923727") -> 26052923727 | J77: =IFERROR(__xludf.dummyfunction("""COMPUTED_VALUE"""),"13/05/2026 10:59:27") -> 13/05/2026 10:59:27 | K77: =IFERROR(__xludf.dummyfunction("""COMPUTED_VALUE"""),"REBECA LUANA DA SILVA MILANEZ") -> REBECA LUANA DA SILVA MILANEZ | L77: =IFERROR(__xludf.dummyfunction("""COMPUTED_VALUE"""),"182.950.714-16") -> 182.950.714-16 | M77: =IFERROR(__xludf.dummyfunction("""COMPUTED_VALUE"""),"21/09/2022") -> 21/09/2022 | O77: =IFERROR(__xludf.dummyfunction("""COMPUTED_VALUE"""),"0") -> 0
B78: {=_xlfn.XLOOKUP(D78,Tabela_Dados_Esc_JAB_2026[INEP],Tabela_Dados_Esc_JAB_2026[REGIONAL],"NE",0)} -> REGIONAL 5 | C78: =IFERROR(__xludf.dummyfunction("""COMPUTED_VALUE"""),"CEMEI PROFESSORA LINDOMAR DOMINGOS DA SILVA ANJOS") -> CEMEI PROFESSORA LINDOMAR DOMINGOS DA SILVA ANJOS | D78: =IFERROR(__xludf.dummyfunction("""COMPUTED_VALUE"""),"26191296") -> 26191296 | E78: =IFERROR(__xludf.dummyfunction("""COMPUTED_VALUE"""),"INFANTIL 1") -> INFANTIL 1 | F78: =IFERROR(__xludf.dummyfunction("""COMPUTED_VALUE"""),"Integral") -> Integral | G78: =IFERROR(__xludf.dummyfunction("""COMPUTED_VALUE"""),"Comum") -> Comum | H78: =IFERROR(__xludf.dummyfunction("""COMPUTED_VALUE"""),"1") -> 1 | I78: =IFERROR(__xludf.dummyfunction("""COMPUTED_VALUE"""),"26012074592") -> 26012074592 | J78: =IFERROR(__xludf.dummyfunction("""COMPUTED_VALUE"""),"28/01/2026 08:08:37") -> 28/01/2026 08:08:37 | K78: =IFERROR(__xludf.dummyfunction("""COMPUTED_VALUE"""),"BRYAN ARTHUR COSTA SILVA") -> BRYAN ARTHUR COSTA SILVA | L78: =IFERROR(__xludf.dummyfunction("""COMPUTED_VALUE"""),"004.069.734-74") -> 004.069.734-74 | M78: =IFERROR(__xludf.dummyfunction("""COMPUTED_VALUE"""),"13/09/2024") -> 13/09/2024 | O78: =IFERROR(__xludf.dummyfunction("""COMPUTED_VALUE"""),"0") -> 0
B79: {=_xlfn.XLOOKUP(D79,Tabela_Dados_Esc_JAB_2026[INEP],Tabela_Dados_Esc_JAB_2026[REGIONAL],"NE",0)} -> REGIONAL 5 | C79: =IFERROR(__xludf.dummyfunction("""COMPUTED_VALUE"""),"CEMEI PROFESSORA LINDOMAR DOMINGOS DA SILVA ANJOS") -> CEMEI PROFESSORA LINDOMAR DOMINGOS DA SILVA ANJOS | D79: =IFERROR(__xludf.dummyfunction("""COMPUTED_VALUE"""),"26191296") -> 26191296 | E79: =IFERROR(__xludf.dummyfunction("""COMPUTED_VALUE"""),"INFANTIL 1") -> INFANTIL 1 | F79: =IFERROR(__xludf.dummyfunction("""COMPUTED_VALUE"""),"Integral") -> Integral | G79: =IFERROR(__xludf.dummyfunction("""COMPUTED_VALUE"""),"Comum") -> Comum | H79: =IFERROR(__xludf.dummyfunction("""COMPUTED_VALUE"""),"2") -> 2 | I79: =IFERROR(__xludf.dummyfunction("""COMPUTED_VALUE"""),"26012364070") -> 26012364070 | J79: =IFERROR(__xludf.dummyfunction("""COMPUTED_VALUE"""),"28/01/2026 08:11:25") -> 28/01/2026 08:11:25 | K79: =IFERROR(__xludf.dummyfunction("""COMPUTED_VALUE"""),"ANNA LIZ COSTA DA SILVA MOURA") -> ANNA LIZ COSTA DA SILVA MOURA | L79: =IFERROR(__xludf.dummyfunction("""COMPUTED_VALUE"""),"170.372.894-77") -> 170.372.894-77 | M79: =IFERROR(__xludf.dummyfunction("""COMPUTED_VALUE"""),"20/04/2024") -> 20/04/2024 | O79: =IFERROR(__xludf.dummyfunction("""COMPUTED_VALUE"""),"0") -> 0
B80: {=_xlfn.XLOOKUP(D80,Tabela_Dados_Esc_JAB_2026[INEP],Tabela_Dados_Esc_JAB_2026[REGIONAL],"NE",0)} -> REGIONAL 5 | C80: =IFERROR(__xludf.dummyfunction("""COMPUTED_VALUE"""),"CEMEI PROFESSORA LINDOMAR DOMINGOS DA SILVA ANJOS") -> CEMEI PROFESSORA LINDOMAR DOMINGOS DA SILVA ANJOS | D80: =IFERROR(__xludf.dummyfunction("""COMPUTED_VALUE"""),"26191296") -> 26191296 | E80: =IFERROR(__xludf.dummyfunction("""COMPUTED_VALUE"""),"INFANTIL 1") -> INFANTIL 1 | F80: =IFERROR(__xludf.dummyfunction("""COMPUTED_VALUE"""),"Integral") -> Integral | G80: =IFERROR(__xludf.dummyfunction("""COMPUTED_VALUE"""),"Comum") -> Comum | H80: =IFERROR(__xludf.dummyfunction("""COMPUTED_VALUE"""),"3") -> 3 | I80: =IFERROR(__xludf.dummyfunction("""COMPUTED_VALUE"""),"26012045456") -> 26012045456 | J80: =IFERROR(__xludf.dummyfunction("""COMPUTED_VALUE"""),"28/01/2026 08:13:45") -> 28/01/2026 08:13:45 | K80: =IFERROR(__xludf.dummyfunction("""COMPUTED_VALUE"""),"GEYSON LUCAS CABRAL DA SILVA") -> GEYSON LUCAS CABRAL DA SILVA | L80: =IFERROR(__xludf.dummyfunction("""COMPUTED_VALUE"""),"003.545.084-31") -> 003.545.084-31 | M80: =IFERROR(__xludf.dummyfunction("""COMPUTED_VALUE"""),"18/07/2024") -> 18/07/2024 | O80: =IFERROR(__xludf.dummyfunction("""COMPUTED_VALUE"""),"0") -> 0
B81: {=_xlfn.XLOOKUP(D81,Tabela_Dados_Esc_JAB_2026[INEP],Tabela_Dados_Esc_JAB_2026[REGIONAL],"NE",0)} -> REGIONAL 5 | C81: =IFERROR(__xludf.dummyfunction("""COMPUTED_VALUE"""),"CEMEI PROFESSORA LINDOMAR DOMINGOS DA SILVA ANJOS") -> CEMEI PROFESSORA LINDOMAR DOMINGOS DA SILVA ANJOS | D81: =IFERROR(__xludf.dummyfunction("""COMPUTED_VALUE"""),"26191296") -> 26191296 | E81: =IFERROR(__xludf.dummyfunction("""COMPUTED_VALUE"""),"INFANTIL 1") -> INFANTIL 1 | F81: =IFERROR(__xludf.dummyfunction("""COMPUTED_VALUE"""),"Integral") -> Integral | G81: =IFERROR(__xludf.dummyfunction("""COMPUTED_VALUE"""),"Comum") -> Comum | H81: =IFERROR(__xludf.dummyfunction("""COMPUTED_VALUE"""),"4") -> 4 | I81: =IFERROR(__xludf.dummyfunction("""COMPUTED_VALUE"""),"26012639313") -> 26012639313 | J81: =IFERROR(__xludf.dummyfunction("""COMPUTED_VALUE"""),"28/01/2026 08:25:22") -> 28/01/2026 08:25:22 | K81: =IFERROR(__xludf.dummyfunction("""COMPUTED_VALUE"""),"HELENA MAITÊ BARRETO DA SILVA") -> HELENA MAITÊ BARRETO DA SILVA | L81: =IFERROR(__xludf.dummyfunction("""COMPUTED_VALUE"""),"004.709.854-61") -> 004.709.854-61 | M81: =IFERROR(__xludf.dummyfunction("""COMPUTED_VALUE"""),"02/11/2024") -> 02/11/2024 | O81: =IFERROR(__xludf.dummyfunction("""COMPUTED_VALUE"""),"0") -> 0
B82: {=_xlfn.XLOOKUP(D82,Tabela_Dados_Esc_JAB_2026[INEP],Tabela_Dados_Esc_JAB_2026[REGIONAL],"NE",0)} -> REGIONAL 5 | C82: =IFERROR(__xludf.dummyfunction("""COMPUTED_VALUE"""),"CEMEI PROFESSORA LINDOMAR DOMINGOS DA SILVA ANJOS") -> CEMEI PROFESSORA LINDOMAR DOMINGOS DA SILVA ANJOS | D82: =IFERROR(__xludf.dummyfunction("""COMPUTED_VALUE"""),"26191296") -> 26191296 | E82: =IFERROR(__xludf.dummyfunction("""COMPUTED_VALUE"""),"INFANTIL 1") -> INFANTIL 1 | F82: =IFERROR(__xludf.dummyfunction("""COMPUTED_VALUE"""),"Integral") -> Integral | G82: =IFERROR(__xludf.dummyfunction("""COMPUTED_VALUE"""),"Comum") -> Comum | H82: =IFERROR(__xludf.dummyfunction("""COMPUTED_VALUE"""),"5") -> 5 | I82: =IFERROR(__xludf.dummyfunction("""COMPUTED_VALUE"""),"26012366685") -> 26012366685 | J82: =IFERROR(__xludf.dummyfunction("""COMPUTED_VALUE"""),"28/01/2026 09:18:21") -> 28/01/2026 09:18:21 | K82: =IFERROR(__xludf.dummyfunction("""COMPUTED_VALUE"""),"HELOISA FERREIRA MIRANDA DA SILVA") -> HELOISA FERREIRA MIRANDA DA SILVA | L82: =IFERROR(__xludf.dummyfunction("""COMPUTED_VALUE"""),"005.241.694-11") -> 005.241.694-11 | M82: =IFERROR(__xludf.dummyfunction("""COMPUTED_VALUE"""),"15/01/2025") -> 15/01/2025 | O82: =IFERROR(__xludf.dummyfunction("""COMPUTED_VALUE"""),"0") -> 0
B83: {=_xlfn.XLOOKUP(D83,Tabela_Dados_Esc_JAB_2026[INEP],Tabela_Dados_Esc_JAB_2026[REGIONAL],"NE",0)} -> REGIONAL 5 | C83: =IFERROR(__xludf.dummyfunction("""COMPUTED_VALUE"""),"CEMEI PROFESSORA LINDOMAR DOMINGOS DA SILVA ANJOS") -> CEMEI PROFESSORA LINDOMAR DOMINGOS DA SILVA ANJOS | D83: =IFERROR(__xludf.dummyfunction("""COMPUTED_VALUE"""),"26191296") -> 26191296 | E83: =IFERROR(__xludf.dummyfunction("""COMPUTED_VALUE"""),"INFANTIL 1") -> INFANTIL 1 | F83: =IFERROR(__xludf.dummyfunction("""COMPUTED_VALUE"""),"Integral") -> Integral | G83: =IFERROR(__xludf.dummyfunction("""COMPUTED_VALUE"""),"Comum") -> Comum | H83: =IFERROR(__xludf.dummyfunction("""COMPUTED_VALUE"""),"6") -> 6 | I83: =IFERROR(__xludf.dummyfunction("""COMPUTED_VALUE"""),"26012430062") -> 26012430062 | J83: =IFERROR(__xludf.dummyfunction("""COMPUTED_VALUE"""),"28/01/2026 09:33:11") -> 28/01/2026 09:33:11 | K83: =IFERROR(__xludf.dummyfunction("""COMPUTED_VALUE"""),"JASMYNE ELOISE DOS SANTOS") -> JASMYNE ELOISE DOS SANTOS | L83: =IFERROR(__xludf.dummyfunction("""COMPUTED_VALUE"""),"004.726.704-68") -> 004.726.704-68 | M83: =IFERROR(__xludf.dummyfunction("""COMPUTED_VALUE"""),"23/06/2024") -> 23/06/2024 | O83: =IFERROR(__xludf.dummyfunction("""COMPUTED_VALUE"""),"0") -> 0
B84: {=_xlfn.XLOOKUP(D84,Tabela_Dados_Esc_JAB_2026[INEP],Tabela_Dados_Esc_JAB_2026[REGIONAL],"NE",0)} -> REGIONAL 5 | C84: =IFERROR(__xludf.dummyfunction("""COMPUTED_VALUE"""),"CEMEI PROFESSORA LINDOMAR DOMINGOS DA SILVA ANJOS") -> CEMEI PROFESSORA LINDOMAR DOMINGOS DA SILVA ANJOS | D84: =IFERROR(__xludf.dummyfunction("""COMPUTED_VALUE"""),"26191296") -> 26191296 | E84: =IFERROR(__xludf.dummyfunction("""COMPUTED_VALUE"""),"INFANTIL 1") -> INFANTIL 1 | F84: =IFERROR(__xludf.dummyfunction("""COMPUTED_VALUE"""),"Integral") -> Integral | G84: =IFERROR(__xludf.dummyfunction("""COMPUTED_VALUE"""),"Comum") -> Comum | H84: =IFERROR(__xludf.dummyfunction("""COMPUTED_VALUE"""),"7") -> 7 | I84: =IFERROR(__xludf.dummyfunction("""COMPUTED_VALUE"""),"26012259894") -> 26012259894 | J84: =IFERROR(__xludf.dummyfunction("""COMPUTED_VALUE"""),"28/01/2026 09:38:34") -> 28/01/2026 09:38:34 | K84: =IFERROR(__xludf.dummyfunction("""COMPUTED_VALUE"""),"ALEF GABRIEL FERREIRA SALES") -> ALEF GABRIEL FERREIRA SALES | L84: =IFERROR(__xludf.dummyfunction("""COMPUTED_VALUE"""),"003.127.374-24") -> 003.127.374-24 | M84: =IFERROR(__xludf.dummyfunction("""COMPUTED_VALUE"""),"31/05/2024") -> 31/05/2024 | O84: =IFERROR(__xludf.dummyfunction("""COMPUTED_VALUE"""),"0") -> 0
B85: {=_xlfn.XLOOKUP(D85,Tabela_Dados_Esc_JAB_2026[INEP],Tabela_Dados_Esc_JAB_2026[REGIONAL],"NE",0)} -> REGIONAL 5 | C85: =IFERROR(__xludf.dummyfunction("""COMPUTED_VALUE"""),"CEMEI PROFESSORA LINDOMAR DOMINGOS DA SILVA ANJOS") -> CEMEI PROFESSORA LINDOMAR DOMINGOS DA SILVA ANJOS | D85: =IFERROR(__xludf.dummyfunction("""COMPUTED_VALUE"""),"26191296") -> 26191296 | E85: =IFERROR(__xludf.dummyfunction("""COMPUTED_VALUE"""),"INFANTIL 1") -> INFANTIL 1 | F85: =IFERROR(__xludf.dummyfunction("""COMPUTED_VALUE"""),"Integral") -> Integral | G85: =IFERROR(__xludf.dummyfunction("""COMPUTED_VALUE"""),"Comum") -> Comum | H85: =IFERROR(__xludf.dummyfunction("""COMPUTED_VALUE"""),"8") -> 8 | I85: =IFERROR(__xludf.dummyfunction("""COMPUTED_VALUE"""),"26012275379") -> 26012275379 | J85: =IFERROR(__xludf.dummyfunction("""COMPUTED_VALUE"""),"28/01/2026 10:45:36") -> 28/01/2026 10:45:36 | K85: =IFERROR(__xludf.dummyfunction("""COMPUTED_VALUE"""),"THEO MENDES DA SILVA") -> THEO MENDES DA SILVA | L85: =IFERROR(__xludf.dummyfunction("""COMPUTED_VALUE"""),"004.687.804-16") -> 004.687.804-16 | M85: =IFERROR(__xludf.dummyfunction("""COMPUTED_VALUE"""),"25/11/2024") -> 25/11/2024 | O85: =IFERROR(__xludf.dummyfunction("""COMPUTED_VALUE"""),"0") -> 0
B86: {=_xlfn.XLOOKUP(D86,Tabela_Dados_Esc_JAB_2026[INEP],Tabela_Dados_Esc_JAB_2026[REGIONAL],"NE",0)} -> REGIONAL 5 | C86: =IFERROR(__xludf.dummyfunction("""COMPUTED_VALUE"""),"CEMEI PROFESSORA LINDOMAR DOMINGOS DA SILVA ANJOS") -> CEMEI PROFESSORA LINDOMAR DOMINGOS DA SILVA ANJOS | D86: =IFERROR(__xludf.dummyfunction("""COMPUTED_VALUE"""),"26191296") -> 26191296 | E86: =IFERROR(__xludf.dummyfunction("""COMPUTED_VALUE"""),"INFANTIL 1") -> INFANTIL 1 | F86: =IFERROR(__xludf.dummyfunction("""COMPUTED_VALUE"""),"Integral") -> Integral | G86: =IFERROR(__xludf.dummyfunction("""COMPUTED_VALUE"""),"Comum") -> Comum | H86: =IFERROR(__xludf.dummyfunction("""COMPUTED_VALUE"""),"9") -> 9 | I86: =IFERROR(__xludf.dummyfunction("""COMPUTED_VALUE"""),"26012592427") -> 26012592427 | J86: =IFERROR(__xludf.dummyfunction("""COMPUTED_VALUE"""),"28/01/2026 12:49:55") -> 28/01/2026 12:49:55 | K86: =IFERROR(__xludf.dummyfunction("""COMPUTED_VALUE"""),"KAYLLANY CECÍLIA FEITOZA SANTOS DA SILVA") -> KAYLLANY CECÍLIA FEITOZA SANTOS DA SILVA | L86: =IFERROR(__xludf.dummyfunction("""COMPUTED_VALUE"""),"004.046.764-30") -> 004.046.764-30 | M86: =IFERROR(__xludf.dummyfunction("""COMPUTED_VALUE"""),"10/09/2024") -> 10/09/2024 | O86: =IFERROR(__xludf.dummyfunction("""COMPUTED_VALUE"""),"0") -> 0
B87: {=_xlfn.XLOOKUP(D87,Tabela_Dados_Esc_JAB_2026[INEP],Tabela_Dados_Esc_JAB_2026[REGIONAL],"NE",0)} -> REGIONAL 5 | C87: =IFERROR(__xludf.dummyfunction("""COMPUTED_VALUE"""),"CEMEI PROFESSORA LINDOMAR DOMINGOS DA SILVA ANJOS") -> CEMEI PROFESSORA LINDOMAR DOMINGOS DA SILVA ANJOS | D87: =IFERROR(__xludf.dummyfunction("""COMPUTED_VALUE"""),"26191296") -> 26191296 | E87: =IFERROR(__xludf.dummyfunction("""COMPUTED_VALUE"""),"INFANTIL 1") -> INFANTIL 1 | F87: =IFERROR(__xludf.dummyfunction("""COMPUTED_VALUE"""),"Integral") -> Integral | G87: =IFERROR(__xludf.dummyfunction("""COMPUTED_VALUE"""),"Comum") -> Comum | H87: =IFERROR(__xludf.dummyfunction("""COMPUTED_VALUE"""),"10") -> 10 | I87: =IFERROR(__xludf.dummyfunction("""COMPUTED_VALUE"""),"26012985200") -> 26012985200 | J87: =IFERROR(__xludf.dummyfunction("""COMPUTED_VALUE"""),"28/01/2026 20:34:21") -> 28/01/2026 20:34:21 | K87: =IFERROR(__xludf.dummyfunction("""COMPUTED_VALUE"""),"LUNNA HÊLOA PINHEIRO DOS SANTOS") -> LUNNA HÊLOA PINHEIRO DOS SANTOS | L87: =IFERROR(__xludf.dummyfunction("""COMPUTED_VALUE"""),"002.535.554-69") -> 002.535.554-69 | M87: =IFERROR(__xludf.dummyfunction("""COMPUTED_VALUE"""),"01/04/2024") -> 01/04/2024 | O87: =IFERROR(__xludf.dummyfunction("""COMPUTED_VALUE"""),"0") -> 0
B88: {=_xlfn.XLOOKUP(D88,Tabela_Dados_Esc_JAB_2026[INEP],Tabela_Dados_Esc_JAB_2026[REGIONAL],"NE",0)} -> REGIONAL 5 | C88: =IFERROR(__xludf.dummyfunction("""COMPUTED_VALUE"""),"CEMEI PROFESSORA LINDOMAR DOMINGOS DA SILVA ANJOS") -> CEMEI PROFESSORA LINDOMAR DOMINGOS DA SILVA ANJOS | D88: =IFERROR(__xludf.dummyfunction("""COMPUTED_VALUE"""),"26191296") -> 26191296 | E88: =IFERROR(__xludf.dummyfunction("""COMPUTED_VALUE"""),"INFANTIL 1") -> INFANTIL 1 | F88: =IFERROR(__xludf.dummyfunction("""COMPUTED_VALUE"""),"Integral") -> Integral | G88: =IFERROR(__xludf.dummyfunction("""COMPUTED_VALUE"""),"Comum") -> Comum | H88: =IFERROR(__xludf.dummyfunction("""COMPUTED_VALUE"""),"11") -> 11 | I88: =IFERROR(__xludf.dummyfunction("""COMPUTED_VALUE"""),"26022123883") -> 26022123883 | J88: =IFERROR(__xludf.dummyfunction("""COMPUTED_VALUE"""),"06/02/2026 14:12:06") -> 06/02/2026 14:12:06 | K88: =IFERROR(__xludf.dummyfunction("""COMPUTED_VALUE"""),"VIVIANE MARIA DE SANTANA FERREIRA") -> VIVIANE MARIA DE SANTANA FERREIRA | L88: =IFERROR(__xludf.dummyfunction("""COMPUTED_VALUE"""),"003.219.974-09") -> 003.219.974-09 | M88: =IFERROR(__xludf.dummyfunction("""COMPUTED_VALUE"""),"16/04/2024") -> 16/04/2024 | O88: =IFERROR(__xludf.dummyfunction("""COMPUTED_VALUE"""),"0") -> 0
B89: {=_xlfn.XLOOKUP(D89,Tabela_Dados_Esc_JAB_2026[INEP],Tabela_Dados_Esc_JAB_2026[REGIONAL],"NE",0)} -> REGIONAL 5 | C89: =IFERROR(__xludf.dummyfunction("""COMPUTED_VALUE"""),"CEMEI PROFESSORA LINDOMAR DOMINGOS DA SILVA ANJOS") -> CEMEI PROFESSORA LINDOMAR DOMINGOS DA SILVA ANJOS | D89: =IFERROR(__xludf.dummyfunction("""COMPUTED_VALUE"""),"26191296") -> 26191296 | E89: =IFERROR(__xludf.dummyfunction("""COMPUTED_VALUE"""),"INFANTIL 1") -> INFANTIL 1 | F89: =IFERROR(__xludf.dummyfunction("""COMPUTED_VALUE"""),"Integral") -> Integral | G89: =IFERROR(__xludf.dummyfunction("""COMPUTED_VALUE"""),"Comum") -> Comum | H89: =IFERROR(__xludf.dummyfunction("""COMPUTED_VALUE"""),"12") -> 12 | I89: =IFERROR(__xludf.dummyfunction("""COMPUTED_VALUE"""),"26022140859") -> 26022140859 | J89: =IFERROR(__xludf.dummyfunction("""COMPUTED_VALUE"""),"11/02/2026 09:26:12") -> 11/02/2026 09:26:12 | K89: =IFERROR(__xludf.dummyfunction("""COMPUTED_VALUE"""),"KAUANY ISABELLE DA SILVA SANTOS") -> KAUANY ISABELLE DA SILVA SANTOS | L89: =IFERROR(__xludf.dummyfunction("""COMPUTED_VALUE"""),"004.058.404-62") -> 004.058.404-62 | M89: =IFERROR(__xludf.dummyfunction("""COMPUTED_VALUE"""),"13/09/2024") -> 13/09/2024 | O89: =IFERROR(__xludf.dummyfunction("""COMPUTED_VALUE"""),"0") -> 0
B90: {=_xlfn.XLOOKUP(D90,Tabela_Dados_Esc_JAB_2026[INEP],Tabela_Dados_Esc_JAB_2026[REGIONAL],"NE",0)} -> REGIONAL 5 | C90: =IFERROR(__xludf.dummyfunction("""COMPUTED_VALUE"""),"CEMEI PROFESSORA LINDOMAR DOMINGOS DA SILVA ANJOS") -> CEMEI PROFESSORA LINDOMAR DOMINGOS DA SILVA ANJOS | D90: =IFERROR(__xludf.dummyfunction("""COMPUTED_VALUE"""),"26191296") -> 26191296 | E90: =IFERROR(__xludf.dummyfunction("""COMPUTED_VALUE"""),"INFANTIL 1") -> INFANTIL 1 | F90: =IFERROR(__xludf.dummyfunction("""COMPUTED_VALUE"""),"Integral") -> Integral | G90: =IFERROR(__xludf.dummyfunction("""COMPUTED_VALUE"""),"Comum") -> Comum | H90: =IFERROR(__xludf.dummyfunction("""COMPUTED_VALUE"""),"13") -> 13 | I90: =IFERROR(__xludf.dummyfunction("""COMPUTED_VALUE"""),"26022959951") -> 26022959951 | J90: =IFERROR(__xludf.dummyfunction("""COMPUTED_VALUE"""),"26/02/2026 23:54:06") -> 26/02/2026 23:54:06 | K90: =IFERROR(__xludf.dummyfunction("""COMPUTED_VALUE"""),"ARTHUR MIGUEL DOS SANTOS ROCHA") -> ARTHUR MIGUEL DOS SANTOS ROCHA | L90: =IFERROR(__xludf.dummyfunction("""COMPUTED_VALUE"""),"005.161.924-50") -> 005.161.924-50 | M90: =IFERROR(__xludf.dummyfunction("""COMPUTED_VALUE"""),"21/01/2025") -> 21/01/2025 | O90: =IFERROR(__xludf.dummyfunction("""COMPUTED_VALUE"""),"0") -> 0
B91: {=_xlfn.XLOOKUP(D91,Tabela_Dados_Esc_JAB_2026[INEP],Tabela_Dados_Esc_JAB_2026[REGIONAL],"NE",0)} -> REGIONAL 5 | C91: =IFERROR(__xludf.dummyfunction("""COMPUTED_VALUE"""),"CEMEI PROFESSORA LINDOMAR DOMINGOS DA SILVA ANJOS") -> CEMEI PROFESSORA LINDOMAR DOMINGOS DA SILVA ANJOS | D91: =IFERROR(__xludf.dummyfunction("""COMPUTED_VALUE"""),"26191296") -> 26191296 | E91: =IFERROR(__xludf.dummyfunction("""COMPUTED_VALUE"""),"INFANTIL 1") -> INFANTIL 1 | F91: =IFERROR(__xludf.dummyfunction("""COMPUTED_VALUE"""),"Integral") -> Integral | G91: =IFERROR(__xludf.dummyfunction("""COMPUTED_VALUE"""),"Comum") -> Comum | H91: =IFERROR(__xludf.dummyfunction("""COMPUTED_VALUE"""),"14") -> 14 | I91: =IFERROR(__xludf.dummyfunction("""COMPUTED_VALUE"""),"26032017118") -> 26032017118 | J91: =IFERROR(__xludf.dummyfunction("""COMPUTED_VALUE"""),"03/03/2026 13:59:55") -> 03/03/2026 13:59:55 | K91: =IFERROR(__xludf.dummyfunction("""COMPUTED_VALUE"""),"GAEL ANTÔNIO DEODATO DE MEDEIROS") -> GAEL ANTÔNIO DEODATO DE MEDEIROS | L91: =IFERROR(__xludf.dummyfunction("""COMPUTED_VALUE"""),"005.879.454-94") -> 005.879.454-94 | M91: =IFERROR(__xludf.dummyfunction("""COMPUTED_VALUE"""),"05/04/2025") -> 05/04/2025 | O91: =IFERROR(__xludf.dummyfunction("""COMPUTED_VALUE"""),"0") -> 0
B92: {=_xlfn.XLOOKUP(D92,Tabela_Dados_Esc_JAB_2026[INEP],Tabela_Dados_Esc_JAB_2026[REGIONAL],"NE",0)} -> REGIONAL 5 | C92: =IFERROR(__xludf.dummyfunction("""COMPUTED_VALUE"""),"CEMEI PROFESSORA LINDOMAR DOMINGOS DA SILVA ANJOS") -> CEMEI PROFESSORA LINDOMAR DOMINGOS DA SILVA ANJOS | D92: =IFERROR(__xludf.dummyfunction("""COMPUTED_VALUE"""),"26191296") -> 26191296 | E92: =IFERROR(__xludf.dummyfunction("""COMPUTED_VALUE"""),"INFANTIL 1") -> INFANTIL 1 | F92: =IFERROR(__xludf.dummyfunction("""COMPUTED_VALUE"""),"Integral") -> Integral | G92: =IFERROR(__xludf.dummyfunction("""COMPUTED_VALUE"""),"Comum") -> Comum | H92: =IFERROR(__xludf.dummyfunction("""COMPUTED_VALUE"""),"15") -> 15 | I92: =IFERROR(__xludf.dummyfunction("""COMPUTED_VALUE"""),"26032086833") -> 26032086833 | J92: =IFERROR(__xludf.dummyfunction("""COMPUTED_VALUE"""),"04/03/2026 10:32:01") -> 04/03/2026 10:32:01 | K92: =IFERROR(__xludf.dummyfunction("""COMPUTED_VALUE"""),"NOAH DANIEL MEDEIROS DA SILVA") -> NOAH DANIEL MEDEIROS DA SILVA | L92: =IFERROR(__xludf.dummyfunction("""COMPUTED_VALUE"""),"006.309.024-45") -> 006.309.024-45 | M92: =IFERROR(__xludf.dummyfunction("""COMPUTED_VALUE"""),"21/05/2025") -> 21/05/2025 | O92: =IFERROR(__xludf.dummyfunction("""COMPUTED_VALUE"""),"0") -> 0
B93: {=_xlfn.XLOOKUP(D93,Tabela_Dados_Esc_JAB_2026[INEP],Tabela_Dados_Esc_JAB_2026[REGIONAL],"NE",0)} -> REGIONAL 5 | C93: =IFERROR(__xludf.dummyfunction("""COMPUTED_VALUE"""),"CEMEI PROFESSORA LINDOMAR DOMINGOS DA SILVA ANJOS") -> CEMEI PROFESSORA LINDOMAR DOMINGOS DA SILVA ANJOS | D93: =IFERROR(__xludf.dummyfunction("""COMPUTED_VALUE"""),"26191296") -> 26191296 | E93: =IFERROR(__xludf.dummyfunction("""COMPUTED_VALUE"""),"INFANTIL 1") -> INFANTIL 1 | F93: =IFERROR(__xludf.dummyfunction("""COMPUTED_VALUE"""),"Integral") -> Integral | G93: =IFERROR(__xludf.dummyfunction("""COMPUTED_VALUE"""),"Comum") -> Comum | H93: =IFERROR(__xludf.dummyfunction("""COMPUTED_VALUE"""),"16") -> 16 | I93: =IFERROR(__xludf.dummyfunction("""COMPUTED_VALUE"""),"26032205282") -> 26032205282 | J93: =IFERROR(__xludf.dummyfunction("""COMPUTED_VALUE"""),"23/03/2026 12:35:29") -> 23/03/2026 12:35:29 | K93: =IFERROR(__xludf.dummyfunction("""COMPUTED_VALUE"""),"RAVI GABRIEL DA ROCHA PRAEIRO") -> RAVI GABRIEL DA ROCHA PRAEIRO | L93: =IFERROR(__xludf.dummyfunction("""COMPUTED_VALUE"""),"022.291.614-15") -> 022.291.614-15 | M93: =IFERROR(__xludf.dummyfunction("""COMPUTED_VALUE"""),"07/11/2025") -> 07/11/2025 | O93: =IFERROR(__xludf.dummyfunction("""COMPUTED_VALUE"""),"0") -> 0
B94: {=_xlfn.XLOOKUP(D94,Tabela_Dados_Esc_JAB_2026[INEP],Tabela_Dados_Esc_JAB_2026[REGIONAL],"NE",0)} -> REGIONAL 5 | C94: =IFERROR(__xludf.dummyfunction("""COMPUTED_VALUE"""),"CEMEI PROFESSORA LINDOMAR DOMINGOS DA SILVA ANJOS") -> CEMEI PROFESSORA LINDOMAR DOMINGOS DA SILVA ANJOS | D94: =IFERROR(__xludf.dummyfunction("""COMPUTED_VALUE"""),"26191296") -> 26191296 | E94: =IFERROR(__xludf.dummyfunction("""COMPUTED_VALUE"""),"INFANTIL 1") -> INFANTIL 1 | F94: =IFERROR(__xludf.dummyfunction("""COMPUTED_VALUE"""),"Integral") -> Integral | G94: =IFERROR(__xludf.dummyfunction("""COMPUTED_VALUE"""),"Comum") -> Comum | H94: =IFERROR(__xludf.dummyfunction("""COMPUTED_VALUE"""),"17") -> 17 | I94: =IFERROR(__xludf.dummyfunction("""COMPUTED_VALUE"""),"26032492374") -> 26032492374 | J94: =IFERROR(__xludf.dummyfunction("""COMPUTED_VALUE"""),"30/03/2026 09:26:51") -> 30/03/2026 09:26:51 | K94: =IFERROR(__xludf.dummyfunction("""COMPUTED_VALUE"""),"FRANCISCO CAVALCANTI MAGALHÃES") -> FRANCISCO CAVALCANTI MAGALHÃES | L94: =IFERROR(__xludf.dummyfunction("""COMPUTED_VALUE"""),"027.792.694-72") -> 027.792.694-72 | M94: =IFERROR(__xludf.dummyfunction("""COMPUTED_VALUE"""),"26/11/2025") -> 26/11/2025 | O94: =IFERROR(__xludf.dummyfunction("""COMPUTED_VALUE"""),"0") -> 0
B95: {=_xlfn.XLOOKUP(D95,Tabela_Dados_Esc_JAB_2026[INEP],Tabela_Dados_Esc_JAB_2026[REGIONAL],"NE",0)} -> REGIONAL 5 | C95: =IFERROR(__xludf.dummyfunction("""COMPUTED_VALUE"""),"CEMEI PROFESSORA LINDOMAR DOMINGOS DA SILVA ANJOS") -> CEMEI PROFESSORA LINDOMAR DOMINGOS DA SILVA ANJOS | D95: =IFERROR(__xludf.dummyfunction("""COMPUTED_VALUE"""),"26191296") -> 26191296 | E95: =IFERROR(__xludf.dummyfunction("""COMPUTED_VALUE"""),"INFANTIL 1") -> INFANTIL 1 | F95: =IFERROR(__xludf.dummyfunction("""COMPUTED_VALUE"""),"Integral") -> Integral | G95: =IFERROR(__xludf.dummyfunction("""COMPUTED_VALUE"""),"Comum") -> Comum | H95: =IFERROR(__xludf.dummyfunction("""COMPUTED_VALUE"""),"18") -> 18 | I95: =IFERROR(__xludf.dummyfunction("""COMPUTED_VALUE"""),"26042496733") -> 26042496733 | J95: =IFERROR(__xludf.dummyfunction("""COMPUTED_VALUE"""),"01/04/2026 11:07:18") -> 01/04/2026 11:07:18 | K95: =IFERROR(__xludf.dummyfunction("""COMPUTED_VALUE"""),"MARIA ISADORA SANTOS SEVERO") -> MARIA ISADORA SANTOS SEVERO | L95: =IFERROR(__xludf.dummyfunction("""COMPUTED_VALUE"""),"054.059.888-71") -> 054.059.888-71 | M95: =IFERROR(__xludf.dummyfunction("""COMPUTED_VALUE"""),"03/09/2024") -> 03/09/2024 | O95: =IFERROR(__xludf.dummyfunction("""COMPUTED_VALUE"""),"0") -> 0
B96: {=_xlfn.XLOOKUP(D96,Tabela_Dados_Esc_JAB_2026[INEP],Tabela_Dados_Esc_JAB_2026[REGIONAL],"NE",0)} -> REGIONAL 5 | C96: =IFERROR(__xludf.dummyfunction("""COMPUTED_VALUE"""),"CEMEI PROFESSORA LINDOMAR DOMINGOS DA SILVA ANJOS") -> CEMEI PROFESSORA LINDOMAR DOMINGOS DA SILVA ANJOS | D96: =IFERROR(__xludf.dummyfunction("""COMPUTED_VALUE"""),"26191296") -> 26191296 | E96: =IFERROR(__xludf.dummyfunction("""COMPUTED_VALUE"""),"INFANTIL 1") -> INFANTIL 1 | F96: =IFERROR(__xludf.dummyfunction("""COMPUTED_VALUE"""),"Integral") -> Integral | G96: =IFERROR(__xludf.dummyfunction("""COMPUTED_VALUE"""),"Comum") -> Comum | H96: =IFERROR(__xludf.dummyfunction("""COMPUTED_VALUE"""),"19") -> 19 | I96: =IFERROR(__xludf.dummyfunction("""COMPUTED_VALUE"""),"26042315280") -> 26042315280 | J96: =IFERROR(__xludf.dummyfunction("""COMPUTED_VALUE"""),"08/04/2026 16:32:34") -> 08/04/2026 16:32:34 | K96: =IFERROR(__xludf.dummyfunction("""COMPUTED_VALUE"""),"MATTEO BERNARDO MONTEIRO ARAÚJO") -> MATTEO BERNARDO MONTEIRO ARAÚJO | L96: =IFERROR(__xludf.dummyfunction("""COMPUTED_VALUE"""),"005.825.614-85") -> 005.825.614-85 | M96: =IFERROR(__xludf.dummyfunction("""COMPUTED_VALUE"""),"01/04/2025") -> 01/04/2025 | O96: =IFERROR(__xludf.dummyfunction("""COMPUTED_VALUE"""),"0") -> 0
B97: {=_xlfn.XLOOKUP(D97,Tabela_Dados_Esc_JAB_2026[INEP],Tabela_Dados_Esc_JAB_2026[REGIONAL],"NE",0)} -> REGIONAL 5 | C97: =IFERROR(__xludf.dummyfunction("""COMPUTED_VALUE"""),"CEMEI PROFESSORA LINDOMAR DOMINGOS DA SILVA ANJOS") -> CEMEI PROFESSORA LINDOMAR DOMINGOS DA SILVA ANJOS | D97: =IFERROR(__xludf.dummyfunction("""COMPUTED_VALUE"""),"26191296") -> 26191296 | E97: =IFERROR(__xludf.dummyfunction("""COMPUTED_VALUE"""),"INFANTIL 1") -> INFANTIL 1 | F97: =IFERROR(__xludf.dummyfunction("""COMPUTED_VALUE"""),"Integral") -> Integral | G97: =IFERROR(__xludf.dummyfunction("""COMPUTED_VALUE"""),"Comum") -> Comum | H97: =IFERROR(__xludf.dummyfunction("""COMPUTED_VALUE"""),"20") -> 20 | I97: =IFERROR(__xludf.dummyfunction("""COMPUTED_VALUE"""),"26042811161") -> 26042811161 | J97: =IFERROR(__xludf.dummyfunction("""COMPUTED_VALUE"""),"15/04/2026 13:07:53") -> 15/04/2026 13:07:53 | K97: =IFERROR(__xludf.dummyfunction("""COMPUTED_VALUE"""),"HADASSA ROSA MACIEL") -> HADASSA ROSA MACIEL | L97: =IFERROR(__xludf.dummyfunction("""COMPUTED_VALUE"""),"007.185.654-44") -> 007.185.654-44 | M97: =IFERROR(__xludf.dummyfunction("""COMPUTED_VALUE"""),"30/08/2025") -> 30/08/2025 | O97: =IFERROR(__xludf.dummyfunction("""COMPUTED_VALUE"""),"0") -> 0
B98: {=_xlfn.XLOOKUP(D98,Tabela_Dados_Esc_JAB_2026[INEP],Tabela_Dados_Esc_JAB_2026[REGIONAL],"NE",0)} -> REGIONAL 5 | C98: =IFERROR(__xludf.dummyfunction("""COMPUTED_VALUE"""),"CEMEI PROFESSORA LINDOMAR DOMINGOS DA SILVA ANJOS") -> CEMEI PROFESSORA LINDOMAR DOMINGOS DA SILVA ANJOS | D98: =IFERROR(__xludf.dummyfunction("""COMPUTED_VALUE"""),"26191296") -> 26191296 | E98: =IFERROR(__xludf.dummyfunction("""COMPUTED_VALUE"""),"INFANTIL 1") -> INFANTIL 1 | F98: =IFERROR(__xludf.dummyfunction("""COMPUTED_VALUE"""),"Integral") -> Integral | G98: =IFERROR(__xludf.dummyfunction("""COMPUTED_VALUE"""),"Comum") -> Comum | H98: =IFERROR(__xludf.dummyfunction("""COMPUTED_VALUE"""),"21") -> 21 | I98: =IFERROR(__xludf.dummyfunction("""COMPUTED_VALUE"""),"26052053717") -> 26052053717 | J98: =IFERROR(__xludf.dummyfunction("""COMPUTED_VALUE"""),"04/05/2026 10:11:49") -> 04/05/2026 10:11:49 | K98: =IFERROR(__xludf.dummyfunction("""COMPUTED_VALUE"""),"MATTEO ALEJANDRO DE ARAÚJO ESCOBAR") -> MATTEO ALEJANDRO DE ARAÚJO ESCOBAR | L98: =IFERROR(__xludf.dummyfunction("""COMPUTED_VALUE"""),"005.682.884-59") -> 005.682.884-59 | M98: =IFERROR(__xludf.dummyfunction("""COMPUTED_VALUE"""),"11/03/2025") -> 11/03/2025 | O98: =IFERROR(__xludf.dummyfunction("""COMPUTED_VALUE"""),"0") -> 0
B99: {=_xlfn.XLOOKUP(D99,Tabela_Dados_Esc_JAB_2026[INEP],Tabela_Dados_Esc_JAB_2026[REGIONAL],"NE",0)} -> REGIONAL 5 | C99: =IFERROR(__xludf.dummyfunction("""COMPUTED_VALUE"""),"CEMEI PROFESSORA LINDOMAR DOMINGOS DA SILVA ANJOS") -> CEMEI PROFESSORA LINDOMAR DOMINGOS DA SILVA ANJOS | D99: =IFERROR(__xludf.dummyfunction("""COMPUTED_VALUE"""),"26191296") -> 26191296 | E99: =IFERROR(__xludf.dummyfunction("""COMPUTED_VALUE"""),"INFANTIL 1") -> INFANTIL 1 | F99: =IFERROR(__xludf.dummyfunction("""COMPUTED_VALUE"""),"Integral") -> Integral | G99: =IFERROR(__xludf.dummyfunction("""COMPUTED_VALUE"""),"Comum") -> Comum | H99: =IFERROR(__xludf.dummyfunction("""COMPUTED_VALUE"""),"22") -> 22 | I99: =IFERROR(__xludf.dummyfunction("""COMPUTED_VALUE"""),"26052501651") -> 26052501651 | J99: =IFERROR(__xludf.dummyfunction("""COMPUTED_VALUE"""),"15/05/2026 11:54:29") -> 15/05/2026 11:54:29 | K99: =IFERROR(__xludf.dummyfunction("""COMPUTED_VALUE"""),"ARTHUR MIGUEL SOUZA DA SILVA") -> ARTHUR MIGUEL SOUZA DA SILVA | L99: =IFERROR(__xludf.dummyfunction("""COMPUTED_VALUE"""),"004.089.984-58") -> 004.089.984-58 | M99: =IFERROR(__xludf.dummyfunction("""COMPUTED_VALUE"""),"10/09/2024") -> 10/09/2024 | O99: =IFERROR(__xludf.dummyfunction("""COMPUTED_VALUE"""),"0") -> 0
B100: {=_xlfn.XLOOKUP(D100,Tabela_Dados_Esc_JAB_2026[INEP],Tabela_Dados_Esc_JAB_2026[REGIONAL],"NE",0)} -> REGIONAL 5 | C100: =IFERROR(__xludf.dummyfunction("""COMPUTED_VALUE"""),"CEMEI PROFESSORA LINDOMAR DOMINGOS DA SILVA ANJOS") -> CEMEI PROFESSORA LINDOMAR DOMINGOS DA SILVA ANJOS | D100: =IFERROR(__xludf.dummyfunction("""COMPUTED_VALUE"""),"26191296") -> 26191296 | E100: =IFERROR(__xludf.dummyfunction("""COMPUTED_VALUE"""),"INFANTIL 1") -> INFANTIL 1 | F100: =IFERROR(__xludf.dummyfunction("""COMPUTED_VALUE"""),"Integral") -> Integral | G100: =IFERROR(__xludf.dummyfunction("""COMPUTED_VALUE"""),"Comum") -> Comum | H100: =IFERROR(__xludf.dummyfunction("""COMPUTED_VALUE"""),"23") -> 23 | I100: =IFERROR(__xludf.dummyfunction("""COMPUTED_VALUE"""),"26052658949") -> 26052658949 | J100: =IFERROR(__xludf.dummyfunction("""COMPUTED_VALUE"""),"15/05/2026 12:03:27") -> 15/05/2026 12:03:27 | K100: =IFERROR(__xludf.dummyfunction("""COMPUTED_VALUE"""),"AYLLA KAROLINE SOUZA DA SILVA") -> AYLLA KAROLINE SOUZA DA SILVA | L100: =IFERROR(__xludf.dummyfunction("""COMPUTED_VALUE"""),"004.089.794-02") -> 004.089.794-02 | M100: =IFERROR(__xludf.dummyfunction("""COMPUTED_VALUE"""),"10/09/2024") -> 10/09/2024 | O100: =IFERROR(__xludf.dummyfunction("""COMPUTED_VALUE"""),"0") -> 0
...

Sheet dados_01
A1: DATA DA SOLICITAÇÃO | B1: Posição | C1: ESTUDANTE | D1: DATA DE NASCIMENTO | E1: CPF | F1: ANO | G1: ESCOLA PRETENDIDA 1 | H1: Regional
A2: =IFERROR(__xludf.dummyfunction("QUERY(CandidatosFilaDeEspera!A1:M1599, ""SELECT Col10, Col8, Col11, Col13, Col12, Col5, Col3, Col2 where Col5 = 'INFANTIL 1' OR Col5 = 'INFANTIL 2' OR Col5 = 'INFANTIL 3'"",0)"),"24/03/2026 13:31:53") -> 24/03/2026 13:31:53 | B2: =IFERROR(__xludf.dummyfunction("""COMPUTED_VALUE"""),"1") -> 1 | C2: =IFERROR(__xludf.dummyfunction("""COMPUTED_VALUE"""),"MARIA EDUARDA SANTANA FELIX DA SILVA") -> MARIA EDUARDA SANTANA FELIX DA SILVA | D2: =IFERROR(__xludf.dummyfunction("""COMPUTED_VALUE"""),"09/06/2024") -> 09/06/2024 | E2: =IFERROR(__xludf.dummyfunction("""COMPUTED_VALUE"""),"004.110.684-90") -> 004.110.684-90 | F2: =IFERROR(__xludf.dummyfunction("""COMPUTED_VALUE"""),"INFANTIL 1") -> INFANTIL 1 | G2: =IFERROR(__xludf.dummyfunction("""COMPUTED_VALUE"""),"CEMEI DR. PAULO MENDES") -> CEMEI DR. PAULO MENDES | H2: =IFERROR(__xludf.dummyfunction("""COMPUTED_VALUE"""),"REGIONAL 7") -> REGIONAL 7
A3: =IFERROR(__xludf.dummyfunction("""COMPUTED_VALUE"""),"27/03/2026 12:51:51") -> 27/03/2026 12:51:51 | B3: =IFERROR(__xludf.dummyfunction("""COMPUTED_VALUE"""),"2") -> 2 | C3: =IFERROR(__xludf.dummyfunction("""COMPUTED_VALUE"""),"OLIVER BENJAMIN DA SILVA LIMA") -> OLIVER BENJAMIN DA SILVA LIMA | D3: =IFERROR(__xludf.dummyfunction("""COMPUTED_VALUE"""),"13/11/2025") -> 13/11/2025 | E3: =IFERROR(__xludf.dummyfunction("""COMPUTED_VALUE"""),"022.780.734-00") -> 022.780.734-00 | F3: =IFERROR(__xludf.dummyfunction("""COMPUTED_VALUE"""),"INFANTIL 1") -> INFANTIL 1 | G3: =IFERROR(__xludf.dummyfunction("""COMPUTED_VALUE"""),"CEMEI DR. PAULO MENDES") -> CEMEI DR. PAULO MENDES | H3: =IFERROR(__xludf.dummyfunction("""COMPUTED_VALUE"""),"REGIONAL 7") -> REGIONAL 7
A4: =IFERROR(__xludf.dummyfunction("""COMPUTED_VALUE"""),"21/05/2026 11:32:39") -> 21/05/2026 11:32:39 | B4: =IFERROR(__xludf.dummyfunction("""COMPUTED_VALUE"""),"3") -> 3 | C4: =IFERROR(__xludf.dummyfunction("""COMPUTED_VALUE"""),"KAUÊ HENRIQUE DE ARAÚJO SILVA") -> KAUÊ HENRIQUE DE ARAÚJO SILVA | D4: =IFERROR(__xludf.dummyfunction("""COMPUTED_VALUE"""),"01/04/2024") -> 01/04/2024 | E4: =IFERROR(__xludf.dummyfunction("""COMPUTED_VALUE"""),"002.527.454-69") -> 002.527.454-69 | F4: =IFERROR(__xludf.dummyfunction("""COMPUTED_VALUE"""),"INFANTIL 1") -> INFANTIL 1 | G4: =IFERROR(__xludf.dummyfunction("""COMPUTED_VALUE"""),"CEMEI DR. PAULO MENDES") -> CEMEI DR. PAULO MENDES | H4: =IFERROR(__xludf.dummyfunction("""COMPUTED_VALUE"""),"REGIONAL 7") -> REGIONAL 7
A5: =IFERROR(__xludf.dummyfunction("""COMPUTED_VALUE"""),"22/05/2026 09:22:30") -> 22/05/2026 09:22:30 | B5: =IFERROR(__xludf.dummyfunction("""COMPUTED_VALUE"""),"4") -> 4 | C5: =IFERROR(__xludf.dummyfunction("""COMPUTED_VALUE"""),"Aylla Eduarda Marques da Silva") -> Aylla Eduarda Marques da Silva | D5: =IFERROR(__xludf.dummyfunction("""COMPUTED_VALUE"""),"27/07/2024") -> 27/07/2024 | E5: =IFERROR(__xludf.dummyfunction("""COMPUTED_VALUE"""),"003.643.684-46") -> 003.643.684-46 | F5: =IFERROR(__xludf.dummyfunction("""COMPUTED_VALUE"""),"INFANTIL 1") -> INFANTIL 1 | G5: =IFERROR(__xludf.dummyfunction("""COMPUTED_VALUE"""),"CEMEI DR. PAULO MENDES") -> CEMEI DR. PAULO MENDES | H5: =IFERROR(__xludf.dummyfunction("""COMPUTED_VALUE"""),"REGIONAL 7") -> REGIONAL 7
A6: =IFERROR(__xludf.dummyfunction("""COMPUTED_VALUE"""),"23/06/2026 09:32:02") -> 23/06/2026 09:32:02 | B6: =IFERROR(__xludf.dummyfunction("""COMPUTED_VALUE"""),"5") -> 5 | C6: =IFERROR(__xludf.dummyfunction("""COMPUTED_VALUE"""),"MARIANA LEANDRA TOMAZ DE MELO") -> MARIANA LEANDRA TOMAZ DE MELO | D6: =IFERROR(__xludf.dummyfunction("""COMPUTED_VALUE"""),"25/11/2024") -> 25/11/2024 | E6: =IFERROR(__xludf.dummyfunction("""COMPUTED_VALUE"""),"004.786.214-93") -> 004.786.214-93 | F6: =IFERROR(__xludf.dummyfunction("""COMPUTED_VALUE"""),"INFANTIL 1") -> INFANTIL 1 | G6: =IFERROR(__xludf.dummyfunction("""COMPUTED_VALUE"""),"CEMEI DR. PAULO MENDES") -> CEMEI DR. PAULO MENDES | H6: =IFERROR(__xludf.dummyfunction("""COMPUTED_VALUE"""),"REGIONAL 7") -> REGIONAL 7
A7: =IFERROR(__xludf.dummyfunction("""COMPUTED_VALUE"""),"23/06/2026 09:36:48") -> 23/06/2026 09:36:48 | B7: =IFERROR(__xludf.dummyfunction("""COMPUTED_VALUE"""),"6") -> 6 | C7: =IFERROR(__xludf.dummyfunction("""COMPUTED_VALUE"""),"FERNANDA LEANDRA TOMAZ DE MELO") -> FERNANDA LEANDRA TOMAZ DE MELO | D7: =IFERROR(__xludf.dummyfunction("""COMPUTED_VALUE"""),"25/11/2024") -> 25/11/2024 | E7: =IFERROR(__xludf.dummyfunction("""COMPUTED_VALUE"""),"004.785.384-05") -> 004.785.384-05 | F7: =IFERROR(__xludf.dummyfunction("""COMPUTED_VALUE"""),"INFANTIL 1") -> INFANTIL 1 | G7: =IFERROR(__xludf.dummyfunction("""COMPUTED_VALUE"""),"CEMEI DR. PAULO MENDES") -> CEMEI DR. PAULO MENDES | H7: =IFERROR(__xludf.dummyfunction("""COMPUTED_VALUE"""),"REGIONAL 7") -> REGIONAL 7
A8: =IFERROR(__xludf.dummyfunction("""COMPUTED_VALUE"""),"23/07/2026 04:45:19") -> 23/07/2026 04:45:19 | B8: =IFERROR(__xludf.dummyfunction("""COMPUTED_VALUE"""),"7") -> 7 | C8: =IFERROR(__xludf.dummyfunction("""COMPUTED_VALUE"""),"Ramon Oliveira Silva") -> Ramon Oliveira Silva | D8: =IFERROR(__xludf.dummyfunction("""COMPUTED_VALUE"""),"17/11/2025") -> 17/11/2025 | E8: =IFERROR(__xludf.dummyfunction("""COMPUTED_VALUE"""),"024.777.004-30") -> 024.777.004-30 | F8: =IFERROR(__xludf.dummyfunction("""COMPUTED_VALUE"""),"INFANTIL 1") -> INFANTIL 1 | G8: =IFERROR(__xludf.dummyfunction("""COMPUTED_VALUE"""),"CEMEI DR. PAULO MENDES") -> CEMEI DR. PAULO MENDES | H8: =IFERROR(__xludf.dummyfunction("""COMPUTED_VALUE"""),"REGIONAL 7") -> REGIONAL 7
A9: =IFERROR(__xludf.dummyfunction("""COMPUTED_VALUE"""),"02/09/2026 11:53:05") -> 02/09/2026 11:53:05 | B9: =IFERROR(__xludf.dummyfunction("""COMPUTED_VALUE"""),"8") -> 8 | C9: =IFERROR(__xludf.dummyfunction("""COMPUTED_VALUE"""),"Efraim Miranda da Silva") -> Efraim Miranda da Silva | D9: =IFERROR(__xludf.dummyfunction("""COMPUTED_VALUE"""),"06/07/2025") -> 06/07/2025 | E9: =IFERROR(__xludf.dummyfunction("""COMPUTED_VALUE"""),"006.663.544-64") -> 006.663.544-64 | F9: =IFERROR(__xludf.dummyfunction("""COMPUTED_VALUE"""),"INFANTIL 1") -> INFANTIL 1 | G9: =IFERROR(__xludf.dummyfunction("""COMPUTED_VALUE"""),"CEMEI DR. PAULO MENDES") -> CEMEI DR. PAULO MENDES | H9: =IFERROR(__xludf.dummyfunction("""COMPUTED_VALUE"""),"REGIONAL 7") -> REGIONAL 7
A10: =IFERROR(__xludf.dummyfunction("""COMPUTED_VALUE"""),"10/06/2026 11:22:14") -> 10/06/2026 11:22:14 | B10: =IFERROR(__xludf.dummyfunction("""COMPUTED_VALUE"""),"1") -> 1 | C10: =IFERROR(__xludf.dummyfunction("""COMPUTED_VALUE"""),"BRUNO GABRIEL SOARES DA SILVA") -> BRUNO GABRIEL SOARES DA SILVA | D10: =IFERROR(__xludf.dummyfunction("""COMPUTED_VALUE"""),"10/11/2023") -> 10/11/2023 | E10: =IFERROR(__xludf.dummyfunction("""COMPUTED_VALUE"""),"001.026.744-18") -> 001.026.744-18 | F10: =IFERROR(__xludf.dummyfunction("""COMPUTED_VALUE"""),"INFANTIL 2") -> INFANTIL 2 | G10: =IFERROR(__xludf.dummyfunction("""COMPUTED_VALUE"""),"CEMEI DR. PAULO MENDES") -> CEMEI DR. PAULO MENDES | H10: =IFERROR(__xludf.dummyfunction("""COMPUTED_VALUE"""),"REGIONAL 7") -> REGIONAL 7
A11: =IFERROR(__xludf.dummyfunction("""COMPUTED_VALUE"""),"16/09/2026 22:07:06") -> 16/09/2026 22:07:06 | B11: =IFERROR(__xludf.dummyfunction("""COMPUTED_VALUE"""),"2") -> 2 | C11: =IFERROR(__xludf.dummyfunction("""COMPUTED_VALUE"""),"Theo Antonio Belarmino Cavalcanti") -> Theo Antonio Belarmino Cavalcanti | D11: =IFERROR(__xludf.dummyfunction("""COMPUTED_VALUE"""),"20/09/2023") -> 20/09/2023 | E11: =IFERROR(__xludf.dummyfunction("""COMPUTED_VALUE"""),"000.037.494-60") -> 000.037.494-60 | F11: =IFERROR(__xludf.dummyfunction("""COMPUTED_VALUE"""),"INFANTIL 2") -> INFANTIL 2 | G11: =IFERROR(__xludf.dummyfunction("""COMPUTED_VALUE"""),"CEMEI DR. PAULO MENDES") -> CEMEI DR. PAULO MENDES | H11: =IFERROR(__xludf.dummyfunction("""COMPUTED_VALUE"""),"REGIONAL 7") -> REGIONAL 7
A12: =IFERROR(__xludf.dummyfunction("""COMPUTED_VALUE"""),"18/05/2026 09:15:19") -> 18/05/2026 09:15:19 | B12: =IFERROR(__xludf.dummyfunction("""COMPUTED_VALUE"""),"1") -> 1 | C12: =IFERROR(__xludf.dummyfunction("""COMPUTED_VALUE"""),"HELLOYSE VITÓRIA SANTOS DUARTE") -> HELLOYSE VITÓRIA SANTOS DUARTE | D12: =IFERROR(__xludf.dummyfunction("""COMPUTED_VALUE"""),"11/01/2023") -> 11/01/2023 | E12: =IFERROR(__xludf.dummyfunction("""COMPUTED_VALUE"""),"184.035.244-20") -> 184.035.244-20 | F12: =IFERROR(__xludf.dummyfunction("""COMPUTED_VALUE"""),"INFANTIL 3") -> INFANTIL 3 | G12: =IFERROR(__xludf.dummyfunction("""COMPUTED_VALUE"""),"CEMEI DR. PAULO MENDES") -> CEMEI DR. PAULO MENDES | H12: =IFERROR(__xludf.dummyfunction("""COMPUTED_VALUE"""),"REGIONAL 7") -> REGIONAL 7
A13: =IFERROR(__xludf.dummyfunction("""COMPUTED_VALUE"""),"06/02/2026 09:17:41") -> 06/02/2026 09:17:41 | B13: =IFERROR(__xludf.dummyfunction("""COMPUTED_VALUE"""),"1") -> 1 | C13: =IFERROR(__xludf.dummyfunction("""COMPUTED_VALUE"""),"JOÃO VITOR CERQUEIRA CAMPOS") -> JOÃO VITOR CERQUEIRA CAMPOS | D13: =IFERROR(__xludf.dummyfunction("""COMPUTED_VALUE"""),"26/03/2023") -> 26/03/2023 | E13: =IFERROR(__xludf.dummyfunction("""COMPUTED_VALUE"""),"184.852.244-42") -> 184.852.244-42 | F13: =IFERROR(__xludf.dummyfunction("""COMPUTED_VALUE"""),"INFANTIL 3") -> INFANTIL 3 | G13: =IFERROR(__xludf.dummyfunction("""COMPUTED_VALUE"""),"CEMEI ELIEL EUSTAQUIO DA SILVA") -> CEMEI ELIEL EUSTAQUIO DA SILVA | H13: =IFERROR(__xludf.dummyfunction("""COMPUTED_VALUE"""),"REGIONAL 7") -> REGIONAL 7
A14: =IFERROR(__xludf.dummyfunction("""COMPUTED_VALUE"""),"04/05/2026 08:16:17") -> 04/05/2026 08:16:17 | B14: =IFERROR(__xludf.dummyfunction("""COMPUTED_VALUE"""),"2") -> 2 | C14: =IFERROR(__xludf.dummyfunction("""COMPUTED_VALUE"""),"ASAFE ALLAN DE PAULA SILVA") -> ASAFE ALLAN DE PAULA SILVA | D14: =IFERROR(__xludf.dummyfunction("""COMPUTED_VALUE"""),"24/12/2022") -> 24/12/2022 | E14: =IFERROR(__xludf.dummyfunction("""COMPUTED_VALUE"""),"183.832.884-09") -> 183.832.884-09 | F14: =IFERROR(__xludf.dummyfunction("""COMPUTED_VALUE"""),"INFANTIL 3") -> INFANTIL 3 | G14: =IFERROR(__xludf.dummyfunction("""COMPUTED_VALUE"""),"CEMEI ELIEL EUSTAQUIO DA SILVA") -> CEMEI ELIEL EUSTAQUIO DA SILVA | H14: =IFERROR(__xludf.dummyfunction("""COMPUTED_VALUE"""),"REGIONAL 7") -> REGIONAL 7
A15: =IFERROR(__xludf.dummyfunction("""COMPUTED_VALUE"""),"22/06/2026 14:09:23") -> 22/06/2026 14:09:23 | B15: =IFERROR(__xludf.dummyfunction("""COMPUTED_VALUE"""),"3") -> 3 | C15: =IFERROR(__xludf.dummyfunction("""COMPUTED_VALUE"""),"Isabella Valentina dos Santos") -> Isabella Valentina dos Santos | D15: =IFERROR(__xludf.dummyfunction("""COMPUTED_VALUE"""),"07/04/2022") -> 07/04/2022 | E15: =IFERROR(__xludf.dummyfunction("""COMPUTED_VALUE"""),"181.388.084-03") -> 181.388.084-03 | F15: =IFERROR(__xludf.dummyfunction("""COMPUTED_VALUE"""),"INFANTIL 3") -> INFANTIL 3 | G15: =IFERROR(__xludf.dummyfunction("""COMPUTED_VALUE"""),"CEMEI ELIEL EUSTAQUIO DA SILVA") -> CEMEI ELIEL EUSTAQUIO DA SILVA | H15: =IFERROR(__xludf.dummyfunction("""COMPUTED_VALUE"""),"REGIONAL 7") -> REGIONAL 7
A16: =IFERROR(__xludf.dummyfunction("""COMPUTED_VALUE"""),"10/09/2026 09:46:29") -> 10/09/2026 09:46:29 | B16: =IFERROR(__xludf.dummyfunction("""COMPUTED_VALUE"""),"4") -> 4 | C16: =IFERROR(__xludf.dummyfunction("""COMPUTED_VALUE"""),"Samuel dos Santos Pereira da Silva") -> Samuel dos Santos Pereira da Silva | D16: =IFERROR(__xludf.dummyfunction("""COMPUTED_VALUE"""),"08/10/2022") -> 08/10/2022 | E16: =IFERROR(__xludf.dummyfunction("""COMPUTED_VALUE"""),"183.072.104-61") -> 183.072.104-61 | F16: =IFERROR(__xludf.dummyfunction("""COMPUTED_VALUE"""),"INFANTIL 3") -> INFANTIL 3 | G16: =IFERROR(__xludf.dummyfunction("""COMPUTED_VALUE"""),"CEMEI ELIEL EUSTAQUIO DA SILVA") -> CEMEI ELIEL EUSTAQUIO DA SILVA | H16: =IFERROR(__xludf.dummyfunction("""COMPUTED_VALUE"""),"REGIONAL 7") -> REGIONAL 7
A17: =IFERROR(__xludf.dummyfunction("""COMPUTED_VALUE"""),"09/03/2026 17:29:00") -> 09/03/2026 17:29:00 | B17: =IFERROR(__xludf.dummyfunction("""COMPUTED_VALUE"""),"1") -> 1 | C17: =IFERROR(__xludf.dummyfunction("""COMPUTED_VALUE"""),"MIGUEL DE CARVALHO MELO CARDOSO") -> MIGUEL DE CARVALHO MELO CARDOSO | D17: =IFERROR(__xludf.dummyfunction("""COMPUTED_VALUE"""),"21/05/2024") -> 21/05/2024 | E17: =IFERROR(__xludf.dummyfunction("""COMPUTED_VALUE"""),"003.288.894-58") -> 003.288.894-58 | F17: =IFERROR(__xludf.dummyfunction("""COMPUTED_VALUE"""),"INFANTIL 1") -> INFANTIL 1 | G17: =IFERROR(__xludf.dummyfunction("""COMPUTED_VALUE"""),"CEMEI LIGIA ARAUJO DE OLIVEIRA") -> CEMEI LIGIA ARAUJO DE OLIVEIRA | H17: =IFERROR(__xludf.dummyfunction("""COMPUTED_VALUE"""),"REGIONAL 6") -> REGIONAL 6
A18: =IFERROR(__xludf.dummyfunction("""COMPUTED_VALUE"""),"23/03/2026 19:01:28") -> 23/03/2026 19:01:28 | B18: =IFERROR(__xludf.dummyfunction("""COMPUTED_VALUE"""),"2") -> 2 | C18: =IFERROR(__xludf.dummyfunction("""COMPUTED_VALUE"""),"LIAN SALAZAR SERNA") -> LIAN SALAZAR SERNA | D18: =IFERROR(__xludf.dummyfunction("""COMPUTED_VALUE"""),"15/05/2024") -> 15/05/2024 | E18: =IFERROR(__xludf.dummyfunction("""COMPUTED_VALUE"""),"003.732.314-82") -> 003.732.314-82 | F18: =IFERROR(__xludf.dummyfunction("""COMPUTED_VALUE"""),"INFANTIL 1") -> INFANTIL 1 | G18: =IFERROR(__xludf.dummyfunction("""COMPUTED_VALUE"""),"CEMEI LIGIA ARAUJO DE OLIVEIRA") -> CEMEI LIGIA ARAUJO DE OLIVEIRA | H18: =IFERROR(__xludf.dummyfunction("""COMPUTED_VALUE"""),"REGIONAL 6") -> REGIONAL 6
A19: =IFERROR(__xludf.dummyfunction("""COMPUTED_VALUE"""),"25/08/2026 13:04:30") -> 25/08/2026 13:04:30 | B19: =IFERROR(__xludf.dummyfunction("""COMPUTED_VALUE"""),"3") -> 3 | C19: =IFERROR(__xludf.dummyfunction("""COMPUTED_VALUE"""),"Lucca ravi do santos ferraz") -> Lucca ravi do santos ferraz | D19: =IFERROR(__xludf.dummyfunction("""COMPUTED_VALUE"""),"26/12/2025") -> 26/12/2025 | E19: =IFERROR(__xludf.dummyfunction("""COMPUTED_VALUE"""),"037.044.904-58") -> 037.044.904-58 | F19: =IFERROR(__xludf.dummyfunction("""COMPUTED_VALUE"""),"INFANTIL 1") -> INFANTIL 1 | G19: =IFERROR(__xludf.dummyfunction("""COMPUTED_VALUE"""),"CEMEI LIGIA ARAUJO DE OLIVEIRA") -> CEMEI LIGIA ARAUJO DE OLIVEIRA | H19: =IFERROR(__xludf.dummyfunction("""COMPUTED_VALUE"""),"REGIONAL 6") -> REGIONAL 6
A20: =IFERROR(__xludf.dummyfunction("""COMPUTED_VALUE"""),"29/08/2026 22:31:44") -> 29/08/2026 22:31:44 | B20: =IFERROR(__xludf.dummyfunction("""COMPUTED_VALUE"""),"4") -> 4 | C20: =IFERROR(__xludf.dummyfunction("""COMPUTED_VALUE"""),"Benício Alves Silva") -> Benício Alves Silva | D20: =IFERROR(__xludf.dummyfunction("""COMPUTED_VALUE"""),"05/08/2025") -> 05/08/2025 | E20: =IFERROR(__xludf.dummyfunction("""COMPUTED_VALUE"""),"007.002.114-70") -> 007.002.114-70 | F20: =IFERROR(__xludf.dummyfunction("""COMPUTED_VALUE"""),"INFANTIL 1") -> INFANTIL 1 | G20: =IFERROR(__xludf.dummyfunction("""COMPUTED_VALUE"""),"CEMEI LIGIA ARAUJO DE OLIVEIRA") -> CEMEI LIGIA ARAUJO DE OLIVEIRA | H20: =IFERROR(__xludf.dummyfunction("""COMPUTED_VALUE"""),"REGIONAL 6") -> REGIONAL 6
A21: =IFERROR(__xludf.dummyfunction("""COMPUTED_VALUE"""),"28/01/2026 08:07:40") -> 28/01/2026 08:07:40 | B21: =IFERROR(__xludf.dummyfunction("""COMPUTED_VALUE"""),"1") -> 1 | C21: =IFERROR(__xludf.dummyfunction("""COMPUTED_VALUE"""),"ÍCARO MIGUEL ESPÍNDOLA DA SILVA") -> ÍCARO MIGUEL ESPÍNDOLA DA SILVA | D21: =IFERROR(__xludf.dummyfunction("""COMPUTED_VALUE"""),"19/08/2023") -> 19/08/2023 | E21: =IFERROR(__xludf.dummyfunction("""COMPUTED_VALUE"""),"001.566.454-67") -> 001.566.454-67 | F21: =IFERROR(__xludf.dummyfunction("""COMPUTED_VALUE"""),"INFANTIL 2") -> INFANTIL 2 | G21: =IFERROR(__xludf.dummyfunction("""COMPUTED_VALUE"""),"CEMEI LIGIA ARAUJO DE OLIVEIRA") -> CEMEI LIGIA ARAUJO DE OLIVEIRA | H21: =IFERROR(__xludf.dummyfunction("""COMPUTED_VALUE"""),"REGIONAL 6") -> REGIONAL 6
A22: =IFERROR(__xludf.dummyfunction("""COMPUTED_VALUE"""),"29/01/2026 10:35:38") -> 29/01/2026 10:35:38 | B22: =IFERROR(__xludf.dummyfunction("""COMPUTED_VALUE"""),"2") -> 2 | C22: =IFERROR(__xludf.dummyfunction("""COMPUTED_VALUE"""),"OLIVER HEITOR LINS LIRA") -> OLIVER HEITOR LINS LIRA | D22: =IFERROR(__xludf.dummyfunction("""COMPUTED_VALUE"""),"27/05/2023") -> 27/05/2023 | E22: =IFERROR(__xludf.dummyfunction("""COMPUTED_VALUE"""),"185.479.534-18") -> 185.479.534-18 | F22: =IFERROR(__xludf.dummyfunction("""COMPUTED_VALUE"""),"INFANTIL 2") -> INFANTIL 2 | G22: =IFERROR(__xludf.dummyfunction("""COMPUTED_VALUE"""),"CEMEI LIGIA ARAUJO DE OLIVEIRA") -> CEMEI LIGIA ARAUJO DE OLIVEIRA | H22: =IFERROR(__xludf.dummyfunction("""COMPUTED_VALUE"""),"REGIONAL 6") -> REGIONAL 6
A23: =IFERROR(__xludf.dummyfunction("""COMPUTED_VALUE"""),"11/03/2026 10:19:05") -> 11/03/2026 10:19:05 | B23: =IFERROR(__xludf.dummyfunction("""COMPUTED_VALUE"""),"3") -> 3 | C23: =IFERROR(__xludf.dummyfunction("""COMPUTED_VALUE"""),"ALISSON GABRIEL DOS SANTOS SILVA") -> ALISSON GABRIEL DOS SANTOS SILVA | D23: =IFERROR(__xludf.dummyfunction("""COMPUTED_VALUE"""),"30/12/2023") -> 30/12/2023 | E23: =IFERROR(__xludf.dummyfunction("""COMPUTED_VALUE"""),"001.878.044-00") -> 001.878.044-00 | F23: =IFERROR(__xludf.dummyfunction("""COMPUTED_VALUE"""),"INFANTIL 2") -> INFANTIL 2 | G23: =IFERROR(__xludf.dummyfunction("""COMPUTED_VALUE"""),"CEMEI LIGIA ARAUJO DE OLIVEIRA") -> CEMEI LIGIA ARAUJO DE OLIVEIRA | H23: =IFERROR(__xludf.dummyfunction("""COMPUTED_VALUE"""),"REGIONAL 6") -> REGIONAL 6
A24: =IFERROR(__xludf.dummyfunction("""COMPUTED_VALUE"""),"20/04/2026 12:53:45") -> 20/04/2026 12:53:45 | B24: =IFERROR(__xludf.dummyfunction("""COMPUTED_VALUE"""),"4") -> 4 | C24: =IFERROR(__xludf.dummyfunction("""COMPUTED_VALUE"""),"ISABELA MARIA DIAS DA SILVA") -> ISABELA MARIA DIAS DA SILVA | D24: =IFERROR(__xludf.dummyfunction("""COMPUTED_VALUE"""),"02/05/2023") -> 02/05/2023 | E24: =IFERROR(__xludf.dummyfunction("""COMPUTED_VALUE"""),"166.511.419-37") -> 166.511.419-37 | F24: =IFERROR(__xludf.dummyfunction("""COMPUTED_VALUE"""),"INFANTIL 2") -> INFANTIL 2 | G24: =IFERROR(__xludf.dummyfunction("""COMPUTED_VALUE"""),"CEMEI LIGIA ARAUJO DE OLIVEIRA") -> CEMEI LIGIA ARAUJO DE OLIVEIRA | H24: =IFERROR(__xludf.dummyfunction("""COMPUTED_VALUE"""),"REGIONAL 6") -> REGIONAL 6
A25: =IFERROR(__xludf.dummyfunction("""COMPUTED_VALUE"""),"08/05/2026 07:30:21") -> 08/05/2026 07:30:21 | B25: =IFERROR(__xludf.dummyfunction("""COMPUTED_VALUE"""),"5") -> 5 | C25: =IFERROR(__xludf.dummyfunction("""COMPUTED_VALUE"""),"HEITOR GABRIEL MARQUES DOS SANTOS") -> HEITOR GABRIEL MARQUES DOS SANTOS | D25: =IFERROR(__xludf.dummyfunction("""COMPUTED_VALUE"""),"20/05/2023") -> 20/05/2023 | E25: =IFERROR(__xludf.dummyfunction("""COMPUTED_VALUE"""),"185.759.414-29") -> 185.759.414-29 | F25: =IFERROR(__xludf.dummyfunction("""COMPUTED_VALUE"""),"INFANTIL 2") -> INFANTIL 2 | G25: =IFERROR(__xludf.dummyfunction("""COMPUTED_VALUE"""),"CEMEI LIGIA ARAUJO DE OLIVEIRA") -> CEMEI LIGIA ARAUJO DE OLIVEIRA | H25: =IFERROR(__xludf.dummyfunction("""COMPUTED_VALUE"""),"REGIONAL 6") -> REGIONAL 6
A26: =IFERROR(__xludf.dummyfunction("""COMPUTED_VALUE"""),"10/06/2026 09:35:26") -> 10/06/2026 09:35:26 | B26: =IFERROR(__xludf.dummyfunction("""COMPUTED_VALUE"""),"6") -> 6 | C26: =IFERROR(__xludf.dummyfunction("""COMPUTED_VALUE"""),"HENRIQUE LORENZO PACHECO DA SILVA") -> HENRIQUE LORENZO PACHECO DA SILVA | D26: =IFERROR(__xludf.dummyfunction("""COMPUTED_VALUE"""),"22/06/2023") -> 22/06/2023 | E26: =IFERROR(__xludf.dummyfunction("""COMPUTED_VALUE"""),"035.434.204-53") -> 035.434.204-53 | F26: =IFERROR(__xludf.dummyfunction("""COMPUTED_VALUE"""),"INFANTIL 2") -> INFANTIL 2 | G26: =IFERROR(__xludf.dummyfunction("""COMPUTED_VALUE"""),"CEMEI LIGIA ARAUJO DE OLIVEIRA") -> CEMEI LIGIA ARAUJO DE OLIVEIRA | H26: =IFERROR(__xludf.dummyfunction("""COMPUTED_VALUE"""),"REGIONAL 6") -> REGIONAL 6
A27: =IFERROR(__xludf.dummyfunction("""COMPUTED_VALUE"""),"03/02/2026 14:12:28") -> 03/02/2026 14:12:28 | B27: =IFERROR(__xludf.dummyfunction("""COMPUTED_VALUE"""),"1") -> 1 | C27: =IFERROR(__xludf.dummyfunction("""COMPUTED_VALUE"""),"AYLLA FERREIRA DA SILVA") -> AYLLA FERREIRA DA SILVA | D27: =IFERROR(__xludf.dummyfunction("""COMPUTED_VALUE"""),"22/11/2022") -> 22/11/2022 | E27: =IFERROR(__xludf.dummyfunction("""COMPUTED_VALUE"""),"183.532.494-05") -> 183.532.494-05 | F27: =IFERROR(__xludf.dummyfunction("""COMPUTED_VALUE"""),"INFANTIL 3") -> INFANTIL 3 | G27: =IFERROR(__xludf.dummyfunction("""COMPUTED_VALUE"""),"CEMEI LIGIA ARAUJO DE OLIVEIRA") -> CEMEI LIGIA ARAUJO DE OLIVEIRA | H27: =IFERROR(__xludf.dummyfunction("""COMPUTED_VALUE"""),"REGIONAL 6") -> REGIONAL 6
A28: =IFERROR(__xludf.dummyfunction("""COMPUTED_VALUE"""),"03/02/2026 14:18:57") -> 03/02/2026 14:18:57 | B28: =IFERROR(__xludf.dummyfunction("""COMPUTED_VALUE"""),"2") -> 2 | C28: =IFERROR(__xludf.dummyfunction("""COMPUTED_VALUE"""),"ALYCIA FERREIRA DA SILVA") -> ALYCIA FERREIRA DA SILVA | D28: =IFERROR(__xludf.dummyfunction("""COMPUTED_VALUE"""),"22/11/2022") -> 22/11/2022 | E28: =IFERROR(__xludf.dummyfunction("""COMPUTED_VALUE"""),"183.532.504-11") -> 183.532.504-11 | F28: =IFERROR(__xludf.dummyfunction("""COMPUTED_VALUE"""),"INFANTIL 3") -> INFANTIL 3 | G28: =IFERROR(__xludf.dummyfunction("""COMPUTED_VALUE"""),"CEMEI LIGIA ARAUJO DE OLIVEIRA") -> CEMEI LIGIA ARAUJO DE OLIVEIRA | H28: =IFERROR(__xludf.dummyfunction("""COMPUTED_VALUE"""),"REGIONAL 6") -> REGIONAL 6
A29: =IFERROR(__xludf.dummyfunction("""COMPUTED_VALUE"""),"23/02/2026 20:39:24") -> 23/02/2026 20:39:24 | B29: =IFERROR(__xludf.dummyfunction("""COMPUTED_VALUE"""),"3") -> 3 | C29: =IFERROR(__xludf.dummyfunction("""COMPUTED_VALUE"""),"ABRAÃO EMANOEL PINHEIRO DA SILVA") -> ABRAÃO EMANOEL PINHEIRO DA SILVA | D29: =IFERROR(__xludf.dummyfunction("""COMPUTED_VALUE"""),"31/08/2022") -> 31/08/2022 | E29: =IFERROR(__xludf.dummyfunction("""COMPUTED_VALUE"""),"182.714.394-05") -> 182.714.394-05 | F29: =IFERROR(__xludf.dummyfunction("""COMPUTED_VALUE"""),"INFANTIL 3") -> INFANTIL 3 | G29: =IFERROR(__xludf.dummyfunction("""COMPUTED_VALUE"""),"CEMEI LIGIA ARAUJO DE OLIVEIRA") -> CEMEI LIGIA ARAUJO DE OLIVEIRA | H29: =IFERROR(__xludf.dummyfunction("""COMPUTED_VALUE"""),"REGIONAL 6") -> REGIONAL 6
A30: =IFERROR(__xludf.dummyfunction("""COMPUTED_VALUE"""),"11/08/2026 13:20:40") -> 11/08/2026 13:20:40 | B30: =IFERROR(__xludf.dummyfunction("""COMPUTED_VALUE"""),"4") -> 4 | C30: =IFERROR(__xludf.dummyfunction("""COMPUTED_VALUE"""),"Kiara Heloise dos Santos") -> Kiara Heloise dos Santos | D30: =IFERROR(__xludf.dummyfunction("""COMPUTED_VALUE"""),"09/03/2023") -> 09/03/2023 | E30: =IFERROR(__xludf.dummyfunction("""COMPUTED_VALUE"""),"184.757.404-13") -> 184.757.404-13 | F30: =IFERROR(__xludf.dummyfunction("""COMPUTED_VALUE"""),"INFANTIL 3") -> INFANTIL 3 | G30: =IFERROR(__xludf.dummyfunction("""COMPUTED_VALUE"""),"CEMEI LIGIA ARAUJO DE OLIVEIRA") -> CEMEI LIGIA ARAUJO DE OLIVEIRA | H30: =IFERROR(__xludf.dummyfunction("""COMPUTED_VALUE"""),"REGIONAL 6") -> REGIONAL 6
A31: =IFERROR(__xludf.dummyfunction("""COMPUTED_VALUE"""),"09/07/2026 20:11:39") -> 09/07/2026 20:11:39 | B31: =IFERROR(__xludf.dummyfunction("""COMPUTED_VALUE"""),"1") -> 1 | C31: =IFERROR(__xludf.dummyfunction("""COMPUTED_VALUE"""),"MARIA CLARA VASCONCELOS DA SILVA") -> MARIA CLARA VASCONCELOS DA SILVA | D31: =IFERROR(__xludf.dummyfunction("""COMPUTED_VALUE"""),"02/06/2023") -> 02/06/2023 | E31: =IFERROR(__xludf.dummyfunction("""COMPUTED_VALUE"""),"185.771.984-05") -> 185.771.984-05 | F31: =IFERROR(__xludf.dummyfunction("""COMPUTED_VALUE"""),"INFANTIL 2") -> INFANTIL 2 | G31: =IFERROR(__xludf.dummyfunction("""COMPUTED_VALUE"""),"CEMEI LUIZ FERNANDO DE CARVALHO ARCOVERDE") -> CEMEI LUIZ FERNANDO DE CARVALHO ARCOVERDE | H31: =IFERROR(__xludf.dummyfunction("""COMPUTED_VALUE"""),"REGIONAL 2") -> REGIONAL 2
A32: =IFERROR(__xludf.dummyfunction("""COMPUTED_VALUE"""),"24/07/2026 16:57:07") -> 24/07/2026 16:57:07 | B32: =IFERROR(__xludf.dummyfunction("""COMPUTED_VALUE"""),"2") -> 2 | C32: =IFERROR(__xludf.dummyfunction("""COMPUTED_VALUE"""),"Isaac luiz Maia do Nascimento") -> Isaac luiz Maia do Nascimento | D32: =IFERROR(__xludf.dummyfunction("""COMPUTED_VALUE"""),"11/12/2023") -> 11/12/2023 | E32: =IFERROR(__xludf.dummyfunction("""COMPUTED_VALUE"""),"001.976.204-69") -> 001.976.204-69 | F32: =IFERROR(__xludf.dummyfunction("""COMPUTED_VALUE"""),"INFANTIL 2") -> INFANTIL 2 | G32: =IFERROR(__xludf.dummyfunction("""COMPUTED_VALUE"""),"CEMEI LUIZ FERNANDO DE CARVALHO ARCOVERDE") -> CEMEI LUIZ FERNANDO DE CARVALHO ARCOVERDE | H32: =IFERROR(__xludf.dummyfunction("""COMPUTED_VALUE"""),"REGIONAL 2") -> REGIONAL 2
A33: =IFERROR(__xludf.dummyfunction("""COMPUTED_VALUE"""),"19/03/2026 08:28:18") -> 19/03/2026 08:28:18 | B33: =IFERROR(__xludf.dummyfunction("""COMPUTED_VALUE"""),"1") -> 1 | C33: =IFERROR(__xludf.dummyfunction("""COMPUTED_VALUE"""),"MARIA CLARA DE LIMA") -> MARIA CLARA DE LIMA | D33: =IFERROR(__xludf.dummyfunction("""COMPUTED_VALUE"""),"16/12/2024") -> 16/12/2024 | E33: =IFERROR(__xludf.dummyfunction("""COMPUTED_VALUE"""),"004.995.084-32") -> 004.995.084-32 | F33: =IFERROR(__xludf.dummyfunction("""COMPUTED_VALUE"""),"INFANTIL 1") -> INFANTIL 1 | G33: =IFERROR(__xludf.dummyfunction("""COMPUTED_VALUE"""),"CEMEI PROFª MARIA LUZIA RIO LIMA") -> CEMEI PROFª MARIA LUZIA RIO LIMA | H33: =IFERROR(__xludf.dummyfunction("""COMPUTED_VALUE"""),"REGIONAL 5") -> REGIONAL 5
A34: =IFERROR(__xludf.dummyfunction("""COMPUTED_VALUE"""),"19/03/2026 08:46:18") -> 19/03/2026 08:46:18 | B34: =IFERROR(__xludf.dummyfunction("""COMPUTED_VALUE"""),"2") -> 2 | C34: =IFERROR(__xludf.dummyfunction("""COMPUTED_VALUE"""),"MARIA FLOR DE LIMA") -> MARIA FLOR DE LIMA | D34: =IFERROR(__xludf.dummyfunction("""COMPUTED_VALUE"""),"16/12/2024") -> 16/12/2024 | E34: =IFERROR(__xludf.dummyfunction("""COMPUTED_VALUE"""),"004.995.534-97") -> 004.995.534-97 | F34: =IFERROR(__xludf.dummyfunction("""COMPUTED_VALUE"""),"INFANTIL 1") -> INFANTIL 1 | G34: =IFERROR(__xludf.dummyfunction("""COMPUTED_VALUE"""),"CEMEI PROFª MARIA LUZIA RIO LIMA") -> CEMEI PROFª MARIA LUZIA RIO LIMA | H34: =IFERROR(__xludf.dummyfunction("""COMPUTED_VALUE"""),"REGIONAL 5") -> REGIONAL 5
A35: =IFERROR(__xludf.dummyfunction("""COMPUTED_VALUE"""),"06/05/2026 15:38:45") -> 06/05/2026 15:38:45 | B35: =IFERROR(__xludf.dummyfunction("""COMPUTED_VALUE"""),"3") -> 3 | C35: =IFERROR(__xludf.dummyfunction("""COMPUTED_VALUE"""),"EMANUEL LUCAS FAUSTINO DA SILVA") -> EMANUEL LUCAS FAUSTINO DA SILVA | D35: =IFERROR(__xludf.dummyfunction("""COMPUTED_VALUE"""),"05/09/2024") -> 05/09/2024 | E35: =IFERROR(__xludf.dummyfunction("""COMPUTED_VALUE"""),"118.065.824-81") -> 118.065.824-81 | F35: =IFERROR(__xludf.dummyfunction("""COMPUTED_VALUE"""),"INFANTIL 1") -> INFANTIL 1 | G35: =IFERROR(__xludf.dummyfunction("""COMPUTED_VALUE"""),"CEMEI PROFª MARIA LUZIA RIO LIMA") -> CEMEI PROFª MARIA LUZIA RIO LIMA | H35: =IFERROR(__xludf.dummyfunction("""COMPUTED_VALUE"""),"REGIONAL 5") -> REGIONAL 5
A36: =IFERROR(__xludf.dummyfunction("""COMPUTED_VALUE"""),"10/06/2026 16:57:35") -> 10/06/2026 16:57:35 | B36: =IFERROR(__xludf.dummyfunction("""COMPUTED_VALUE"""),"4") -> 4 | C36: =IFERROR(__xludf.dummyfunction("""COMPUTED_VALUE"""),"Edgar Souza do monte") -> Edgar Souza do monte | D36: =IFERROR(__xludf.dummyfunction("""COMPUTED_VALUE"""),"19/09/2024") -> 19/09/2024 | E36: =IFERROR(__xludf.dummyfunction("""COMPUTED_VALUE"""),"004.150.004-08") -> 004.150.004-08 | F36: =IFERROR(__xludf.dummyfunction("""COMPUTED_VALUE"""),"INFANTIL 1") -> INFANTIL 1 | G36: =IFERROR(__xludf.dummyfunction("""COMPUTED_VALUE"""),"CEMEI PROFª MARIA LUZIA RIO LIMA") -> CEMEI PROFª MARIA LUZIA RIO LIMA | H36: =IFERROR(__xludf.dummyfunction("""COMPUTED_VALUE"""),"REGIONAL 5") -> REGIONAL 5
A37: =IFERROR(__xludf.dummyfunction("""COMPUTED_VALUE"""),"10/06/2026 17:01:25") -> 10/06/2026 17:01:25 | B37: =IFERROR(__xludf.dummyfunction("""COMPUTED_VALUE"""),"5") -> 5 | C37: =IFERROR(__xludf.dummyfunction("""COMPUTED_VALUE"""),"Dante Souza do Monte") -> Dante Souza do Monte | D37: =IFERROR(__xludf.dummyfunction("""COMPUTED_VALUE"""),"19/09/2024") -> 19/09/2024 | E37: =IFERROR(__xludf.dummyfunction("""COMPUTED_VALUE"""),"004.149.744-92") -> 004.149.744-92 | F37: =IFERROR(__xludf.dummyfunction("""COMPUTED_VALUE"""),"INFANTIL 1") -> INFANTIL 1 | G37: =IFERROR(__xludf.dummyfunction("""COMPUTED_VALUE"""),"CEMEI PROFª MARIA LUZIA RIO LIMA") -> CEMEI PROFª MARIA LUZIA RIO LIMA | H37: =IFERROR(__xludf.dummyfunction("""COMPUTED_VALUE"""),"REGIONAL 5") -> REGIONAL 5
A38: =IFERROR(__xludf.dummyfunction("""COMPUTED_VALUE"""),"04/02/2026 08:52:54") -> 04/02/2026 08:52:54 | B38: =IFERROR(__xludf.dummyfunction("""COMPUTED_VALUE"""),"1") -> 1 | C38: =IFERROR(__xludf.dummyfunction("""COMPUTED_VALUE"""),"RENAN JOSÉ DA SILVA") -> RENAN JOSÉ DA SILVA | D38: =IFERROR(__xludf.dummyfunction("""COMPUTED_VALUE"""),"18/04/2024") -> 18/04/2024 | E38: =IFERROR(__xludf.dummyfunction("""COMPUTED_VALUE"""),"003.612.264-54") -> 003.612.264-54 | F38: =IFERROR(__xludf.dummyfunction("""COMPUTED_VALUE"""),"INFANTIL 1") -> INFANTIL 1 | G38: =IFERROR(__xludf.dummyfunction("""COMPUTED_VALUE"""),"CEMEI PROFESSORA CIBELE DE ANDRADE MENDES DE AZEVEDO") -> CEMEI PROFESSORA CIBELE DE ANDRADE MENDES DE AZEVEDO | H38: =IFERROR(__xludf.dummyfunction("""COMPUTED_VALUE"""),"REGIONAL 7") -> REGIONAL 7
A39: =IFERROR(__xludf.dummyfunction("""COMPUTED_VALUE"""),"05/02/2026 12:22:17") -> 05/02/2026 12:22:17 | B39: =IFERROR(__xludf.dummyfunction("""COMPUTED_VALUE"""),"2") -> 2 | C39: =IFERROR(__xludf.dummyfunction("""COMPUTED_VALUE"""),"ELLOÁH JASMIN NASCIMENTO DA SILVA") -> ELLOÁH JASMIN NASCIMENTO DA SILVA | D39: =IFERROR(__xludf.dummyfunction("""COMPUTED_VALUE"""),"12/08/2024") -> 12/08/2024 | E39: =IFERROR(__xludf.dummyfunction("""COMPUTED_VALUE"""),"003.964.064-75") -> 003.964.064-75 | F39: =IFERROR(__xludf.dummyfunction("""COMPUTED_VALUE"""),"INFANTIL 1") -> INFANTIL 1 | G39: =IFERROR(__xludf.dummyfunction("""COMPUTED_VALUE"""),"CEMEI PROFESSORA CIBELE DE ANDRADE MENDES DE AZEVEDO") -> CEMEI PROFESSORA CIBELE DE ANDRADE MENDES DE AZEVEDO | H39: =IFERROR(__xludf.dummyfunction("""COMPUTED_VALUE"""),"REGIONAL 7") -> REGIONAL 7
A40: =IFERROR(__xludf.dummyfunction("""COMPUTED_VALUE"""),"05/02/2026 13:29:32") -> 05/02/2026 13:29:32 | B40: =IFERROR(__xludf.dummyfunction("""COMPUTED_VALUE"""),"3") -> 3 | C40: =IFERROR(__xludf.dummyfunction("""COMPUTED_VALUE"""),"OLIVER LICKS DE ALMEIDA") -> OLIVER LICKS DE ALMEIDA | D40: =IFERROR(__xludf.dummyfunction("""COMPUTED_VALUE"""),"16/05/2024") -> 16/05/2024 | E40: =IFERROR(__xludf.dummyfunction("""COMPUTED_VALUE"""),"002.966.174-90") -> 002.966.174-90 | F40: =IFERROR(__xludf.dummyfunction("""COMPUTED_VALUE"""),"INFANTIL 1") -> INFANTIL 1 | G40: =IFERROR(__xludf.dummyfunction("""COMPUTED_VALUE"""),"CEMEI PROFESSORA CIBELE DE ANDRADE MENDES DE AZEVEDO") -> CEMEI PROFESSORA CIBELE DE ANDRADE MENDES DE AZEVEDO | H40: =IFERROR(__xludf.dummyfunction("""COMPUTED_VALUE"""),"REGIONAL 7") -> REGIONAL 7
A41: =IFERROR(__xludf.dummyfunction("""COMPUTED_VALUE"""),"05/02/2026 15:38:24") -> 05/02/2026 15:38:24 | B41: =IFERROR(__xludf.dummyfunction("""COMPUTED_VALUE"""),"4") -> 4 | C41: =IFERROR(__xludf.dummyfunction("""COMPUTED_VALUE"""),"THOMAS ENRICO RODRIGUES DE BARROS") -> THOMAS ENRICO RODRIGUES DE BARROS | D41: =IFERROR(__xludf.dummyfunction("""COMPUTED_VALUE"""),"19/05/2024") -> 19/05/2024 | E41: =IFERROR(__xludf.dummyfunction("""COMPUTED_VALUE"""),"003.082.134-75") -> 003.082.134-75 | F41: =IFERROR(__xludf.dummyfunction("""COMPUTED_VALUE"""),"INFANTIL 1") -> INFANTIL 1 | G41: =IFERROR(__xludf.dummyfunction("""COMPUTED_VALUE"""),"CEMEI PROFESSORA CIBELE DE ANDRADE MENDES DE AZEVEDO") -> CEMEI PROFESSORA CIBELE DE ANDRADE MENDES DE AZEVEDO | H41: =IFERROR(__xludf.dummyfunction("""COMPUTED_VALUE"""),"REGIONAL 7") -> REGIONAL 7
A42: =IFERROR(__xludf.dummyfunction("""COMPUTED_VALUE"""),"05/02/2026 20:35:45") -> 05/02/2026 20:35:45 | B42: =IFERROR(__xludf.dummyfunction("""COMPUTED_VALUE"""),"5") -> 5 | C42: =IFERROR(__xludf.dummyfunction("""COMPUTED_VALUE"""),"YASMIM BEATRIZ DA SILVA ADRIÃO") -> YASMIM BEATRIZ DA SILVA ADRIÃO | D42: =IFERROR(__xludf.dummyfunction("""COMPUTED_VALUE"""),"14/03/2025") -> 14/03/2025 | E42: =IFERROR(__xludf.dummyfunction("""COMPUTED_VALUE"""),"005.732.894-33") -> 005.732.894-33 | F42: =IFERROR(__xludf.dummyfunction("""COMPUTED_VALUE"""),"INFANTIL 1") -> INFANTIL 1 | G42: =IFERROR(__xludf.dummyfunction("""COMPUTED_VALUE"""),"CEMEI PROFESSORA CIBELE DE ANDRADE MENDES DE AZEVEDO") -> CEMEI PROFESSORA CIBELE DE ANDRADE MENDES DE AZEVEDO | H42: =IFERROR(__xludf.dummyfunction("""COMPUTED_VALUE"""),"REGIONAL 7") -> REGIONAL 7
A43: =IFERROR(__xludf.dummyfunction("""COMPUTED_VALUE"""),"23/02/2026 14:03:33") -> 23/02/2026 14:03:33 | B43: =IFERROR(__xludf.dummyfunction("""COMPUTED_VALUE"""),"6") -> 6 | C43: =IFERROR(__xludf.dummyfunction("""COMPUTED_VALUE"""),"EMANUELLY SOFIA DA SILVA") -> EMANUELLY SOFIA DA SILVA | D43: =IFERROR(__xludf.dummyfunction("""COMPUTED_VALUE"""),"10/04/2024") -> 10/04/2024 | E43: =IFERROR(__xludf.dummyfunction("""COMPUTED_VALUE"""),"002.714.984-63") -> 002.714.984-63 | F43: =IFERROR(__xludf.dummyfunction("""COMPUTED_VALUE"""),"INFANTIL 1") -> INFANTIL 1 | G43: =IFERROR(__xludf.dummyfunction("""COMPUTED_VALUE"""),"CEMEI PROFESSORA CIBELE DE ANDRADE MENDES DE AZEVEDO") -> CEMEI PROFESSORA CIBELE DE ANDRADE MENDES DE AZEVEDO | H43: =IFERROR(__xludf.dummyfunction("""COMPUTED_VALUE"""),"REGIONAL 7") -> REGIONAL 7
A44: =IFERROR(__xludf.dummyfunction("""COMPUTED_VALUE"""),"16/03/2026 10:09:54") -> 16/03/2026 10:09:54 | B44: =IFERROR(__xludf.dummyfunction("""COMPUTED_VALUE"""),"7") -> 7 | C44: =IFERROR(__xludf.dummyfunction("""COMPUTED_VALUE"""),"HELENA MARIA CAVALCANTI MARTINS TORRES") -> HELENA MARIA CAVALCANTI MARTINS TORRES | D44: =IFERROR(__xludf.dummyfunction("""COMPUTED_VALUE"""),"15/04/2024") -> 15/04/2024 | E44: =IFERROR(__xludf.dummyfunction("""COMPUTED_VALUE"""),"002.611.704-57") -> 002.611.704-57 | F44: =IFERROR(__xludf.dummyfunction("""COMPUTED_VALUE"""),"INFANTIL 1") -> INFANTIL 1 | G44: =IFERROR(__xludf.dummyfunction("""COMPUTED_VALUE"""),"CEMEI PROFESSORA CIBELE DE ANDRADE MENDES DE AZEVEDO") -> CEMEI PROFESSORA CIBELE DE ANDRADE MENDES DE AZEVEDO | H44: =IFERROR(__xludf.dummyfunction("""COMPUTED_VALUE"""),"REGIONAL 7") -> REGIONAL 7
A45: =IFERROR(__xludf.dummyfunction("""COMPUTED_VALUE"""),"18/03/2026 12:28:10") -> 18/03/2026 12:28:10 | B45: =IFERROR(__xludf.dummyfunction("""COMPUTED_VALUE"""),"8") -> 8 | C45: =IFERROR(__xludf.dummyfunction("""COMPUTED_VALUE"""),"LAVI EMANUEL SIQUEIRA DA SILVA") -> LAVI EMANUEL SIQUEIRA DA SILVA | D45: =IFERROR(__xludf.dummyfunction("""COMPUTED_VALUE"""),"19/01/2026") -> 19/01/2026 | E45: =IFERROR(__xludf.dummyfunction("""COMPUTED_VALUE"""),"045.571.744-34") -> 045.571.744-34 | F45: =IFERROR(__xludf.dummyfunction("""COMPUTED_VALUE"""),"INFANTIL 1") -> INFANTIL 1 | G45: =IFERROR(__xludf.dummyfunction("""COMPUTED_VALUE"""),"CEMEI PROFESSORA CIBELE DE ANDRADE MENDES DE AZEVEDO") -> CEMEI PROFESSORA CIBELE DE ANDRADE MENDES DE AZEVEDO | H45: =IFERROR(__xludf.dummyfunction("""COMPUTED_VALUE"""),"REGIONAL 7") -> REGIONAL 7
A46: =IFERROR(__xludf.dummyfunction("""COMPUTED_VALUE"""),"26/03/2026 18:22:32") -> 26/03/2026 18:22:32 | B46: =IFERROR(__xludf.dummyfunction("""COMPUTED_VALUE"""),"9") -> 9 | C46: =IFERROR(__xludf.dummyfunction("""COMPUTED_VALUE"""),"AYLA MANUELLE ALMEIDA DURVAL BRISSANTT") -> AYLA MANUELLE ALMEIDA DURVAL BRISSANTT | D46: =IFERROR(__xludf.dummyfunction("""COMPUTED_VALUE"""),"20/11/2024") -> 20/11/2024 | E46: =IFERROR(__xludf.dummyfunction("""COMPUTED_VALUE"""),"004.727.814-56") -> 004.727.814-56 | F46: =IFERROR(__xludf.dummyfunction("""COMPUTED_VALUE"""),"INFANTIL 1") -> INFANTIL 1 | G46: =IFERROR(__xludf.dummyfunction("""COMPUTED_VALUE"""),"CEMEI PROFESSORA CIBELE DE ANDRADE MENDES DE AZEVEDO") -> CEMEI PROFESSORA CIBELE DE ANDRADE MENDES DE AZEVEDO | H46: =IFERROR(__xludf.dummyfunction("""COMPUTED_VALUE"""),"REGIONAL 7") -> REGIONAL 7
A47: =IFERROR(__xludf.dummyfunction("""COMPUTED_VALUE"""),"29/04/2026 15:44:18") -> 29/04/2026 15:44:18 | B47: =IFERROR(__xludf.dummyfunction("""COMPUTED_VALUE"""),"10") -> 10 | C47: =IFERROR(__xludf.dummyfunction("""COMPUTED_VALUE"""),"AYLA SOFIA CORREIA DE LIMA") -> AYLA SOFIA CORREIA DE LIMA | D47: =IFERROR(__xludf.dummyfunction("""COMPUTED_VALUE"""),"06/05/2025") -> 06/05/2025 | E47: =IFERROR(__xludf.dummyfunction("""COMPUTED_VALUE"""),"006.122.294-16") -> 006.122.294-16 | F47: =IFERROR(__xludf.dummyfunction("""COMPUTED_VALUE"""),"INFANTIL 1") -> INFANTIL 1 | G47: =IFERROR(__xludf.dummyfunction("""COMPUTED_VALUE"""),"CEMEI PROFESSORA CIBELE DE ANDRADE MENDES DE AZEVEDO") -> CEMEI PROFESSORA CIBELE DE ANDRADE MENDES DE AZEVEDO | H47: =IFERROR(__xludf.dummyfunction("""COMPUTED_VALUE"""),"REGIONAL 7") -> REGIONAL 7
A48: =IFERROR(__xludf.dummyfunction("""COMPUTED_VALUE"""),"19/05/2026 10:34:49") -> 19/05/2026 10:34:49 | B48: =IFERROR(__xludf.dummyfunction("""COMPUTED_VALUE"""),"11") -> 11 | C48: =IFERROR(__xludf.dummyfunction("""COMPUTED_VALUE"""),"HARIEL CRUZ CAMPOS") -> HARIEL CRUZ CAMPOS | D48: =IFERROR(__xludf.dummyfunction("""COMPUTED_VALUE"""),"25/10/2025") -> 25/10/2025 | E48: =IFERROR(__xludf.dummyfunction("""COMPUTED_VALUE"""),"017.444.294-72") -> 017.444.294-72 | F48: =IFERROR(__xludf.dummyfunction("""COMPUTED_VALUE"""),"INFANTIL 1") -> INFANTIL 1 | G48: =IFERROR(__xludf.dummyfunction("""COMPUTED_VALUE"""),"CEMEI PROFESSORA CIBELE DE ANDRADE MENDES DE AZEVEDO") -> CEMEI PROFESSORA CIBELE DE ANDRADE MENDES DE AZEVEDO | H48: =IFERROR(__xludf.dummyfunction("""COMPUTED_VALUE"""),"REGIONAL 7") -> REGIONAL 7
A49: =IFERROR(__xludf.dummyfunction("""COMPUTED_VALUE"""),"25/05/2026 18:01:52") -> 25/05/2026 18:01:52 | B49: =IFERROR(__xludf.dummyfunction("""COMPUTED_VALUE"""),"12") -> 12 | C49: =IFERROR(__xludf.dummyfunction("""COMPUTED_VALUE"""),"Naomi Uehara Alves da Silva") -> Naomi Uehara Alves da Silva | D49: =IFERROR(__xludf.dummyfunction("""COMPUTED_VALUE"""),"15/04/2025") -> 15/04/2025 | E49: =IFERROR(__xludf.dummyfunction("""COMPUTED_VALUE"""),"005.944.274-36") -> 005.944.274-36 | F49: =IFERROR(__xludf.dummyfunction("""COMPUTED_VALUE"""),"INFANTIL 1") -> INFANTIL 1 | G49: =IFERROR(__xludf.dummyfunction("""COMPUTED_VALUE"""),"CEMEI PROFESSORA CIBELE DE ANDRADE MENDES DE AZEVEDO") -> CEMEI PROFESSORA CIBELE DE ANDRADE MENDES DE AZEVEDO | H49: =IFERROR(__xludf.dummyfunction("""COMPUTED_VALUE"""),"REGIONAL 7") -> REGIONAL 7
A50: =IFERROR(__xludf.dummyfunction("""COMPUTED_VALUE"""),"10/07/2026 10:10:23") -> 10/07/2026 10:10:23 | B50: =IFERROR(__xludf.dummyfunction("""COMPUTED_VALUE"""),"13") -> 13 | C50: =IFERROR(__xludf.dummyfunction("""COMPUTED_VALUE"""),"Cecília rafaelle de santana Ferreira") -> Cecília rafaelle de santana Ferreira | D50: =IFERROR(__xludf.dummyfunction("""COMPUTED_VALUE"""),"31/08/2024") -> 31/08/2024 | E50: =IFERROR(__xludf.dummyfunction("""COMPUTED_VALUE"""),"004.210.464-57") -> 004.210.464-57 | F50: =IFERROR(__xludf.dummyfunction("""COMPUTED_VALUE"""),"INFANTIL 1") -> INFANTIL 1 | G50: =IFERROR(__xludf.dummyfunction("""COMPUTED_VALUE"""),"CEMEI PROFESSORA CIBELE DE ANDRADE MENDES DE AZEVEDO") -> CEMEI PROFESSORA CIBELE DE ANDRADE MENDES DE AZEVEDO | H50: =IFERROR(__xludf.dummyfunction("""COMPUTED_VALUE"""),"REGIONAL 7") -> REGIONAL 7
A51: =IFERROR(__xludf.dummyfunction("""COMPUTED_VALUE"""),"07/08/2026 09:49:30") -> 07/08/2026 09:49:30 | B51: =IFERROR(__xludf.dummyfunction("""COMPUTED_VALUE"""),"14") -> 14 | C51: =IFERROR(__xludf.dummyfunction("""COMPUTED_VALUE"""),"Pedro Mikael vieira da Silva") -> Pedro Mikael vieira da Silva | D51: =IFERROR(__xludf.dummyfunction("""COMPUTED_VALUE"""),"28/11/2024") -> 28/11/2024 | E51: =IFERROR(__xludf.dummyfunction("""COMPUTED_VALUE"""),"004.703.434-35") -> 004.703.434-35 | F51: =IFERROR(__xludf.dummyfunction("""COMPUTED_VALUE"""),"INFANTIL 1") -> INFANTIL 1 | G51: =IFERROR(__xludf.dummyfunction("""COMPUTED_VALUE"""),"CEMEI PROFESSORA CIBELE DE ANDRADE MENDES DE AZEVEDO") -> CEMEI PROFESSORA CIBELE DE ANDRADE MENDES DE AZEVEDO | H51: =IFERROR(__xludf.dummyfunction("""COMPUTED_VALUE"""),"REGIONAL 7") -> REGIONAL 7
A52: =IFERROR(__xludf.dummyfunction("""COMPUTED_VALUE"""),"13/08/2026 11:11:04") -> 13/08/2026 11:11:04 | B52: =IFERROR(__xludf.dummyfunction("""COMPUTED_VALUE"""),"15") -> 15 | C52: =IFERROR(__xludf.dummyfunction("""COMPUTED_VALUE"""),"ANDRÉ LUIZ DE MELO SILVA") -> ANDRÉ LUIZ DE MELO SILVA | D52: =IFERROR(__xludf.dummyfunction("""COMPUTED_VALUE"""),"08/12/2025") -> 08/12/2025 | E52: =IFERROR(__xludf.dummyfunction("""COMPUTED_VALUE"""),"033.619.694-68") -> 033.619.694-68 | F52: =IFERROR(__xludf.dummyfunction("""COMPUTED_VALUE"""),"INFANTIL 1") -> INFANTIL 1 | G52: =IFERROR(__xludf.dummyfunction("""COMPUTED_VALUE"""),"CEMEI PROFESSORA CIBELE DE ANDRADE MENDES DE AZEVEDO") -> CEMEI PROFESSORA CIBELE DE ANDRADE MENDES DE AZEVEDO | H52: =IFERROR(__xludf.dummyfunction("""COMPUTED_VALUE"""),"REGIONAL 7") -> REGIONAL 7
A53: =IFERROR(__xludf.dummyfunction("""COMPUTED_VALUE"""),"25/05/2026 18:09:35") -> 25/05/2026 18:09:35 | B53: =IFERROR(__xludf.dummyfunction("""COMPUTED_VALUE"""),"1") -> 1 | C53: =IFERROR(__xludf.dummyfunction("""COMPUTED_VALUE"""),"Anthony Gabriel Alves Teixeira da silva") -> Anthony Gabriel Alves Teixeira da silva | D53: =IFERROR(__xludf.dummyfunction("""COMPUTED_VALUE"""),"29/02/2024") -> 29/02/2024 | E53: =IFERROR(__xludf.dummyfunction("""COMPUTED_VALUE"""),"002.138.204-20") -> 002.138.204-20 | F53: =IFERROR(__xludf.dummyfunction("""COMPUTED_VALUE"""),"INFANTIL 2") -> INFANTIL 2 | G53: =IFERROR(__xludf.dummyfunction("""COMPUTED_VALUE"""),"CEMEI PROFESSORA CIBELE DE ANDRADE MENDES DE AZEVEDO") -> CEMEI PROFESSORA CIBELE DE ANDRADE MENDES DE AZEVEDO | H53: =IFERROR(__xludf.dummyfunction("""COMPUTED_VALUE"""),"REGIONAL 7") -> REGIONAL 7
A54: =IFERROR(__xludf.dummyfunction("""COMPUTED_VALUE"""),"15/07/2026 09:23:39") -> 15/07/2026 09:23:39 | B54: =IFERROR(__xludf.dummyfunction("""COMPUTED_VALUE"""),"2") -> 2 | C54: =IFERROR(__xludf.dummyfunction("""COMPUTED_VALUE"""),"Kaue Leandro da Silva") -> Kaue Leandro da Silva | D54: =IFERROR(__xludf.dummyfunction("""COMPUTED_VALUE"""),"18/09/2023") -> 18/09/2023 | E54: =IFERROR(__xludf.dummyfunction("""COMPUTED_VALUE"""),"186.590.934-37") -> 186.590.934-37 | F54: =IFERROR(__xludf.dummyfunction("""COMPUTED_VALUE"""),"INFANTIL 2") -> INFANTIL 2 | G54: =IFERROR(__xludf.dummyfunction("""COMPUTED_VALUE"""),"CEMEI PROFESSORA CIBELE DE ANDRADE MENDES DE AZEVEDO") -> CEMEI PROFESSORA CIBELE DE ANDRADE MENDES DE AZEVEDO | H54: =IFERROR(__xludf.dummyfunction("""COMPUTED_VALUE"""),"REGIONAL 7") -> REGIONAL 7
A55: =IFERROR(__xludf.dummyfunction("""COMPUTED_VALUE"""),"15/07/2026 09:23:44") -> 15/07/2026 09:23:44 | B55: =IFERROR(__xludf.dummyfunction("""COMPUTED_VALUE"""),"3") -> 3 | C55: =IFERROR(__xludf.dummyfunction("""COMPUTED_VALUE"""),"Miguel rhavi de Amorim") -> Miguel rhavi de Amorim | D55: =IFERROR(__xludf.dummyfunction("""COMPUTED_VALUE"""),"19/09/2023") -> 19/09/2023 | E55: =IFERROR(__xludf.dummyfunction("""COMPUTED_VALUE"""),"001.025.094-84") -> 001.025.094-84 | F55: =IFERROR(__xludf.dummyfunction("""COMPUTED_VALUE"""),"INFANTIL 2") -> INFANTIL 2 | G55: =IFERROR(__xludf.dummyfunction("""COMPUTED_VALUE"""),"CEMEI PROFESSORA CIBELE DE ANDRADE MENDES DE AZEVEDO") -> CEMEI PROFESSORA CIBELE DE ANDRADE MENDES DE AZEVEDO | H55: =IFERROR(__xludf.dummyfunction("""COMPUTED_VALUE"""),"REGIONAL 7") -> REGIONAL 7
A56: =IFERROR(__xludf.dummyfunction("""COMPUTED_VALUE"""),"10/08/2026 08:46:38") -> 10/08/2026 08:46:38 | B56: =IFERROR(__xludf.dummyfunction("""COMPUTED_VALUE"""),"4") -> 4 | C56: =IFERROR(__xludf.dummyfunction("""COMPUTED_VALUE"""),"Maria Isadora França Gomes") -> Maria Isadora França Gomes | D56: =IFERROR(__xludf.dummyfunction("""COMPUTED_VALUE"""),"07/08/2023") -> 07/08/2023 | E56: =IFERROR(__xludf.dummyfunction("""COMPUTED_VALUE"""),"186.202.454-57") -> 186.202.454-57 | F56: =IFERROR(__xludf.dummyfunction("""COMPUTED_VALUE"""),"INFANTIL 2") -> INFANTIL 2 | G56: =IFERROR(__xludf.dummyfunction("""COMPUTED_VALUE"""),"CEMEI PROFESSORA CIBELE DE ANDRADE MENDES DE AZEVEDO") -> CEMEI PROFESSORA CIBELE DE ANDRADE MENDES DE AZEVEDO | H56: =IFERROR(__xludf.dummyfunction("""COMPUTED_VALUE"""),"REGIONAL 7") -> REGIONAL 7
A57: =IFERROR(__xludf.dummyfunction("""COMPUTED_VALUE"""),"09/03/2026 13:36:35") -> 09/03/2026 13:36:35 | B57: =IFERROR(__xludf.dummyfunction("""COMPUTED_VALUE"""),"1") -> 1 | C57: =IFERROR(__xludf.dummyfunction("""COMPUTED_VALUE"""),"BRAYAN MENDES") -> BRAYAN MENDES | D57: =IFERROR(__xludf.dummyfunction("""COMPUTED_VALUE"""),"07/02/2023") -> 07/02/2023 | E57: =IFERROR(__xludf.dummyfunction("""COMPUTED_VALUE"""),"006.823.174-11") -> 006.823.174-11 | F57: =IFERROR(__xludf.dummyfunction("""COMPUTED_VALUE"""),"INFANTIL 3") -> INFANTIL 3 | G57: =IFERROR(__xludf.dummyfunction("""COMPUTED_VALUE"""),"CEMEI PROFESSORA CIBELE DE ANDRADE MENDES DE AZEVEDO") -> CEMEI PROFESSORA CIBELE DE ANDRADE MENDES DE AZEVEDO | H57: =IFERROR(__xludf.dummyfunction("""COMPUTED_VALUE"""),"REGIONAL 7") -> REGIONAL 7
A58: =IFERROR(__xludf.dummyfunction("""COMPUTED_VALUE"""),"23/04/2026 10:57:36") -> 23/04/2026 10:57:36 | B58: =IFERROR(__xludf.dummyfunction("""COMPUTED_VALUE"""),"2") -> 2 | C58: =IFERROR(__xludf.dummyfunction("""COMPUTED_VALUE"""),"AYLLA VALENTINA SOUZA DOS SANTOS") -> AYLLA VALENTINA SOUZA DOS SANTOS | D58: =IFERROR(__xludf.dummyfunction("""COMPUTED_VALUE"""),"18/11/2022") -> 18/11/2022 | E58: =IFERROR(__xludf.dummyfunction("""COMPUTED_VALUE"""),"183.494.434-13") -> 183.494.434-13 | F58: =IFERROR(__xludf.dummyfunction("""COMPUTED_VALUE"""),"INFANTIL 3") -> INFANTIL 3 | G58: =IFERROR(__xludf.dummyfunction("""COMPUTED_VALUE"""),"CEMEI PROFESSORA CIBELE DE ANDRADE MENDES DE AZEVEDO") -> CEMEI PROFESSORA CIBELE DE ANDRADE MENDES DE AZEVEDO | H58: =IFERROR(__xludf.dummyfunction("""COMPUTED_VALUE"""),"REGIONAL 7") -> REGIONAL 7
A59: =IFERROR(__xludf.dummyfunction("""COMPUTED_VALUE"""),"13/05/2026 10:59:27") -> 13/05/2026 10:59:27 | B59: =IFERROR(__xludf.dummyfunction("""COMPUTED_VALUE"""),"3") -> 3 | C59: =IFERROR(__xludf.dummyfunction("""COMPUTED_VALUE"""),"REBECA LUANA DA SILVA MILANEZ") -> REBECA LUANA DA SILVA MILANEZ | D59: =IFERROR(__xludf.dummyfunction("""COMPUTED_VALUE"""),"21/09/2022") -> 21/09/2022 | E59: =IFERROR(__xludf.dummyfunction("""COMPUTED_VALUE"""),"182.950.714-16") -> 182.950.714-16 | F59: =IFERROR(__xludf.dummyfunction("""COMPUTED_VALUE"""),"INFANTIL 3") -> INFANTIL 3 | G59: =IFERROR(__xludf.dummyfunction("""COMPUTED_VALUE"""),"CEMEI PROFESSORA CIBELE DE ANDRADE MENDES DE AZEVEDO") -> CEMEI PROFESSORA CIBELE DE ANDRADE MENDES DE AZEVEDO | H59: =IFERROR(__xludf.dummyfunction("""COMPUTED_VALUE"""),"REGIONAL 7") -> REGIONAL 7
A60: =IFERROR(__xludf.dummyfunction("""COMPUTED_VALUE"""),"28/01/2026 08:08:37") -> 28/01/2026 08:08:37 | B60: =IFERROR(__xludf.dummyfunction("""COMPUTED_VALUE"""),"1") -> 1 | C60: =IFERROR(__xludf.dummyfunction("""COMPUTED_VALUE"""),"BRYAN ARTHUR COSTA SILVA") -> BRYAN ARTHUR COSTA SILVA | D60: =IFERROR(__xludf.dummyfunction("""COMPUTED_VALUE"""),"13/09/2024") -> 13/09/2024 | E60: =IFERROR(__xludf.dummyfunction("""COMPUTED_VALUE"""),"004.069.734-74") -> 004.069.734-74 | F60: =IFERROR(__xludf.dummyfunction("""COMPUTED_VALUE"""),"INFANTIL 1") -> INFANTIL 1 | G60: =IFERROR(__xludf.dummyfunction("""COMPUTED_VALUE"""),"CEMEI PROFESSORA LINDOMAR DOMINGOS DA SILVA ANJOS") -> CEMEI PROFESSORA LINDOMAR DOMINGOS DA SILVA ANJOS | H60: =IFERROR(__xludf.dummyfunction("""COMPUTED_VALUE"""),"REGIONAL 5") -> REGIONAL 5
A61: =IFERROR(__xludf.dummyfunction("""COMPUTED_VALUE"""),"28/01/2026 08:11:25") -> 28/01/2026 08:11:25 | B61: =IFERROR(__xludf.dummyfunction("""COMPUTED_VALUE"""),"2") -> 2 | C61: =IFERROR(__xludf.dummyfunction("""COMPUTED_VALUE"""),"ANNA LIZ COSTA DA SILVA MOURA") -> ANNA LIZ COSTA DA SILVA MOURA | D61: =IFERROR(__xludf.dummyfunction("""COMPUTED_VALUE"""),"20/04/2024") -> 20/04/2024 | E61: =IFERROR(__xludf.dummyfunction("""COMPUTED_VALUE"""),"170.372.894-77") -> 170.372.894-77 | F61: =IFERROR(__xludf.dummyfunction("""COMPUTED_VALUE"""),"INFANTIL 1") -> INFANTIL 1 | G61: =IFERROR(__xludf.dummyfunction("""COMPUTED_VALUE"""),"CEMEI PROFESSORA LINDOMAR DOMINGOS DA SILVA ANJOS") -> CEMEI PROFESSORA LINDOMAR DOMINGOS DA SILVA ANJOS | H61: =IFERROR(__xludf.dummyfunction("""COMPUTED_VALUE"""),"REGIONAL 5") -> REGIONAL 5
A62: =IFERROR(__xludf.dummyfunction("""COMPUTED_VALUE"""),"28/01/2026 08:13:45") -> 28/01/2026 08:13:45 | B62: =IFERROR(__xludf.dummyfunction("""COMPUTED_VALUE"""),"3") -> 3 | C62: =IFERROR(__xludf.dummyfunction("""COMPUTED_VALUE"""),"GEYSON LUCAS CABRAL DA SILVA") -> GEYSON LUCAS CABRAL DA SILVA | D62: =IFERROR(__xludf.dummyfunction("""COMPUTED_VALUE"""),"18/07/2024") -> 18/07/2024 | E62: =IFERROR(__xludf.dummyfunction("""COMPUTED_VALUE"""),"003.545.084-31") -> 003.545.084-31 | F62: =IFERROR(__xludf.dummyfunction("""COMPUTED_VALUE"""),"INFANTIL 1") -> INFANTIL 1 | G62: =IFERROR(__xludf.dummyfunction("""COMPUTED_VALUE"""),"CEMEI PROFESSORA LINDOMAR DOMINGOS DA SILVA ANJOS") -> CEMEI PROFESSORA LINDOMAR DOMINGOS DA SILVA ANJOS | H62: =IFERROR(__xludf.dummyfunction("""COMPUTED_VALUE"""),"REGIONAL 5") -> REGIONAL 5
A63: =IFERROR(__xludf.dummyfunction("""COMPUTED_VALUE"""),"28/01/2026 08:25:22") -> 28/01/2026 08:25:22 | B63: =IFERROR(__xludf.dummyfunction("""COMPUTED_VALUE"""),"4") -> 4 | C63: =IFERROR(__xludf.dummyfunction("""COMPUTED_VALUE"""),"HELENA MAITÊ BARRETO DA SILVA") -> HELENA MAITÊ BARRETO DA SILVA | D63: =IFERROR(__xludf.dummyfunction("""COMPUTED_VALUE"""),"02/11/2024") -> 02/11/2024 | E63: =IFERROR(__xludf.dummyfunction("""COMPUTED_VALUE"""),"004.709.854-61") -> 004.709.854-61 | F63: =IFERROR(__xludf.dummyfunction("""COMPUTED_VALUE"""),"INFANTIL 1") -> INFANTIL 1 | G63: =IFERROR(__xludf.dummyfunction("""COMPUTED_VALUE"""),"CEMEI PROFESSORA LINDOMAR DOMINGOS DA SILVA ANJOS") -> CEMEI PROFESSORA LINDOMAR DOMINGOS DA SILVA ANJOS | H63: =IFERROR(__xludf.dummyfunction("""COMPUTED_VALUE"""),"REGIONAL 5") -> REGIONAL 5
A64: =IFERROR(__xludf.dummyfunction("""COMPUTED_VALUE"""),"28/01/2026 09:18:21") -> 28/01/2026 09:18:21 | B64: =IFERROR(__xludf.dummyfunction("""COMPUTED_VALUE"""),"5") -> 5 | C64: =IFERROR(__xludf.dummyfunction("""COMPUTED_VALUE"""),"HELOISA FERREIRA MIRANDA DA SILVA") -> HELOISA FERREIRA MIRANDA DA SILVA | D64: =IFERROR(__xludf.dummyfunction("""COMPUTED_VALUE"""),"15/01/2025") -> 15/01/2025 | E64: =IFERROR(__xludf.dummyfunction("""COMPUTED_VALUE"""),"005.241.694-11") -> 005.241.694-11 | F64: =IFERROR(__xludf.dummyfunction("""COMPUTED_VALUE"""),"INFANTIL 1") -> INFANTIL 1 | G64: =IFERROR(__xludf.dummyfunction("""COMPUTED_VALUE"""),"CEMEI PROFESSORA LINDOMAR DOMINGOS DA SILVA ANJOS") -> CEMEI PROFESSORA LINDOMAR DOMINGOS DA SILVA ANJOS | H64: =IFERROR(__xludf.dummyfunction("""COMPUTED_VALUE"""),"REGIONAL 5") -> REGIONAL 5
A65: =IFERROR(__xludf.dummyfunction("""COMPUTED_VALUE"""),"28/01/2026 09:33:11") -> 28/01/2026 09:33:11 | B65: =IFERROR(__xludf.dummyfunction("""COMPUTED_VALUE"""),"6") -> 6 | C65: =IFERROR(__xludf.dummyfunction("""COMPUTED_VALUE"""),"JASMYNE ELOISE DOS SANTOS") -> JASMYNE ELOISE DOS SANTOS | D65: =IFERROR(__xludf.dummyfunction("""COMPUTED_VALUE"""),"23/06/2024") -> 23/06/2024 | E65: =IFERROR(__xludf.dummyfunction("""COMPUTED_VALUE"""),"004.726.704-68") -> 004.726.704-68 | F65: =IFERROR(__xludf.dummyfunction("""COMPUTED_VALUE"""),"INFANTIL 1") -> INFANTIL 1 | G65: =IFERROR(__xludf.dummyfunction("""COMPUTED_VALUE"""),"CEMEI PROFESSORA LINDOMAR DOMINGOS DA SILVA ANJOS") -> CEMEI PROFESSORA LINDOMAR DOMINGOS DA SILVA ANJOS | H65: =IFERROR(__xludf.dummyfunction("""COMPUTED_VALUE"""),"REGIONAL 5") -> REGIONAL 5
A66: =IFERROR(__xludf.dummyfunction("""COMPUTED_VALUE"""),"28/01/2026 09:38:34") -> 28/01/2026 09:38:34 | B66: =IFERROR(__xludf.dummyfunction("""COMPUTED_VALUE"""),"7") -> 7 | C66: =IFERROR(__xludf.dummyfunction("""COMPUTED_VALUE"""),"ALEF GABRIEL FERREIRA SALES") -> ALEF GABRIEL FERREIRA SALES | D66: =IFERROR(__xludf.dummyfunction("""COMPUTED_VALUE"""),"31/05/2024") -> 31/05/2024 | E66: =IFERROR(__xludf.dummyfunction("""COMPUTED_VALUE"""),"003.127.374-24") -> 003.127.374-24 | F66: =IFERROR(__xludf.dummyfunction("""COMPUTED_VALUE"""),"INFANTIL 1") -> INFANTIL 1 | G66: =IFERROR(__xludf.dummyfunction("""COMPUTED_VALUE"""),"CEMEI PROFESSORA LINDOMAR DOMINGOS DA SILVA ANJOS") -> CEMEI PROFESSORA LINDOMAR DOMINGOS DA SILVA ANJOS | H66: =IFERROR(__xludf.dummyfunction("""COMPUTED_VALUE"""),"REGIONAL 5") -> REGIONAL 5
A67: =IFERROR(__xludf.dummyfunction("""COMPUTED_VALUE"""),"28/01/2026 10:45:36") -> 28/01/2026 10:45:36 | B67: =IFERROR(__xludf.dummyfunction("""COMPUTED_VALUE"""),"8") -> 8 | C67: =IFERROR(__xludf.dummyfunction("""COMPUTED_VALUE"""),"THEO MENDES DA SILVA") -> THEO MENDES DA SILVA | D67: =IFERROR(__xludf.dummyfunction("""COMPUTED_VALUE"""),"25/11/2024") -> 25/11/2024 | E67: =IFERROR(__xludf.dummyfunction("""COMPUTED_VALUE"""),"004.687.804-16") -> 004.687.804-16 | F67: =IFERROR(__xludf.dummyfunction("""COMPUTED_VALUE"""),"INFANTIL 1") -> INFANTIL 1 | G67: =IFERROR(__xludf.dummyfunction("""COMPUTED_VALUE"""),"CEMEI PROFESSORA LINDOMAR DOMINGOS DA SILVA ANJOS") -> CEMEI PROFESSORA LINDOMAR DOMINGOS DA SILVA ANJOS | H67: =IFERROR(__xludf.dummyfunction("""COMPUTED_VALUE"""),"REGIONAL 5") -> REGIONAL 5
A68: =IFERROR(__xludf.dummyfunction("""COMPUTED_VALUE"""),"28/01/2026 12:49:55") -> 28/01/2026 12:49:55 | B68: =IFERROR(__xludf.dummyfunction("""COMPUTED_VALUE"""),"9") -> 9 | C68: =IFERROR(__xludf.dummyfunction("""COMPUTED_VALUE"""),"KAYLLANY CECÍLIA FEITOZA SANTOS DA SILVA") -> KAYLLANY CECÍLIA FEITOZA SANTOS DA SILVA | D68: =IFERROR(__xludf.dummyfunction("""COMPUTED_VALUE"""),"10/09/2024") -> 10/09/2024 | E68: =IFERROR(__xludf.dummyfunction("""COMPUTED_VALUE"""),"004.046.764-30") -> 004.046.764-30 | F68: =IFERROR(__xludf.dummyfunction("""COMPUTED_VALUE"""),"INFANTIL 1") -> INFANTIL 1 | G68: =IFERROR(__xludf.dummyfunction("""COMPUTED_VALUE"""),"CEMEI PROFESSORA LINDOMAR DOMINGOS DA SILVA ANJOS") -> CEMEI PROFESSORA LINDOMAR DOMINGOS DA SILVA ANJOS | H68: =IFERROR(__xludf.dummyfunction("""COMPUTED_VALUE"""),"REGIONAL 5") -> REGIONAL 5
A69: =IFERROR(__xludf.dummyfunction("""COMPUTED_VALUE"""),"28/01/2026 20:34:21") -> 28/01/2026 20:34:21 | B69: =IFERROR(__xludf.dummyfunction("""COMPUTED_VALUE"""),"10") -> 10 | C69: =IFERROR(__xludf.dummyfunction("""COMPUTED_VALUE"""),"LUNNA HÊLOA PINHEIRO DOS SANTOS") -> LUNNA HÊLOA PINHEIRO DOS SANTOS | D69: =IFERROR(__xludf.dummyfunction("""COMPUTED_VALUE"""),"01/04/2024") -> 01/04/2024 | E69: =IFERROR(__xludf.dummyfunction("""COMPUTED_VALUE"""),"002.535.554-69") -> 002.535.554-69 | F69: =IFERROR(__xludf.dummyfunction("""COMPUTED_VALUE"""),"INFANTIL 1") -> INFANTIL 1 | G69: =IFERROR(__xludf.dummyfunction("""COMPUTED_VALUE"""),"CEMEI PROFESSORA LINDOMAR DOMINGOS DA SILVA ANJOS") -> CEMEI PROFESSORA LINDOMAR DOMINGOS DA SILVA ANJOS | H69: =IFERROR(__xludf.dummyfunction("""COMPUTED_VALUE"""),"REGIONAL 5") -> REGIONAL 5
A70: =IFERROR(__xludf.dummyfunction("""COMPUTED_VALUE"""),"06/02/2026 14:12:06") -> 06/02/2026 14:12:06 | B70: =IFERROR(__xludf.dummyfunction("""COMPUTED_VALUE"""),"11") -> 11 | C70: =IFERROR(__xludf.dummyfunction("""COMPUTED_VALUE"""),"VIVIANE MARIA DE SANTANA FERREIRA") -> VIVIANE MARIA DE SANTANA FERREIRA | D70: =IFERROR(__xludf.dummyfunction("""COMPUTED_VALUE"""),"16/04/2024") -> 16/04/2024 | E70: =IFERROR(__xludf.dummyfunction("""COMPUTED_VALUE"""),"003.219.974-09") -> 003.219.974-09 | F70: =IFERROR(__xludf.dummyfunction("""COMPUTED_VALUE"""),"INFANTIL 1") -> INFANTIL 1 | G70: =IFERROR(__xludf.dummyfunction("""COMPUTED_VALUE"""),"CEMEI PROFESSORA LINDOMAR DOMINGOS DA SILVA ANJOS") -> CEMEI PROFESSORA LINDOMAR DOMINGOS DA SILVA ANJOS | H70: =IFERROR(__xludf.dummyfunction("""COMPUTED_VALUE"""),"REGIONAL 5") -> REGIONAL 5
A71: =IFERROR(__xludf.dummyfunction("""COMPUTED_VALUE"""),"11/02/2026 09:26:12") -> 11/02/2026 09:26:12 | B71: =IFERROR(__xludf.dummyfunction("""COMPUTED_VALUE"""),"12") -> 12 | C71: =IFERROR(__xludf.dummyfunction("""COMPUTED_VALUE"""),"KAUANY ISABELLE DA SILVA SANTOS") -> KAUANY ISABELLE DA SILVA SANTOS | D71: =IFERROR(__xludf.dummyfunction("""COMPUTED_VALUE"""),"13/09/2024") -> 13/09/2024 | E71: =IFERROR(__xludf.dummyfunction("""COMPUTED_VALUE"""),"004.058.404-62") -> 004.058.404-62 | F71: =IFERROR(__xludf.dummyfunction("""COMPUTED_VALUE"""),"INFANTIL 1") -> INFANTIL 1 | G71: =IFERROR(__xludf.dummyfunction("""COMPUTED_VALUE"""),"CEMEI PROFESSORA LINDOMAR DOMINGOS DA SILVA ANJOS") -> CEMEI PROFESSORA LINDOMAR DOMINGOS DA SILVA ANJOS | H71: =IFERROR(__xludf.dummyfunction("""COMPUTED_VALUE"""),"REGIONAL 5") -> REGIONAL 5
A72: =IFERROR(__xludf.dummyfunction("""COMPUTED_VALUE"""),"26/02/2026 23:54:06") -> 26/02/2026 23:54:06 | B72: =IFERROR(__xludf.dummyfunction("""COMPUTED_VALUE"""),"13") -> 13 | C72: =IFERROR(__xludf.dummyfunction("""COMPUTED_VALUE"""),"ARTHUR MIGUEL DOS SANTOS ROCHA") -> ARTHUR MIGUEL DOS SANTOS ROCHA | D72: =IFERROR(__xludf.dummyfunction("""COMPUTED_VALUE"""),"21/01/2025") -> 21/01/2025 | E72: =IFERROR(__xludf.dummyfunction("""COMPUTED_VALUE"""),"005.161.924-50") -> 005.161.924-50 | F72: =IFERROR(__xludf.dummyfunction("""COMPUTED_VALUE"""),"INFANTIL 1") -> INFANTIL 1 | G72: =IFERROR(__xludf.dummyfunction("""COMPUTED_VALUE"""),"CEMEI PROFESSORA LINDOMAR DOMINGOS DA SILVA ANJOS") -> CEMEI PROFESSORA LINDOMAR DOMINGOS DA SILVA ANJOS | H72: =IFERROR(__xludf.dummyfunction("""COMPUTED_VALUE"""),"REGIONAL 5") -> REGIONAL 5
A73: =IFERROR(__xludf.dummyfunction("""COMPUTED_VALUE"""),"03/03/2026 13:59:55") -> 03/03/2026 13:59:55 | B73: =IFERROR(__xludf.dummyfunction("""COMPUTED_VALUE"""),"14") -> 14 | C73: =IFERROR(__xludf.dummyfunction("""COMPUTED_VALUE"""),"GAEL ANTÔNIO DEODATO DE MEDEIROS") -> GAEL ANTÔNIO DEODATO DE MEDEIROS | D73: =IFERROR(__xludf.dummyfunction("""COMPUTED_VALUE"""),"05/04/2025") -> 05/04/2025 | E73: =IFERROR(__xludf.dummyfunction("""COMPUTED_VALUE"""),"005.879.454-94") -> 005.879.454-94 | F73: =IFERROR(__xludf.dummyfunction("""COMPUTED_VALUE"""),"INFANTIL 1") -> INFANTIL 1 | G73: =IFERROR(__xludf.dummyfunction("""COMPUTED_VALUE"""),"CEMEI PROFESSORA LINDOMAR DOMINGOS DA SILVA ANJOS") -> CEMEI PROFESSORA LINDOMAR DOMINGOS DA SILVA ANJOS | H73: =IFERROR(__xludf.dummyfunction("""COMPUTED_VALUE"""),"REGIONAL 5") -> REGIONAL 5
A74: =IFERROR(__xludf.dummyfunction("""COMPUTED_VALUE"""),"04/03/2026 10:32:01") -> 04/03/2026 10:32:01 | B74: =IFERROR(__xludf.dummyfunction("""COMPUTED_VALUE"""),"15") -> 15 | C74: =IFERROR(__xludf.dummyfunction("""COMPUTED_VALUE"""),"NOAH DANIEL MEDEIROS DA SILVA") -> NOAH DANIEL MEDEIROS DA SILVA | D74: =IFERROR(__xludf.dummyfunction("""COMPUTED_VALUE"""),"21/05/2025") -> 21/05/2025 | E74: =IFERROR(__xludf.dummyfunction("""COMPUTED_VALUE"""),"006.309.024-45") -> 006.309.024-45 | F74: =IFERROR(__xludf.dummyfunction("""COMPUTED_VALUE"""),"INFANTIL 1") -> INFANTIL 1 | G74: =IFERROR(__xludf.dummyfunction("""COMPUTED_VALUE"""),"CEMEI PROFESSORA LINDOMAR DOMINGOS DA SILVA ANJOS") -> CEMEI PROFESSORA LINDOMAR DOMINGOS DA SILVA ANJOS | H74: =IFERROR(__xludf.dummyfunction("""COMPUTED_VALUE"""),"REGIONAL 5") -> REGIONAL 5
A75: =IFERROR(__xludf.dummyfunction("""COMPUTED_VALUE"""),"23/03/2026 12:35:29") -> 23/03/2026 12:35:29 | B75: =IFERROR(__xludf.dummyfunction("""COMPUTED_VALUE"""),"16") -> 16 | C75: =IFERROR(__xludf.dummyfunction("""COMPUTED_VALUE"""),"RAVI GABRIEL DA ROCHA PRAEIRO") -> RAVI GABRIEL DA ROCHA PRAEIRO | D75: =IFERROR(__xludf.dummyfunction("""COMPUTED_VALUE"""),"07/11/2025") -> 07/11/2025 | E75: =IFERROR(__xludf.dummyfunction("""COMPUTED_VALUE"""),"022.291.614-15") -> 022.291.614-15 | F75: =IFERROR(__xludf.dummyfunction("""COMPUTED_VALUE"""),"INFANTIL 1") -> INFANTIL 1 | G75: =IFERROR(__xludf.dummyfunction("""COMPUTED_VALUE"""),"CEMEI PROFESSORA LINDOMAR DOMINGOS DA SILVA ANJOS") -> CEMEI PROFESSORA LINDOMAR DOMINGOS DA SILVA ANJOS | H75: =IFERROR(__xludf.dummyfunction("""COMPUTED_VALUE"""),"REGIONAL 5") -> REGIONAL 5
A76: =IFERROR(__xludf.dummyfunction("""COMPUTED_VALUE"""),"30/03/2026 09:26:51") -> 30/03/2026 09:26:51 | B76: =IFERROR(__xludf.dummyfunction("""COMPUTED_VALUE"""),"17") -> 17 | C76: =IFERROR(__xludf.dummyfunction("""COMPUTED_VALUE"""),"FRANCISCO CAVALCANTI MAGALHÃES") -> FRANCISCO CAVALCANTI MAGALHÃES | D76: =IFERROR(__xludf.dummyfunction("""COMPUTED_VALUE"""),"26/11/2025") -> 26/11/2025 | E76: =IFERROR(__xludf.dummyfunction("""COMPUTED_VALUE"""),"027.792.694-72") -> 027.792.694-72 | F76: =IFERROR(__xludf.dummyfunction("""COMPUTED_VALUE"""),"INFANTIL 1") -> INFANTIL 1 | G76: =IFERROR(__xludf.dummyfunction("""COMPUTED_VALUE"""),"CEMEI PROFESSORA LINDOMAR DOMINGOS DA SILVA ANJOS") -> CEMEI PROFESSORA LINDOMAR DOMINGOS DA SILVA ANJOS | H76: =IFERROR(__xludf.dummyfunction("""COMPUTED_VALUE"""),"REGIONAL 5") -> REGIONAL 5
A77: =IFERROR(__xludf.dummyfunction("""COMPUTED_VALUE"""),"01/04/2026 11:07:18") -> 01/04/2026 11:07:18 | B77: =IFERROR(__xludf.dummyfunction("""COMPUTED_VALUE"""),"18") -> 18 | C77: =IFERROR(__xludf.dummyfunction("""COMPUTED_VALUE"""),"MARIA ISADORA SANTOS SEVERO") -> MARIA ISADORA SANTOS SEVERO | D77: =IFERROR(__xludf.dummyfunction("""COMPUTED_VALUE"""),"03/09/2024") -> 03/09/2024 | E77: =IFERROR(__xludf.dummyfunction("""COMPUTED_VALUE"""),"054.059.888-71") -> 054.059.888-71 | F77: =IFERROR(__xludf.dummyfunction("""COMPUTED_VALUE"""),"INFANTIL 1") -> INFANTIL 1 | G77: =IFERROR(__xludf.dummyfunction("""COMPUTED_VALUE"""),"CEMEI PROFESSORA LINDOMAR DOMINGOS DA SILVA ANJOS") -> CEMEI PROFESSORA LINDOMAR DOMINGOS DA SILVA ANJOS | H77: =IFERROR(__xludf.dummyfunction("""COMPUTED_VALUE"""),"REGIONAL 5") -> REGIONAL 5
A78: =IFERROR(__xludf.dummyfunction("""COMPUTED_VALUE"""),"08/04/2026 16:32:34") -> 08/04/2026 16:32:34 | B78: =IFERROR(__xludf.dummyfunction("""COMPUTED_VALUE"""),"19") -> 19 | C78: =IFERROR(__xludf.dummyfunction("""COMPUTED_VALUE"""),"MATTEO BERNARDO MONTEIRO ARAÚJO") -> MATTEO BERNARDO MONTEIRO ARAÚJO | D78: =IFERROR(__xludf.dummyfunction("""COMPUTED_VALUE"""),"01/04/2025") -> 01/04/2025 | E78: =IFERROR(__xludf.dummyfunction("""COMPUTED_VALUE"""),"005.825.614-85") -> 005.825.614-85 | F78: =IFERROR(__xludf.dummyfunction("""COMPUTED_VALUE"""),"INFANTIL 1") -> INFANTIL 1 | G78: =IFERROR(__xludf.dummyfunction("""COMPUTED_VALUE"""),"CEMEI PROFESSORA LINDOMAR DOMINGOS DA SILVA ANJOS") -> CEMEI PROFESSORA LINDOMAR DOMINGOS DA SILVA ANJOS | H78: =IFERROR(__xludf.dummyfunction("""COMPUTED_VALUE"""),"REGIONAL 5") -> REGIONAL 5
A79: =IFERROR(__xludf.dummyfunction("""COMPUTED_VALUE"""),"15/04/2026 13:07:53") -> 15/04/2026 13:07:53 | B79: =IFERROR(__xludf.dummyfunction("""COMPUTED_VALUE"""),"20") -> 20 | C79: =IFERROR(__xludf.dummyfunction("""COMPUTED_VALUE"""),"HADASSA ROSA MACIEL") -> HADASSA ROSA MACIEL | D79: =IFERROR(__xludf.dummyfunction("""COMPUTED_VALUE"""),"30/08/2025") -> 30/08/2025 | E79: =IFERROR(__xludf.dummyfunction("""COMPUTED_VALUE"""),"007.185.654-44") -> 007.185.654-44 | F79: =IFERROR(__xludf.dummyfunction("""COMPUTED_VALUE"""),"INFANTIL 1") -> INFANTIL 1 | G79: =IFERROR(__xludf.dummyfunction("""COMPUTED_VALUE"""),"CEMEI PROFESSORA LINDOMAR DOMINGOS DA SILVA ANJOS") -> CEMEI PROFESSORA LINDOMAR DOMINGOS DA SILVA ANJOS | H79: =IFERROR(__xludf.dummyfunction("""COMPUTED_VALUE"""),"REGIONAL 5") -> REGIONAL 5
A80: =IFERROR(__xludf.dummyfunction("""COMPUTED_VALUE"""),"04/05/2026 10:11:49") -> 04/05/2026 10:11:49 | B80: =IFERROR(__xludf.dummyfunction("""COMPUTED_VALUE"""),"21") -> 21 | C80: =IFERROR(__xludf.dummyfunction("""COMPUTED_VALUE"""),"MATTEO ALEJANDRO DE ARAÚJO ESCOBAR") -> MATTEO ALEJANDRO DE ARAÚJO ESCOBAR | D80: =IFERROR(__xludf.dummyfunction("""COMPUTED_VALUE"""),"11/03/2025") -> 11/03/2025 | E80: =IFERROR(__xludf.dummyfunction("""COMPUTED_VALUE"""),"005.682.884-59") -> 005.682.884-59 | F80: =IFERROR(__xludf.dummyfunction("""COMPUTED_VALUE"""),"INFANTIL 1") -> INFANTIL 1 | G80: =IFERROR(__xludf.dummyfunction("""COMPUTED_VALUE"""),"CEMEI PROFESSORA LINDOMAR DOMINGOS DA SILVA ANJOS") -> CEMEI PROFESSORA LINDOMAR DOMINGOS DA SILVA ANJOS | H80: =IFERROR(__xludf.dummyfunction("""COMPUTED_VALUE"""),"REGIONAL 5") -> REGIONAL 5
A81: =IFERROR(__xludf.dummyfunction("""COMPUTED_VALUE"""),"15/05/2026 11:54:29") -> 15/05/2026 11:54:29 | B81: =IFERROR(__xludf.dummyfunction("""COMPUTED_VALUE"""),"22") -> 22 | C81: =IFERROR(__xludf.dummyfunction("""COMPUTED_VALUE"""),"ARTHUR MIGUEL SOUZA DA SILVA") -> ARTHUR MIGUEL SOUZA DA SILVA | D81: =IFERROR(__xludf.dummyfunction("""COMPUTED_VALUE"""),"10/09/2024") -> 10/09/2024 | E81: =IFERROR(__xludf.dummyfunction("""COMPUTED_VALUE"""),"004.089.984-58") -> 004.089.984-58 | F81: =IFERROR(__xludf.dummyfunction("""COMPUTED_VALUE"""),"INFANTIL 1") -> INFANTIL 1 | G81: =IFERROR(__xludf.dummyfunction("""COMPUTED_VALUE"""),"CEMEI PROFESSORA LINDOMAR DOMINGOS DA SILVA ANJOS") -> CEMEI PROFESSORA LINDOMAR DOMINGOS DA SILVA ANJOS | H81: =IFERROR(__xludf.dummyfunction("""COMPUTED_VALUE"""),"REGIONAL 5") -> REGIONAL 5
A82: =IFERROR(__xludf.dummyfunction("""COMPUTED_VALUE"""),"15/05/2026 12:03:27") -> 15/05/2026 12:03:27 | B82: =IFERROR(__xludf.dummyfunction("""COMPUTED_VALUE"""),"23") -> 23 | C82: =IFERROR(__xludf.dummyfunction("""COMPUTED_VALUE"""),"AYLLA KAROLINE SOUZA DA SILVA") -> AYLLA KAROLINE SOUZA DA SILVA | D82: =IFERROR(__xludf.dummyfunction("""COMPUTED_VALUE"""),"10/09/2024") -> 10/09/2024 | E82: =IFERROR(__xludf.dummyfunction("""COMPUTED_VALUE"""),"004.089.794-02") -> 004.089.794-02 | F82: =IFERROR(__xludf.dummyfunction("""COMPUTED_VALUE"""),"INFANTIL 1") -> INFANTIL 1 | G82: =IFERROR(__xludf.dummyfunction("""COMPUTED_VALUE"""),"CEMEI PROFESSORA LINDOMAR DOMINGOS DA SILVA ANJOS") -> CEMEI PROFESSORA LINDOMAR DOMINGOS DA SILVA ANJOS | H82: =IFERROR(__xludf.dummyfunction("""COMPUTED_VALUE"""),"REGIONAL 5") -> REGIONAL 5
A83: =IFERROR(__xludf.dummyfunction("""COMPUTED_VALUE"""),"30/05/2026 11:24:31") -> 30/05/2026 11:24:31 | B83: =IFERROR(__xludf.dummyfunction("""COMPUTED_VALUE"""),"24") -> 24 | C83: =IFERROR(__xludf.dummyfunction("""COMPUTED_VALUE"""),"Natanael Ryan Felix de Santana") -> Natanael Ryan Felix de Santana | D83: =IFERROR(__xludf.dummyfunction("""COMPUTED_VALUE"""),"10/10/2024") -> 10/10/2024 | E83: =IFERROR(__xludf.dummyfunction("""COMPUTED_VALUE"""),"004.409.374-85") -> 004.409.374-85 | F83: =IFERROR(__xludf.dummyfunction("""COMPUTED_VALUE"""),"INFANTIL 1") -> INFANTIL 1 | G83: =IFERROR(__xludf.dummyfunction("""COMPUTED_VALUE"""),"CEMEI PROFESSORA LINDOMAR DOMINGOS DA SILVA ANJOS") -> CEMEI PROFESSORA LINDOMAR DOMINGOS DA SILVA ANJOS | H83: =IFERROR(__xludf.dummyfunction("""COMPUTED_VALUE"""),"REGIONAL 5") -> REGIONAL 5
A84: =IFERROR(__xludf.dummyfunction("""COMPUTED_VALUE"""),"01/06/2026 13:25:04") -> 01/06/2026 13:25:04 | B84: =IFERROR(__xludf.dummyfunction("""COMPUTED_VALUE"""),"25") -> 25 | C84: =IFERROR(__xludf.dummyfunction("""COMPUTED_VALUE"""),"Ana liz Ferreira luz") -> Ana liz Ferreira luz | D84: =IFERROR(__xludf.dummyfunction("""COMPUTED_VALUE"""),"02/09/2024") -> 02/09/2024 | E84: =IFERROR(__xludf.dummyfunction("""COMPUTED_VALUE"""),"004.029.294-03") -> 004.029.294-03 | F84: =IFERROR(__xludf.dummyfunction("""COMPUTED_VALUE"""),"INFANTIL 1") -> INFANTIL 1 | G84: =IFERROR(__xludf.dummyfunction("""COMPUTED_VALUE"""),"CEMEI PROFESSORA LINDOMAR DOMINGOS DA SILVA ANJOS") -> CEMEI PROFESSORA LINDOMAR DOMINGOS DA SILVA ANJOS | H84: =IFERROR(__xludf.dummyfunction("""COMPUTED_VALUE"""),"REGIONAL 5") -> REGIONAL 5
A85: =IFERROR(__xludf.dummyfunction("""COMPUTED_VALUE"""),"04/06/2026 10:58:04") -> 04/06/2026 10:58:04 | B85: =IFERROR(__xludf.dummyfunction("""COMPUTED_VALUE"""),"26") -> 26 | C85: =IFERROR(__xludf.dummyfunction("""COMPUTED_VALUE"""),"Théo José Cruz Martins de Santana") -> Théo José Cruz Martins de Santana | D85: =IFERROR(__xludf.dummyfunction("""COMPUTED_VALUE"""),"28/04/2024") -> 28/04/2024 | E85: =IFERROR(__xludf.dummyfunction("""COMPUTED_VALUE"""),"002.750.404-29") -> 002.750.404-29 | F85: =IFERROR(__xludf.dummyfunction("""COMPUTED_VALUE"""),"INFANTIL 1") -> INFANTIL 1 | G85: =IFERROR(__xludf.dummyfunction("""COMPUTED_VALUE"""),"CEMEI PROFESSORA LINDOMAR DOMINGOS DA SILVA ANJOS") -> CEMEI PROFESSORA LINDOMAR DOMINGOS DA SILVA ANJOS | H85: =IFERROR(__xludf.dummyfunction("""COMPUTED_VALUE"""),"REGIONAL 5") -> REGIONAL 5
A86: =IFERROR(__xludf.dummyfunction("""COMPUTED_VALUE"""),"10/06/2026 09:48:38") -> 10/06/2026 09:48:38 | B86: =IFERROR(__xludf.dummyfunction("""COMPUTED_VALUE"""),"27") -> 27 | C86: =IFERROR(__xludf.dummyfunction("""COMPUTED_VALUE"""),"Théo Gabriel Vicente Da Silva") -> Théo Gabriel Vicente Da Silva | D86: =IFERROR(__xludf.dummyfunction("""COMPUTED_VALUE"""),"22/01/2025") -> 22/01/2025 | E86: =IFERROR(__xludf.dummyfunction("""COMPUTED_VALUE"""),"005.155.414-35") -> 005.155.414-35 | F86: =IFERROR(__xludf.dummyfunction("""COMPUTED_VALUE"""),"INFANTIL 1") -> INFANTIL 1 | G86: =IFERROR(__xludf.dummyfunction("""COMPUTED_VALUE"""),"CEMEI PROFESSORA LINDOMAR DOMINGOS DA SILVA ANJOS") -> CEMEI PROFESSORA LINDOMAR DOMINGOS DA SILVA ANJOS | H86: =IFERROR(__xludf.dummyfunction("""COMPUTED_VALUE"""),"REGIONAL 5") -> REGIONAL 5
A87: =IFERROR(__xludf.dummyfunction("""COMPUTED_VALUE"""),"22/07/2026 11:43:16") -> 22/07/2026 11:43:16 | B87: =IFERROR(__xludf.dummyfunction("""COMPUTED_VALUE"""),"28") -> 28 | C87: =IFERROR(__xludf.dummyfunction("""COMPUTED_VALUE"""),"Amélie Lauren Lima Da Silva") -> Amélie Lauren Lima Da Silva | D87: =IFERROR(__xludf.dummyfunction("""COMPUTED_VALUE"""),"24/10/2024") -> 24/10/2024 | E87: =IFERROR(__xludf.dummyfunction("""COMPUTED_VALUE"""),"004.430.274-63") -> 004.430.274-63 | F87: =IFERROR(__xludf.dummyfunction("""COMPUTED_VALUE"""),"INFANTIL 1") -> INFANTIL 1 | G87: =IFERROR(__xludf.dummyfunction("""COMPUTED_VALUE"""),"CEMEI PROFESSORA LINDOMAR DOMINGOS DA SILVA ANJOS") -> CEMEI PROFESSORA LINDOMAR DOMINGOS DA SILVA ANJOS | H87: =IFERROR(__xludf.dummyfunction("""COMPUTED_VALUE"""),"REGIONAL 5") -> REGIONAL 5
A88: =IFERROR(__xludf.dummyfunction("""COMPUTED_VALUE"""),"23/07/2026 14:13:37") -> 23/07/2026 14:13:37 | B88: =IFERROR(__xludf.dummyfunction("""COMPUTED_VALUE"""),"29") -> 29 | C88: =IFERROR(__xludf.dummyfunction("""COMPUTED_VALUE"""),"Oliver Bernardo Lima Nunes") -> Oliver Bernardo Lima Nunes | D88: =IFERROR(__xludf.dummyfunction("""COMPUTED_VALUE"""),"10/10/2025") -> 10/10/2025 | E88: =IFERROR(__xludf.dummyfunction("""COMPUTED_VALUE"""),"015.350.484-68") -> 015.350.484-68 | F88: =IFERROR(__xludf.dummyfunction("""COMPUTED_VALUE"""),"INFANTIL 1") -> INFANTIL 1 | G88: =IFERROR(__xludf.dummyfunction("""COMPUTED_VALUE"""),"CEMEI PROFESSORA LINDOMAR DOMINGOS DA SILVA ANJOS") -> CEMEI PROFESSORA LINDOMAR DOMINGOS DA SILVA ANJOS | H88: =IFERROR(__xludf.dummyfunction("""COMPUTED_VALUE"""),"REGIONAL 5") -> REGIONAL 5
A89: =IFERROR(__xludf.dummyfunction("""COMPUTED_VALUE"""),"07/08/2026 11:03:06") -> 07/08/2026 11:03:06 | B89: =IFERROR(__xludf.dummyfunction("""COMPUTED_VALUE"""),"30") -> 30 | C89: =IFERROR(__xludf.dummyfunction("""COMPUTED_VALUE"""),"Aquiles Miranda Lemos") -> Aquiles Miranda Lemos | D89: =IFERROR(__xludf.dummyfunction("""COMPUTED_VALUE"""),"10/09/2025") -> 10/09/2025 | E89: =IFERROR(__xludf.dummyfunction("""COMPUTED_VALUE"""),"007.305.494-10") -> 007.305.494-10 | F89: =IFERROR(__xludf.dummyfunction("""COMPUTED_VALUE"""),"INFANTIL 1") -> INFANTIL 1 | G89: =IFERROR(__xludf.dummyfunction("""COMPUTED_VALUE"""),"CEMEI PROFESSORA LINDOMAR DOMINGOS DA SILVA ANJOS") -> CEMEI PROFESSORA LINDOMAR DOMINGOS DA SILVA ANJOS | H89: =IFERROR(__xludf.dummyfunction("""COMPUTED_VALUE"""),"REGIONAL 5") -> REGIONAL 5
A90: =IFERROR(__xludf.dummyfunction("""COMPUTED_VALUE"""),"26/08/2026 12:19:22") -> 26/08/2026 12:19:22 | B90: =IFERROR(__xludf.dummyfunction("""COMPUTED_VALUE"""),"31") -> 31 | C90: =IFERROR(__xludf.dummyfunction("""COMPUTED_VALUE"""),"Kyara Maria Costa da Silva") -> Kyara Maria Costa da Silva | D90: =IFERROR(__xludf.dummyfunction("""COMPUTED_VALUE"""),"24/02/2025") -> 24/02/2025 | E90: =IFERROR(__xludf.dummyfunction("""COMPUTED_VALUE"""),"071.972.110-50") -> 071.972.110-50 | F90: =IFERROR(__xludf.dummyfunction("""COMPUTED_VALUE"""),"INFANTIL 1") -> INFANTIL 1 | G90: =IFERROR(__xludf.dummyfunction("""COMPUTED_VALUE"""),"CEMEI PROFESSORA LINDOMAR DOMINGOS DA SILVA ANJOS") -> CEMEI PROFESSORA LINDOMAR DOMINGOS DA SILVA ANJOS | H90: =IFERROR(__xludf.dummyfunction("""COMPUTED_VALUE"""),"REGIONAL 5") -> REGIONAL 5
A91: =IFERROR(__xludf.dummyfunction("""COMPUTED_VALUE"""),"17/09/2026 11:58:57") -> 17/09/2026 11:58:57 | B91: =IFERROR(__xludf.dummyfunction("""COMPUTED_VALUE"""),"32") -> 32 | C91: =IFERROR(__xludf.dummyfunction("""COMPUTED_VALUE"""),"Liz Wandry da silva") -> Liz Wandry da silva | D91: =IFERROR(__xludf.dummyfunction("""COMPUTED_VALUE"""),"14/12/2024") -> 14/12/2024 | E91: =IFERROR(__xludf.dummyfunction("""COMPUTED_VALUE"""),"004.845.134-78") -> 004.845.134-78 | F91: =IFERROR(__xludf.dummyfunction("""COMPUTED_VALUE"""),"INFANTIL 1") -> INFANTIL 1 | G91: =IFERROR(__xludf.dummyfunction("""COMPUTED_VALUE"""),"CEMEI PROFESSORA LINDOMAR DOMINGOS DA SILVA ANJOS") -> CEMEI PROFESSORA LINDOMAR DOMINGOS DA SILVA ANJOS | H91: =IFERROR(__xludf.dummyfunction("""COMPUTED_VALUE"""),"REGIONAL 5") -> REGIONAL 5
A92: =IFERROR(__xludf.dummyfunction("""COMPUTED_VALUE"""),"23/09/2026 11:12:15") -> 23/09/2026 11:12:15 | B92: =IFERROR(__xludf.dummyfunction("""COMPUTED_VALUE"""),"33") -> 33 | C92: =IFERROR(__xludf.dummyfunction("""COMPUTED_VALUE"""),"Gabriel de Oliveira Cardoso") -> Gabriel de Oliveira Cardoso | D92: =IFERROR(__xludf.dummyfunction("""COMPUTED_VALUE"""),"03/04/2024") -> 03/04/2024 | E92: =IFERROR(__xludf.dummyfunction("""COMPUTED_VALUE"""),"007.652.866-96") -> 007.652.866-96 | F92: =IFERROR(__xludf.dummyfunction("""COMPUTED_VALUE"""),"INFANTIL 1") -> INFANTIL 1 | G92: =IFERROR(__xludf.dummyfunction("""COMPUTED_VALUE"""),"CEMEI PROFESSORA LINDOMAR DOMINGOS DA SILVA ANJOS") -> CEMEI PROFESSORA LINDOMAR DOMINGOS DA SILVA ANJOS | H92: =IFERROR(__xludf.dummyfunction("""COMPUTED_VALUE"""),"REGIONAL 5") -> REGIONAL 5
A93: =IFERROR(__xludf.dummyfunction("""COMPUTED_VALUE"""),"28/01/2026 08:06:54") -> 28/01/2026 08:06:54 | B93: =IFERROR(__xludf.dummyfunction("""COMPUTED_VALUE"""),"1") -> 1 | C93: =IFERROR(__xludf.dummyfunction("""COMPUTED_VALUE"""),"ALYCIA MARIA FERREIRA LOPES") -> ALYCIA MARIA FERREIRA LOPES | D93: =IFERROR(__xludf.dummyfunction("""COMPUTED_VALUE"""),"06/04/2023") -> 06/04/2023 | E93: =IFERROR(__xludf.dummyfunction("""COMPUTED_VALUE"""),"185.002.054-07") -> 185.002.054-07 | F93: =IFERROR(__xludf.dummyfunction("""COMPUTED_VALUE"""),"INFANTIL 2") -> INFANTIL 2 | G93: =IFERROR(__xludf.dummyfunction("""COMPUTED_VALUE"""),"CEMEI PROFESSORA LINDOMAR DOMINGOS DA SILVA ANJOS") -> CEMEI PROFESSORA LINDOMAR DOMINGOS DA SILVA ANJOS | H93: =IFERROR(__xludf.dummyfunction("""COMPUTED_VALUE"""),"REGIONAL 5") -> REGIONAL 5
A94: =IFERROR(__xludf.dummyfunction("""COMPUTED_VALUE"""),"28/01/2026 08:08:24") -> 28/01/2026 08:08:24 | B94: =IFERROR(__xludf.dummyfunction("""COMPUTED_VALUE"""),"2") -> 2 | C94: =IFERROR(__xludf.dummyfunction("""COMPUTED_VALUE"""),"MIKAEL OLIVEIRA FERREIRA CAVALCANTE") -> MIKAEL OLIVEIRA FERREIRA CAVALCANTE | D94: =IFERROR(__xludf.dummyfunction("""COMPUTED_VALUE"""),"23/07/2023") -> 23/07/2023 | E94: =IFERROR(__xludf.dummyfunction("""COMPUTED_VALUE"""),"186.109.834-04") -> 186.109.834-04 | F94: =IFERROR(__xludf.dummyfunction("""COMPUTED_VALUE"""),"INFANTIL 2") -> INFANTIL 2 | G94: =IFERROR(__xludf.dummyfunction("""COMPUTED_VALUE"""),"CEMEI PROFESSORA LINDOMAR DOMINGOS DA SILVA ANJOS") -> CEMEI PROFESSORA LINDOMAR DOMINGOS DA SILVA ANJOS | H94: =IFERROR(__xludf.dummyfunction("""COMPUTED_VALUE"""),"REGIONAL 5") -> REGIONAL 5
A95: =IFERROR(__xludf.dummyfunction("""COMPUTED_VALUE"""),"28/01/2026 08:14:44") -> 28/01/2026 08:14:44 | B95: =IFERROR(__xludf.dummyfunction("""COMPUTED_VALUE"""),"3") -> 3 | C95: =IFERROR(__xludf.dummyfunction("""COMPUTED_VALUE"""),"SARAH BEATRIZ CORREIA RODRIGUES DA SILVA") -> SARAH BEATRIZ CORREIA RODRIGUES DA SILVA | D95: =IFERROR(__xludf.dummyfunction("""COMPUTED_VALUE"""),"07/06/2023") -> 07/06/2023 | E95: =IFERROR(__xludf.dummyfunction("""COMPUTED_VALUE"""),"185.680.884-06") -> 185.680.884-06 | F95: =IFERROR(__xludf.dummyfunction("""COMPUTED_VALUE"""),"INFANTIL 2") -> INFANTIL 2 | G95: =IFERROR(__xludf.dummyfunction("""COMPUTED_VALUE"""),"CEMEI PROFESSORA LINDOMAR DOMINGOS DA SILVA ANJOS") -> CEMEI PROFESSORA LINDOMAR DOMINGOS DA SILVA ANJOS | H95: =IFERROR(__xludf.dummyfunction("""COMPUTED_VALUE"""),"REGIONAL 5") -> REGIONAL 5
