Workbook

Sheet CandidatosFilaDeEspera
A1: ID | B1: Regional | C1: Unidade Escolar | D1: INEP | E1: Ano Escolar | F1: Turno | G1: Fila | H1: Posição | I1: Protocolo | J1: Cadastro | K1: Nome | L1: CPF | M1: Data de Nascimento | N1: Documentos | O1: Quantidade de contatos efetuados
B2: {=_xlfn.XLOOKUP(D2,Tabela_Dados_Esc_JAB_2026[INEP],Tabela_Dados_Esc_JAB_2026[REGIONAL],"NE",0)} -> REGIONAL 7 | C2: =IFERROR(__xludf.dummyfunction("QUERY(IMPORTRANGE(""https://docs.google.com/spreadsheets/d/1d_cIwlOLUoinxyGHZf9tybE_zjflL7oelQpkKokKpnw/edit?gid=427424825#gid=427424825"",""CandidatosFilaDeEspera!A2:N""), ""SELECT * "")"),"CEMEI DR. PAULO MENDES") -> CEMEI DR. PAULO MENDES | D2: =IFERROR(__xludf.dummyfunction("""COMPUTED_VALUE"""),"26194643") -> 26194643 | E2: =IFERROR(__xludf.dummyfunction("""COMPUTED_VALUE"""),"INFANTIL 1") -> INFANTIL 1 | F2: =IFERROR(__xludf.dummyfunction("""COMPUTED_VALUE"""),"Integral") -> Integral | G2: =IFERROR(__xludf.dummyfunction("""COMPUTED_VALUE"""),"Comum") -> Comum | H2: =IFERROR(__xludf.dummyfunction("""COMPUTED_VALUE"""),"1") -> 1 | I2: =IFERROR(__xludf.dummyfunction("""COMPUTED_VALUE"""),"26032971417") -> 26032971417 | J2: =IFERROR(__xludf.dummyfunction("""COMPUTED_VALUE"""),"24/03/2026 13:31:53") -> 24/03/2026 13:31:53 | K2: =IFERROR(__xludf.dummyfunction("""COMPUTED_VALUE"""),"MARIA EDUARDA SANTANA FELIX DA SILVA") -> MARIA EDUARDA SANTANA FELIX DA SILVA | L2: =IFERROR(__xludf.dummyfunction("""COMPUTED_VALUE"""),"004.110.684-90") -> 004.110.684-90 | M2: =IFERROR(__xludf.dummyfunction("""COMPUTED_VALUE"""),"09/06/2024") -> 09/06/2024 | O2: =IFERROR(__xludf.dummyfunction("""COMPUTED_VALUE"""),"0") -> 0
B3: {=_xlfn.XLOOKUP(D3,Tabela_Dados_Esc_JAB_2026[INEP],Tabela_Dados_Esc_JAB_2026[REGIONAL],"NE",0)} -> REGIONAL 7 | C3: =IFERROR(__xludf.dummyfunction("""COMPUTED_VALUE"""),"CEMEI DR. PAULO MENDES") -> CEMEI DR. PAULO MENDES | D3: =IFERROR(__xludf.dummyfunction("""COMPUTED_VALUE"""),"26194643") -> 26194643 | E3: =IFERROR(__xludf.dummyfunction("""COMPUTED_VALUE"""),"INFANTIL 1") -> INFANTIL 1 | F3: =IFERROR(__xludf.dummyfunction("""COMPUTED_VALUE"""),"Integral") -> Integral | G3: =IFERROR(__xludf.dummyfunction("""COMPUTED_VALUE"""),"Comum") -> Comum | H3: =IFERROR(__xludf.dummyfunction("""COMPUTED_VALUE"""),"2") -> 2 | I3: =IFERROR(__xludf.dummyfunction("""COMPUTED_VALUE"""),"26032365428") -> 26032365428 | J3: =IFERROR(__xludf.dummyfunction("""COMPUTED_VALUE"""),"27/03/2026 12:51:51") -> 27/03/2026 12:51:51 | K3: =IFERROR(__xludf.dummyfunction("""COMPUTED_VALUE"""),"OLIVER BENJAMIN DA SILVA LIMA") -> OLIVER BENJAMIN DA SILVA LIMA | L3: =IFERROR(__xludf.dummyfunction("""COMPUTED_VALUE"""),"022.780.734-00") -> 022.780.734-00 | M3: =IFERROR(__xludf.dummyfunction("""COMPUTED_VALUE"""),"13/11/2025") -> 13/11/2025 | O3: =IFERROR(__xludf.dummyfunction("""COMPUTED_VALUE"""),"0") -> 0
B4: {=_xlfn.XLOOKUP(D4,Tabela_Dados_Esc_JAB_2026[INEP],Tabela_Dados_Esc_JAB_2026[REGIONAL],"NE",0)} -> REGIONAL 7 | C4: =IFERROR(__xludf.dummyfunction("""COMPUTED_VALUE"""),"CEMEI DR. PAULO MENDES") -> CEMEI DR. PAULO MENDES | D4: =IFERROR(__xludf.dummyfunction("""COMPUTED_VALUE"""),"26194643") -> 26194643 | E4: =IFERROR(__xludf.dummyfunction("""COMPUTED_VALUE"""),"INFANTIL 1") -> INFANTIL 1 | F4: =IFERROR(__xludf.dummyfunction("""COMPUTED_VALUE"""),"Integral") -> Integral | G4: =IFERROR(__xludf.dummyfunction("""COMPUTED_VALUE"""),"Comum") -> Comum | H4: =IFERROR(__xludf.dummyfunction("""COMPUTED_VALUE"""),"3") -> 3 | I4: =IFERROR(__xludf.dummyfunction("""COMPUTED_VALUE"""),"26052086599") -> 26052086599 | J4: =IFERROR(__xludf.dummyfunction("""COMPUTED_VALUE"""),"21/05/2026 11:32:39") -> 21/05/2026 11:32:39 | K4: =IFERROR(__xludf.dummyfunction("""COMPUTED_VALUE"""),"KAUÊ HENRIQUE DE ARAÚJO SILVA") -> KAUÊ HENRIQUE DE ARAÚJO SILVA | L4: =IFERROR(__xludf.dummyfunction("""COMPUTED_VALUE"""),"002.527.454-69") -> 002.527.454-69 | M4: =IFERROR(__xludf.dummyfunction("""COMPUTED_VALUE"""),"01/04/2024") -> 01/04/2024 | O4: =IFERROR(__xludf.dummyfunction("""COMPUTED_VALUE"""),"0") -> 0
B5: {=_xlfn.XLOOKUP(D5,Tabela_Dados_Esc_JAB_2026[INEP],Tabela_Dados_Esc_JAB_2026[REGIONAL],"NE",0)} -> REGIONAL 7 | C5: =IFERROR(__xludf.dummyfunction("""COMPUTED_VALUE"""),"CEMEI DR. PAULO MENDES") -> CEMEI DR. PAULO MENDES | D5: =IFERROR(__xludf.dummyfunction("""COMPUTED_VALUE"""),"26194643") -> 26194643 | E5: =IFERROR(__xludf.dummyfunction("""COMPUTED_VALUE"""),"INFANTIL 1") -> INFANTIL 1 | F5: =IFERROR(__xludf.dummyfunction("""COMPUTED_VALUE"""),"Integral") -> Integral | G5: =IFERROR(__xludf.dummyfunction("""COMPUTED_VALUE"""),"Comum") -> Comum | H5: =IFERROR(__xludf.dummyfunction("""COMPUTED_VALUE"""),"4") -> 4 | I5: =IFERROR(__xludf.dummyfunction("""COMPUTED_VALUE"""),"26052534169") -> 26052534169 | J5: =IFERROR(__xludf.dummyfunction("""COMPUTED_VALUE"""),"22/05/2026 09:22:30") -> 22/05/2026 09:22:30 | K5: =IFERROR(__xludf.dummyfunction("""COMPUTED_VALUE"""),"Aylla Eduarda Marques da Silva") -> Aylla Eduarda Marques da Silva | L5: =IFERROR(__xludf.dummyfunction("""COMPUTED_VALUE"""),"003.643.684-46") -> 003.643.684-46 | M5: =IFERROR(__xludf.dummyfunction("""COMPUTED_VALUE"""),"27/07/2024") -> 27/07/2024 | O5: =IFERROR(__xludf.dummyfunction("""COMPUTED_VALUE"""),"0") -> 0
B6: {=_xlfn.XLOOKUP(D6,Tabela_Dados_Esc_JAB_2026[INEP],Tabela_Dados_Esc_JAB_2026[REGIONAL],"NE",0)} -> REGIONAL 7 | C6: =IFERROR(__xludf.dummyfunction("""COMPUTED_VALUE"""),"CEMEI DR. PAULO MENDES") -> CEMEI DR. PAULO MENDES | D6: =IFERROR(__xludf.dummyfunction("""COMPUTED_VALUE"""),"26194643") -> 26194643 | E6: =IFERROR(__xludf.dummyfunction("""COMPUTED_VALUE"""),"INFANTIL 1") -> INFANTIL 1 | F6: =IFERROR(__xludf.dummyfunction("""COMPUTED_VALUE"""),"Integral") -> Integral | G6: =IFERROR(__xludf.dummyfunction("""COMPUTED_VALUE"""),"Comum") -> Comum | H6: =IFERROR(__xludf.dummyfunction("""COMPUTED_VALUE"""),"5") -> 5 | I6: =IFERROR(__xludf.dummyfunction("""COMPUTED_VALUE"""),"26062410587") -> 26062410587 | J6: =IFERROR(__xludf.dummyfunction("""COMPUTED_VALUE"""),"23/06/2026 09:32:02") -> 23/06/2026 09:32:02 | K6: =IFERROR(__xludf.dummyfunction("""COMPUTED_VALUE"""),"MARIANA LEANDRA TOMAZ DE MELO") -> MARIANA LEANDRA TOMAZ DE MELO | L6: =IFERROR(__xludf.dummyfunction("""COMPUTED_VALUE"""),"004.786.214-93") -> 004.786.214-93 | M6: =IFERROR(__xludf.dummyfunction("""COMPUTED_VALUE"""),"25/11/2024") -> 25/11/2024 | O6: =IFERROR(__xludf.dummyfunction("""COMPUTED_VALUE"""),"0") -> 0
B7: {=_xlfn.XLOOKUP(D7,Tabela_Dados_Esc_JAB_2026[INEP],Tabela_Dados_Esc_JAB_2026[REGIONAL],"NE",0)} -> REGIONAL 7 | C7: =IFERROR(__xludf.dummyfunction("""COMPUTED_VALUE"""),"CEMEI DR. PAULO MENDES") -> CEMEI DR. PAULO MENDES | D7: =IFERROR(__xludf.dummyfunction("""COMPUTED_VALUE"""),"26194643") -> 26194643 | E7: =IFERROR(__xludf.dummyfunction("""COMPUTED_VALUE"""),"INFANTIL 1") -> INFANTIL 1 | F7: =IFERROR(__xludf.dummyfunction("""COMPUTED_VALUE"""),"Integral") -> Integral | G7: =IFERROR(__xludf.dummyfunction("""COMPUTED_VALUE"""),"Comum") -> Comum | H7: =IFERROR(__xludf.dummyfunction("""COMPUTED_VALUE"""),"6") -> 6 | I7: =IFERROR(__xludf.dummyfunction("""COMPUTED_VALUE"""),"26062171235") -> 26062171235 | J7: =IFERROR(__xludf.dummyfunction("""COMPUTED_VALUE"""),"23/06/2026 09:36:48") -> 23/06/2026 09:36:48 | K7: =IFERROR(__xludf.dummyfunction("""COMPUTED_VALUE"""),"FERNANDA LEANDRA TOMAZ DE MELO") -> FERNANDA LEANDRA TOMAZ DE MELO | L7: =IFERROR(__xludf.dummyfunction("""COMPUTED_VALUE"""),"004.785.384-05") -> 004.785.384-05 | M7: =IFERROR(__xludf.dummyfunction("""COMPUTED_VALUE"""),"25/11/2024") -> 25/11/2024 | O7: =IFERROR(__xludf.dummyfunction("""COMPUTED_VALUE"""),"0") -> 0
B8: {=_xlfn.XLOOKUP(D8,Tabela_Dados_Esc_JAB_2026[INEP],Tabela_Dados_Esc_JAB_2026[REGIONAL],"NE",0)} -> REGIONAL 7 | C8: =IFERROR(__xludf.dummyfunction("""COMPUTED_VALUE"""),"CEMEI DR. PAULO MENDES") -> CEMEI DR. PAULO MENDES | D8: =IFERROR(__xludf.dummyfunction("""COMPUTED_VALUE"""),"26194643") -> 26194643 | E8: =IFERROR(__xludf.dummyfunction("""COMPUTED_VALUE"""),"INFANTIL 1") -> INFANTIL 1 | F8: =IFERROR(__xludf.dummyfunction("""COMPUTED_VALUE"""),"Integral") -> Integral | G8: =IFERROR(__xludf.dummyfunction("""COMPUTED_VALUE"""),"Comum") -> Comum | H8: =IFERROR(__xludf.dummyfunction("""COMPUTED_VALUE"""),"7") -> 7 | I8: =IFERROR(__xludf.dummyfunction("""COMPUTED_VALUE"""),"26072980169") -> 26072980169 | J8: =IFERROR(__xludf.dummyfunction("""COMPUTED_VALUE"""),"23/07/2026 04:45:19") -> 23/07/2026 04:45:19 | K8: =IFERROR(__xludf.dummyfunction("""COMPUTED_VALUE"""),"Ramon Oliveira Silva") -> Ramon Oliveira Silva | L8: =IFERROR(__xludf.dummyfunction("""COMPUTED_VALUE"""),"024.777.004-30") -> 024.777.004-30 | M8: =IFERROR(__xludf.dummyfunction("""COMPUTED_VALUE"""),"17/11/2025") -> 17/11/2025 | O8: =IFERROR(__xludf.dummyfunction("""COMPUTED_VALUE"""),"0") -> 0
B9: {=_xlfn.XLOOKUP(D9,Tabela_Dados_Esc_JAB_2026[INEP],Tabela_Dados_Esc_JAB_2026[REGIONAL],"NE",0)} -> REGIONAL 7 | C9: =IFERROR(__xludf.dummyfunction("""COMPUTED_VALUE"""),"CEMEI DR. PAULO MENDES") -> CEMEI DR. PAULO MENDES | D9: =IFERROR(__xludf.dummyfunction("""COMPUTED_VALUE"""),"26194643") -> 26194643 | E9: =IFERROR(__xludf.dummyfunction("""COMPUTED_VALUE"""),"INFANTIL 1") -> INFANTIL 1 | F9: =IFERROR(__xludf.dummyfunction("""COMPUTED_VALUE"""),"Integral") -> Integral | G9: =IFERROR(__xludf.dummyfunction("""COMPUTED_VALUE"""),"Comum") -> Comum | H9: =IFERROR(__xludf.dummyfunction("""COMPUTED_VALUE"""),"8") -> 8 | I9: =IFERROR(__xludf.dummyfunction("""COMPUTED_VALUE"""),"26092048380") -> 26092048380 | J9: =IFERROR(__xludf.dummyfunction("""COMPUTED_VALUE"""),"02/09/2026 11:53:05") -> 02/09/2026 11:53:05 | K9: =IFERROR(__xludf.dummyfunction("""COMPUTED_VALUE"""),"Efraim Miranda da Silva") -> Efraim Miranda da Silva | L9: =IFERROR(__xludf.dummyfunction("""COMPUTED_VALUE"""),"006.663.544-64") -> 006.663.544-64 | M9: =IFERROR(__xludf.dummyfunction("""COMPUTED_VALUE"""),"06/07/2025") -> 06/07/2025 | O9: =IFERROR(__xludf.dummyfunction("""COMPUTED_VALUE"""),"0") -> 0
B10: {=_xlfn.XLOOKUP(D10,Tabela_Dados_Esc_JAB_2026[INEP],Tabela_Dados_Esc_JAB_2026[REGIONAL],"NE",0)} -> REGIONAL 7 | C10: =IFERROR(__xludf.dummyfunction("""COMPUTED_VALUE"""),"CEMEI DR. PAULO MENDES") -> CEMEI DR. PAULO MENDES | D10: =IFERROR(__xludf.dummyfunction("""COMPUTED_VALUE"""),"26194643") -> 26194643 | E10: =IFERROR(__xludf.dummyfunction("""COMPUTED_VALUE"""),"INFANTIL 2") -> INFANTIL 2 | F10: =IFERROR(__xludf.dummyfunction("""COMPUTED_VALUE"""),"Integral") -> Integral | G10: =IFERROR(__xludf.dummyfunction("""COMPUTED_VALUE"""),"Comum") -> Comum | H10: =IFERROR(__xludf.dummyfunction("""COMPUTED_VALUE"""),"1") -> 1 | I10: =IFERROR(__xludf.dummyfunction("""COMPUTED_VALUE"""),"26062791417") -> 26062791417 | J10: =IFERROR(__xludf.dummyfunction("""COMPUTED_VALUE"""),"10/06/2026 11:22:14") -> 10/06/2026 11:22:14 | K10: =IFERROR(__xludf.dummyfunction("""COMPUTED_VALUE"""),"BRUNO GABRIEL SOARES DA SILVA") -> BRUNO GABRIEL SOARES DA SILVA | L10: =IFERROR(__xludf.dummyfunction("""COMPUTED_VALUE"""),"001.026.744-18") -> 001.026.744-18 | M10: =IFERROR(__xludf.dummyfunction("""COMPUTED_VALUE"""),"10/11/2023") -> 10/11/2023 | O10: =IFERROR(__xludf.dummyfunction("""COMPUTED_VALUE"""),"0") -> 0
B11: {=_xlfn.XLOOKUP(D11,Tabela_Dados_Esc_JAB_2026[INEP],Tabela_Dados_Esc_JAB_2026[REGIONAL],"NE",0)} -> REGIONAL 7 | C11: =IFERROR(__xludf.dummyfunction("""COMPUTED_VALUE"""),"CEMEI DR. PAULO MENDES") -> CEMEI DR. PAULO MENDES | D11: =IFERROR(__xludf.dummyfunction("""COMPUTED_VALUE"""),"26194643") -> 26194643 | E11: =IFERROR(__xludf.dummyfunction("""COMPUTED_VALUE"""),"INFANTIL 2") -> INFANTIL 2 | F11: =IFERROR(__xludf.dummyfunction("""COMPUTED_VALUE"""),"Integral") -> Integral | G11: =IFERROR(__xludf.dummyfunction("""COMPUTED_VALUE"""),"Comum") -> Comum | H11: =IFERROR(__xludf.dummyfunction("""COMPUTED_VALUE"""),"2") -> 2 | I11: =IFERROR(__xludf.dummyfunction("""COMPUTED_VALUE"""),"26092920457") -> 26092920457 | J11: =IFERROR(__xludf.dummyfunction("""COMPUTED_VALUE"""),"16/09/2026 22:07:06") -> 16/09/2026 22:07:06 | K11: =IFERROR(__xludf.dummyfunction("""COMPUTED_VALUE"""),"Theo Antonio Belarmino Cavalcanti") -> Theo Antonio Belarmino Cavalcanti | L11: =IFERROR(__xludf.dummyfunction("""COMPUTED_VALUE"""),"000.037.494-60") -> 000.037.494-60 | M11: =IFERROR(__xludf.dummyfunction("""COMPUTED_VALUE"""),"20/09/2023") -> 20/09/2023 | O11: =IFERROR(__xludf.dummyfunction("""COMPUTED_VALUE"""),"0") -> 0
B12: {=_xlfn.XLOOKUP(D12,Tabela_Dados_Esc_JAB_2026[INEP],Tabela_Dados_Esc_JAB_2026[REGIONAL],"NE",0)} -> REGIONAL 7 | C12: =IFERROR(__xludf.dummyfunction("""COMPUTED_VALUE"""),"CEMEI DR. PAULO MENDES") -> CEMEI DR. PAULO MENDES | D12: =IFERROR(__xludf.dummyfunction("""COMPUTED_VALUE"""),"26194643") -> 26194643 | E12: =IFERROR(__xludf.dummyfunction("""COMPUTED_VALUE"""),"INFANTIL 3") -> INFANTIL 3 | F12: =IFERROR(__xludf.dummyfunction("""COMPUTED_VALUE"""),"Integral") -> Integral | G12: =IFERROR(__xludf.dummyfunction("""COMPUTED_VALUE"""),"Comum") -> Comum | H12: =IFERROR(__xludf.dummyfunction("""COMPUTED_VALUE"""),"1") -> 1 | I12: =IFERROR(__xludf.dummyfunction("""COMPUTED_VALUE"""),"26052484301") -> 26052484301 | J12: =IFERROR(__xludf.dummyfunction("""COMPUTED_VALUE"""),"18/05/2026 09:15:19") -> 18/05/2026 09:15:19 | K12: =IFERROR(__xludf.dummyfunction("""COMPUTED_VALUE"""),"HELLOYSE VITÓRIA SANTOS DUARTE") -> HELLOYSE VITÓRIA SANTOS DUARTE | L12: =IFERROR(__xludf.dummyfunction("""COMPUTED_VALUE"""),"184.035.244-20") -> 184.035.244-20 | M12: =IFERROR(__xludf.dummyfunction("""COMPUTED_VALUE"""),"11/01/2023") -> 11/01/2023 | O12: =IFERROR(__xludf.dummyfunction("""COMPUTED_VALUE"""),"0") -> 0
B13: {=_xlfn.XLOOKUP(D13,Tabela_Dados_Esc_JAB_2026[INEP],Tabela_Dados_Esc_JAB_2026[REGIONAL],"NE",0)} -> REGIONAL 7 | C13: =IFERROR(__xludf.dummyfunction("""COMPUTED_VALUE"""),"CEMEI DR. PAULO MENDES") -> CEMEI DR. PAULO MENDES | D13: =IFERROR(__xludf.dummyfunction("""COMPUTED_VALUE"""),"26194643") -> 26194643 | E13: =IFERROR(__xludf.dummyfunction("""COMPUTED_VALUE"""),"INFANTIL 5") -> INFANTIL 5 | F13: =IFERROR(__xludf.dummyfunction("""COMPUTED_VALUE"""),"Vespertino/Tarde") -> Vespertino/Tarde | G13: =IFERROR(__xludf.dummyfunction("""COMPUTED_VALUE"""),"Comum") -> Comum | H13: =IFERROR(__xludf.dummyfunction("""COMPUTED_VALUE"""),"1") -> 1 | I13: =IFERROR(__xludf.dummyfunction("""COMPUTED_VALUE"""),"26032246255") -> 26032246255 | J13: =IFERROR(__xludf.dummyfunction("""COMPUTED_VALUE"""),"04/03/2026 13:11:39") -> 04/03/2026 13:11:39 | K13: =IFERROR(__xludf.dummyfunction("""COMPUTED_VALUE"""),"DÉBORA ANA VALQUÍRIA GOMES DOS SANTOS") -> DÉBORA ANA VALQUÍRIA GOMES DOS SANTOS | L13: =IFERROR(__xludf.dummyfunction("""COMPUTED_VALUE"""),"174.916.104-47") -> 174.916.104-47 | M13: =IFERROR(__xludf.dummyfunction("""COMPUTED_VALUE"""),"12/10/2020") -> 12/10/2020 | O13: =IFERROR(__xludf.dummyfunction("""COMPUTED_VALUE"""),"0") -> 0
B14: {=_xlfn.XLOOKUP(D14,Tabela_Dados_Esc_JAB_2026[INEP],Tabela_Dados_Esc_JAB_2026[REGIONAL],"NE",0)} -> REGIONAL 7 | C14: =IFERROR(__xludf.dummyfunction("""COMPUTED_VALUE"""),"CEMEI ELIEL EUSTAQUIO DA SILVA") -> CEMEI ELIEL EUSTAQUIO DA SILVA | D14: =IFERROR(__xludf.dummyfunction("""COMPUTED_VALUE"""),"26109255") -> 26109255 | E14: =IFERROR(__xludf.dummyfunction("""COMPUTED_VALUE"""),"INFANTIL 3") -> INFANTIL 3 | F14: =IFERROR(__xludf.dummyfunction("""COMPUTED_VALUE"""),"Matutino/Manhã") -> Matutino/Manhã | G14: =IFERROR(__xludf.dummyfunction("""COMPUTED_VALUE"""),"Comum") -> Comum | H14: =IFERROR(__xludf.dummyfunction("""COMPUTED_VALUE"""),"1") -> 1 | I14: =IFERROR(__xludf.dummyfunction("""COMPUTED_VALUE"""),"26022224621") -> 26022224621 | J14: =IFERROR(__xludf.dummyfunction("""COMPUTED_VALUE"""),"06/02/2026 09:17:41") -> 06/02/2026 09:17:41 | K14: =IFERROR(__xludf.dummyfunction("""COMPUTED_VALUE"""),"JOÃO VITOR CERQUEIRA CAMPOS") -> JOÃO VITOR CERQUEIRA CAMPOS | L14: =IFERROR(__xludf.dummyfunction("""COMPUTED_VALUE"""),"184.852.244-42") -> 184.852.244-42 | M14: =IFERROR(__xludf.dummyfunction("""COMPUTED_VALUE"""),"26/03/2023") -> 26/03/2023 | O14: =IFERROR(__xludf.dummyfunction("""COMPUTED_VALUE"""),"0") -> 0
B15: {=_xlfn.XLOOKUP(D15,Tabela_Dados_Esc_JAB_2026[INEP],Tabela_Dados_Esc_JAB_2026[REGIONAL],"NE",0)} -> REGIONAL 7 | C15: =IFERROR(__xludf.dummyfunction("""COMPUTED_VALUE"""),"CEMEI ELIEL EUSTAQUIO DA SILVA") -> CEMEI ELIEL EUSTAQUIO DA SILVA | D15: =IFERROR(__xludf.dummyfunction("""COMPUTED_VALUE"""),"26109255") -> 26109255 | E15: =IFERROR(__xludf.dummyfunction("""COMPUTED_VALUE"""),"INFANTIL 3") -> INFANTIL 3 | F15: =IFERROR(__xludf.dummyfunction("""COMPUTED_VALUE"""),"Matutino/Manhã") -> Matutino/Manhã | G15: =IFERROR(__xludf.dummyfunction("""COMPUTED_VALUE"""),"Comum") -> Comum | H15: =IFERROR(__xludf.dummyfunction("""COMPUTED_VALUE"""),"2") -> 2 | I15: =IFERROR(__xludf.dummyfunction("""COMPUTED_VALUE"""),"26052680185") -> 26052680185 | J15: =IFERROR(__xludf.dummyfunction("""COMPUTED_VALUE"""),"04/05/2026 08:16:17") -> 04/05/2026 08:16:17 | K15: =IFERROR(__xludf.dummyfunction("""COMPUTED_VALUE"""),"ASAFE ALLAN DE PAULA SILVA") -> ASAFE ALLAN DE PAULA SILVA | L15: =IFERROR(__xludf.dummyfunction("""COMPUTED_VALUE"""),"183.832.884-09") -> 183.832.884-09 | M15: =IFERROR(__xludf.dummyfunction("""COMPUTED_VALUE"""),"24/12/2022") -> 24/12/2022 | O15: =IFERROR(__xludf.dummyfunction("""COMPUTED_VALUE"""),"0") -> 0
B16: {=_xlfn.XLOOKUP(D16,Tabela_Dados_Esc_JAB_2026[INEP],Tabela_Dados_Esc_JAB_2026[REGIONAL],"NE",0)} -> REGIONAL 7 | C16: =IFERROR(__xludf.dummyfunction("""COMPUTED_VALUE"""),"CEMEI ELIEL EUSTAQUIO DA SILVA") -> CEMEI ELIEL EUSTAQUIO DA SILVA | D16: =IFERROR(__xludf.dummyfunction("""COMPUTED_VALUE"""),"26109255") -> 26109255 | E16: =IFERROR(__xludf.dummyfunction("""COMPUTED_VALUE"""),"INFANTIL 3") -> INFANTIL 3 | F16: =IFERROR(__xludf.dummyfunction("""COMPUTED_VALUE"""),"Matutino/Manhã") -> Matutino/Manhã | G16: =IFERROR(__xludf.dummyfunction("""COMPUTED_VALUE"""),"Comum") -> Comum | H16: =IFERROR(__xludf.dummyfunction("""COMPUTED_VALUE"""),"3") -> 3 | I16: =IFERROR(__xludf.dummyfunction("""COMPUTED_VALUE"""),"26062196800") -> 26062196800 | J16: =IFERROR(__xludf.dummyfunction("""COMPUTED_VALUE"""),"22/06/2026 14:09:23") -> 22/06/2026 14:09:23 | K16: =IFERROR(__xludf.dummyfunction("""COMPUTED_VALUE"""),"Isabella Valentina dos Santos") -> Isabella Valentina dos Santos | L16: =IFERROR(__xludf.dummyfunction("""COMPUTED_VALUE"""),"181.388.084-03") -> 181.388.084-03 | M16: =IFERROR(__xludf.dummyfunction("""COMPUTED_VALUE"""),"07/04/2022") -> 07/04/2022 | O16: =IFERROR(__xludf.dummyfunction("""COMPUTED_VALUE"""),"0") -> 0
B17: {=_xlfn.XLOOKUP(D17,Tabela_Dados_Esc_JAB_2026[INEP],Tabela_Dados_Esc_JAB_2026[REGIONAL],"NE",0)} -> REGIONAL 7 | C17: =IFERROR(__xludf.dummyfunction("""COMPUTED_VALUE"""),"CEMEI ELIEL EUSTAQUIO DA SILVA") -> CEMEI ELIEL EUSTAQUIO DA SILVA | D17: =IFERROR(__xludf.dummyfunction("""COMPUTED_VALUE"""),"26109255") -> 26109255 | E17: =IFERROR(__xludf.dummyfunction("""COMPUTED_VALUE"""),"INFANTIL 3") -> INFANTIL 3 | F17: =IFERROR(__xludf.dummyfunction("""COMPUTED_VALUE"""),"Matutino/Manhã") -> Matutino/Manhã | G17: =IFERROR(__xludf.dummyfunction("""COMPUTED_VALUE"""),"Comum") -> Comum | H17: =IFERROR(__xludf.dummyfunction("""COMPUTED_VALUE"""),"4") -> 4 | I17: =IFERROR(__xludf.dummyfunction("""COMPUTED_VALUE"""),"26092251432") -> 26092251432 | J17: =IFERROR(__xludf.dummyfunction("""COMPUTED_VALUE"""),"10/09/2026 09:46:29") -> 10/09/2026 09:46:29 | K17: =IFERROR(__xludf.dummyfunction("""COMPUTED_VALUE"""),"Samuel dos Santos Pereira da Silva") -> Samuel dos Santos Pereira da Silva | L17: =IFERROR(__xludf.dummyfunction("""COMPUTED_VALUE"""),"183.072.104-61") -> 183.072.104-61 | M17: =IFERROR(__xludf.dummyfunction("""COMPUTED_VALUE"""),"08/10/2022") -> 08/10/2022 | O17: =IFERROR(__xludf.dummyfunction("""COMPUTED_VALUE"""),"0") -> 0
B18: {=_xlfn.XLOOKUP(D18,Tabela_Dados_Esc_JAB_2026[INEP],Tabela_Dados_Esc_JAB_2026[REGIONAL],"NE",0)} -> REGIONAL 7 | C18: =IFERROR(__xludf.dummyfunction("""COMPUTED_VALUE"""),"CEMEI ELIEL EUSTAQUIO DA SILVA") -> CEMEI ELIEL EUSTAQUIO DA SILVA | D18: =IFERROR(__xludf.dummyfunction("""COMPUTED_VALUE"""),"26109255") -> 26109255 | E18: =IFERROR(__xludf.dummyfunction("""COMPUTED_VALUE"""),"INFANTIL 4") -> INFANTIL 4 | F18: =IFERROR(__xludf.dummyfunction("""COMPUTED_VALUE"""),"Matutino/Manhã") -> Matutino/Manhã | G18: =IFERROR(__xludf.dummyfunction("""COMPUTED_VALUE"""),"Comum") -> Comum | H18: =IFERROR(__xludf.dummyfunction("""COMPUTED_VALUE"""),"1") -> 1 | I18: =IFERROR(__xludf.dummyfunction("""COMPUTED_VALUE"""),"26012960959") -> 26012960959 | J18: =IFERROR(__xludf.dummyfunction("""COMPUTED_VALUE"""),"28/01/2026 10:18:39") -> 28/01/2026 10:18:39 | K18: =IFERROR(__xludf.dummyfunction("""COMPUTED_VALUE"""),"LAYLA MANUELY DANTAS DIAS DA SILVA") -> LAYLA MANUELY DANTAS DIAS DA SILVA | L18: =IFERROR(__xludf.dummyfunction("""COMPUTED_VALUE"""),"179.149.914-73") -> 179.149.914-73 | M18: =IFERROR(__xludf.dummyfunction("""COMPUTED_VALUE"""),"01/11/2021") -> 01/11/2021 | O18: =IFERROR(__xludf.dummyfunction("""COMPUTED_VALUE"""),"0") -> 0
B19: {=_xlfn.XLOOKUP(D19,Tabela_Dados_Esc_JAB_2026[INEP],Tabela_Dados_Esc_JAB_2026[REGIONAL],"NE",0)} -> REGIONAL 7 | C19: =IFERROR(__xludf.dummyfunction("""COMPUTED_VALUE"""),"CEMEI ELIEL EUSTAQUIO DA SILVA") -> CEMEI ELIEL EUSTAQUIO DA SILVA | D19: =IFERROR(__xludf.dummyfunction("""COMPUTED_VALUE"""),"26109255") -> 26109255 | E19: =IFERROR(__xludf.dummyfunction("""COMPUTED_VALUE"""),"INFANTIL 4") -> INFANTIL 4 | F19: =IFERROR(__xludf.dummyfunction("""COMPUTED_VALUE"""),"Matutino/Manhã") -> Matutino/Manhã | G19: =IFERROR(__xludf.dummyfunction("""COMPUTED_VALUE"""),"Comum") -> Comum | H19: =IFERROR(__xludf.dummyfunction("""COMPUTED_VALUE"""),"2") -> 2 | I19: =IFERROR(__xludf.dummyfunction("""COMPUTED_VALUE"""),"26012514123") -> 26012514123 | J19: =IFERROR(__xludf.dummyfunction("""COMPUTED_VALUE"""),"28/01/2026 10:27:27") -> 28/01/2026 10:27:27 | K19: =IFERROR(__xludf.dummyfunction("""COMPUTED_VALUE"""),"KALEL MATHIAS SILVA DO NASCIMENTO") -> KALEL MATHIAS SILVA DO NASCIMENTO | L19: =IFERROR(__xludf.dummyfunction("""COMPUTED_VALUE"""),"179.890.114-50") -> 179.890.114-50 | M19: =IFERROR(__xludf.dummyfunction("""COMPUTED_VALUE"""),"21/11/2021") -> 21/11/2021 | O19: =IFERROR(__xludf.dummyfunction("""COMPUTED_VALUE"""),"0") -> 0
B20: {=_xlfn.XLOOKUP(D20,Tabela_Dados_Esc_JAB_2026[INEP],Tabela_Dados_Esc_JAB_2026[REGIONAL],"NE",0)} -> REGIONAL 7 | C20: =IFERROR(__xludf.dummyfunction("""COMPUTED_VALUE"""),"CEMEI ELIEL EUSTAQUIO DA SILVA") -> CEMEI ELIEL EUSTAQUIO DA SILVA | D20: =IFERROR(__xludf.dummyfunction("""COMPUTED_VALUE"""),"26109255") -> 26109255 | E20: =IFERROR(__xludf.dummyfunction("""COMPUTED_VALUE"""),"INFANTIL 4") -> INFANTIL 4 | F20: =IFERROR(__xludf.dummyfunction("""COMPUTED_VALUE"""),"Matutino/Manhã") -> Matutino/Manhã | G20: =IFERROR(__xludf.dummyfunction("""COMPUTED_VALUE"""),"Comum") -> Comum | H20: =IFERROR(__xludf.dummyfunction("""COMPUTED_VALUE"""),"3") -> 3 | I20: =IFERROR(__xludf.dummyfunction("""COMPUTED_VALUE"""),"26012851393") -> 26012851393 | J20: =IFERROR(__xludf.dummyfunction("""COMPUTED_VALUE"""),"29/01/2026 21:02:49") -> 29/01/2026 21:02:49 | K20: =IFERROR(__xludf.dummyfunction("""COMPUTED_VALUE"""),"BRYAN RAVI PRIMO DA SILVA") -> BRYAN RAVI PRIMO DA SILVA | L20: =IFERROR(__xludf.dummyfunction("""COMPUTED_VALUE"""),"179.610.804-90") -> 179.610.804-90 | M20: =IFERROR(__xludf.dummyfunction("""COMPUTED_VALUE"""),"12/12/2021") -> 12/12/2021 | O20: =IFERROR(__xludf.dummyfunction("""COMPUTED_VALUE"""),"0") -> 0
B21: {=_xlfn.XLOOKUP(D21,Tabela_Dados_Esc_JAB_2026[INEP],Tabela_Dados_Esc_JAB_2026[REGIONAL],"NE",0)} -> REGIONAL 7 | C21: =IFERROR(__xludf.dummyfunction("""COMPUTED_VALUE"""),"CEMEI ELIEL EUSTAQUIO DA SILVA") -> CEMEI ELIEL EUSTAQUIO DA SILVA | D21: =IFERROR(__xludf.dummyfunction("""COMPUTED_VALUE"""),"26109255") -> 26109255 | E21: =IFERROR(__xludf.dummyfunction("""COMPUTED_VALUE"""),"INFANTIL 4") -> INFANTIL 4 | F21: =IFERROR(__xludf.dummyfunction("""COMPUTED_VALUE"""),"Matutino/Manhã") -> Matutino/Manhã | G21: =IFERROR(__xludf.dummyfunction("""COMPUTED_VALUE"""),"Comum") -> Comum | H21: =IFERROR(__xludf.dummyfunction("""COMPUTED_VALUE"""),"4") -> 4 | I21: =IFERROR(__xludf.dummyfunction("""COMPUTED_VALUE"""),"26022367185") -> 26022367185 | J21: =IFERROR(__xludf.dummyfunction("""COMPUTED_VALUE"""),"03/02/2026 09:59:50") -> 03/02/2026 09:59:50 | K21: =IFERROR(__xludf.dummyfunction("""COMPUTED_VALUE"""),"ANTHONY GAEL CACIANO FRANÇA VIEIRA") -> ANTHONY GAEL CACIANO FRANÇA VIEIRA | L21: =IFERROR(__xludf.dummyfunction("""COMPUTED_VALUE"""),"180.577.814-59") -> 180.577.814-59 | M21: =IFERROR(__xludf.dummyfunction("""COMPUTED_VALUE"""),"20/02/2022") -> 20/02/2022 | O21: =IFERROR(__xludf.dummyfunction("""COMPUTED_VALUE"""),"0") -> 0
B22: {=_xlfn.XLOOKUP(D22,Tabela_Dados_Esc_JAB_2026[INEP],Tabela_Dados_Esc_JAB_2026[REGIONAL],"NE",0)} -> REGIONAL 7 | C22: =IFERROR(__xludf.dummyfunction("""COMPUTED_VALUE"""),"CEMEI ELIEL EUSTAQUIO DA SILVA") -> CEMEI ELIEL EUSTAQUIO DA SILVA | D22: =IFERROR(__xludf.dummyfunction("""COMPUTED_VALUE"""),"26109255") -> 26109255 | E22: =IFERROR(__xludf.dummyfunction("""COMPUTED_VALUE"""),"INFANTIL 4") -> INFANTIL 4 | F22: =IFERROR(__xludf.dummyfunction("""COMPUTED_VALUE"""),"Matutino/Manhã") -> Matutino/Manhã | G22: =IFERROR(__xludf.dummyfunction("""COMPUTED_VALUE"""),"Comum") -> Comum | H22: =IFERROR(__xludf.dummyfunction("""COMPUTED_VALUE"""),"5") -> 5 | I22: =IFERROR(__xludf.dummyfunction("""COMPUTED_VALUE"""),"26022615852") -> 26022615852 | J22: =IFERROR(__xludf.dummyfunction("""COMPUTED_VALUE"""),"05/02/2026 11:30:23") -> 05/02/2026 11:30:23 | K22: =IFERROR(__xludf.dummyfunction("""COMPUTED_VALUE"""),"JEFFERSON WILLIAM ALVES DA SILVA") -> JEFFERSON WILLIAM ALVES DA SILVA | L22: =IFERROR(__xludf.dummyfunction("""COMPUTED_VALUE"""),"180.705.954-50") -> 180.705.954-50 | M22: =IFERROR(__xludf.dummyfunction("""COMPUTED_VALUE"""),"01/03/2022") -> 01/03/2022 | O22: =IFERROR(__xludf.dummyfunction("""COMPUTED_VALUE"""),"0") -> 0
B23: {=_xlfn.XLOOKUP(D23,Tabela_Dados_Esc_JAB_2026[INEP],Tabela_Dados_Esc_JAB_2026[REGIONAL],"NE",0)} -> REGIONAL 7 | C23: =IFERROR(__xludf.dummyfunction("""COMPUTED_VALUE"""),"CEMEI ELIEL EUSTAQUIO DA SILVA") -> CEMEI ELIEL EUSTAQUIO DA SILVA | D23: =IFERROR(__xludf.dummyfunction("""COMPUTED_VALUE"""),"26109255") -> 26109255 | E23: =IFERROR(__xludf.dummyfunction("""COMPUTED_VALUE"""),"INFANTIL 4") -> INFANTIL 4 | F23: =IFERROR(__xludf.dummyfunction("""COMPUTED_VALUE"""),"Matutino/Manhã") -> Matutino/Manhã | G23: =IFERROR(__xludf.dummyfunction("""COMPUTED_VALUE"""),"Comum") -> Comum | H23: =IFERROR(__xludf.dummyfunction("""COMPUTED_VALUE"""),"6") -> 6 | I23: =IFERROR(__xludf.dummyfunction("""COMPUTED_VALUE"""),"26022967127") -> 26022967127 | J23: =IFERROR(__xludf.dummyfunction("""COMPUTED_VALUE"""),"05/02/2026 11:43:49") -> 05/02/2026 11:43:49 | K23: =IFERROR(__xludf.dummyfunction("""COMPUTED_VALUE"""),"EDUARDO LUIZ PEREIRA DOS SANTOS") -> EDUARDO LUIZ PEREIRA DOS SANTOS | L23: =IFERROR(__xludf.dummyfunction("""COMPUTED_VALUE"""),"180.724.984-01") -> 180.724.984-01 | M23: =IFERROR(__xludf.dummyfunction("""COMPUTED_VALUE"""),"26/01/2022") -> 26/01/2022 | O23: =IFERROR(__xludf.dummyfunction("""COMPUTED_VALUE"""),"0") -> 0
B24: {=_xlfn.XLOOKUP(D24,Tabela_Dados_Esc_JAB_2026[INEP],Tabela_Dados_Esc_JAB_2026[REGIONAL],"NE",0)} -> REGIONAL 7 | C24: =IFERROR(__xludf.dummyfunction("""COMPUTED_VALUE"""),"CEMEI ELIEL EUSTAQUIO DA SILVA") -> CEMEI ELIEL EUSTAQUIO DA SILVA | D24: =IFERROR(__xludf.dummyfunction("""COMPUTED_VALUE"""),"26109255") -> 26109255 | E24: =IFERROR(__xludf.dummyfunction("""COMPUTED_VALUE"""),"INFANTIL 4") -> INFANTIL 4 | F24: =IFERROR(__xludf.dummyfunction("""COMPUTED_VALUE"""),"Matutino/Manhã") -> Matutino/Manhã | G24: =IFERROR(__xludf.dummyfunction("""COMPUTED_VALUE"""),"Comum") -> Comum | H24: =IFERROR(__xludf.dummyfunction("""COMPUTED_VALUE"""),"7") -> 7 | I24: =IFERROR(__xludf.dummyfunction("""COMPUTED_VALUE"""),"26022109575") -> 26022109575 | J24: =IFERROR(__xludf.dummyfunction("""COMPUTED_VALUE"""),"09/02/2026 08:33:33") -> 09/02/2026 08:33:33 | K24: =IFERROR(__xludf.dummyfunction("""COMPUTED_VALUE"""),"EDERSON GABRIEL DA SILVA SANTOS GOIS") -> EDERSON GABRIEL DA SILVA SANTOS GOIS | L24: =IFERROR(__xludf.dummyfunction("""COMPUTED_VALUE"""),"181.265.684-02") -> 181.265.684-02 | M24: =IFERROR(__xludf.dummyfunction("""COMPUTED_VALUE"""),"17/02/2022") -> 17/02/2022 | O24: =IFERROR(__xludf.dummyfunction("""COMPUTED_VALUE"""),"0") -> 0
B25: {=_xlfn.XLOOKUP(D25,Tabela_Dados_Esc_JAB_2026[INEP],Tabela_Dados_Esc_JAB_2026[REGIONAL],"NE",0)} -> REGIONAL 7 | C25: =IFERROR(__xludf.dummyfunction("""COMPUTED_VALUE"""),"CEMEI ELIEL EUSTAQUIO DA SILVA") -> CEMEI ELIEL EUSTAQUIO DA SILVA | D25: =IFERROR(__xludf.dummyfunction("""COMPUTED_VALUE"""),"26109255") -> 26109255 | E25: =IFERROR(__xludf.dummyfunction("""COMPUTED_VALUE"""),"INFANTIL 4") -> INFANTIL 4 | F25: =IFERROR(__xludf.dummyfunction("""COMPUTED_VALUE"""),"Matutino/Manhã") -> Matutino/Manhã | G25: =IFERROR(__xludf.dummyfunction("""COMPUTED_VALUE"""),"Comum") -> Comum | H25: =IFERROR(__xludf.dummyfunction("""COMPUTED_VALUE"""),"8") -> 8 | I25: =IFERROR(__xludf.dummyfunction("""COMPUTED_VALUE"""),"26022674866") -> 26022674866 | J25: =IFERROR(__xludf.dummyfunction("""COMPUTED_VALUE"""),"10/02/2026 08:38:18") -> 10/02/2026 08:38:18 | K25: =IFERROR(__xludf.dummyfunction("""COMPUTED_VALUE"""),"ALLÍCYA SOPHIA E SILVA RODRIGUES") -> ALLÍCYA SOPHIA E SILVA RODRIGUES | L25: =IFERROR(__xludf.dummyfunction("""COMPUTED_VALUE"""),"178.859.044-90") -> 178.859.044-90 | M25: =IFERROR(__xludf.dummyfunction("""COMPUTED_VALUE"""),"21/10/2021") -> 21/10/2021 | O25: =IFERROR(__xludf.dummyfunction("""COMPUTED_VALUE"""),"0") -> 0
B26: {=_xlfn.XLOOKUP(D26,Tabela_Dados_Esc_JAB_2026[INEP],Tabela_Dados_Esc_JAB_2026[REGIONAL],"NE",0)} -> REGIONAL 7 | C26: =IFERROR(__xludf.dummyfunction("""COMPUTED_VALUE"""),"CEMEI ELIEL EUSTAQUIO DA SILVA") -> CEMEI ELIEL EUSTAQUIO DA SILVA | D26: =IFERROR(__xludf.dummyfunction("""COMPUTED_VALUE"""),"26109255") -> 26109255 | E26: =IFERROR(__xludf.dummyfunction("""COMPUTED_VALUE"""),"INFANTIL 4") -> INFANTIL 4 | F26: =IFERROR(__xludf.dummyfunction("""COMPUTED_VALUE"""),"Matutino/Manhã") -> Matutino/Manhã | G26: =IFERROR(__xludf.dummyfunction("""COMPUTED_VALUE"""),"Comum") -> Comum | H26: =IFERROR(__xludf.dummyfunction("""COMPUTED_VALUE"""),"9") -> 9 | I26: =IFERROR(__xludf.dummyfunction("""COMPUTED_VALUE"""),"26032523852") -> 26032523852 | J26: =IFERROR(__xludf.dummyfunction("""COMPUTED_VALUE"""),"26/03/2026 15:15:54") -> 26/03/2026 15:15:54 | K26: =IFERROR(__xludf.dummyfunction("""COMPUTED_VALUE"""),"YOHANNA LARISSA BARBOSA LOPES") -> YOHANNA LARISSA BARBOSA LOPES | L26: =IFERROR(__xludf.dummyfunction("""COMPUTED_VALUE"""),"176.892.574-70") -> 176.892.574-70 | M26: =IFERROR(__xludf.dummyfunction("""COMPUTED_VALUE"""),"30/05/2021") -> 30/05/2021 | O26: =IFERROR(__xludf.dummyfunction("""COMPUTED_VALUE"""),"0") -> 0
B27: {=_xlfn.XLOOKUP(D27,Tabela_Dados_Esc_JAB_2026[INEP],Tabela_Dados_Esc_JAB_2026[REGIONAL],"NE",0)} -> REGIONAL 7 | C27: =IFERROR(__xludf.dummyfunction("""COMPUTED_VALUE"""),"CEMEI ELIEL EUSTAQUIO DA SILVA") -> CEMEI ELIEL EUSTAQUIO DA SILVA | D27: =IFERROR(__xludf.dummyfunction("""COMPUTED_VALUE"""),"26109255") -> 26109255 | E27: =IFERROR(__xludf.dummyfunction("""COMPUTED_VALUE"""),"INFANTIL 4") -> INFANTIL 4 | F27: =IFERROR(__xludf.dummyfunction("""COMPUTED_VALUE"""),"Matutino/Manhã") -> Matutino/Manhã | G27: =IFERROR(__xludf.dummyfunction("""COMPUTED_VALUE"""),"Comum") -> Comum | H27: =IFERROR(__xludf.dummyfunction("""COMPUTED_VALUE"""),"10") -> 10 | I27: =IFERROR(__xludf.dummyfunction("""COMPUTED_VALUE"""),"26042354258") -> 26042354258 | J27: =IFERROR(__xludf.dummyfunction("""COMPUTED_VALUE"""),"09/04/2026 13:55:24") -> 09/04/2026 13:55:24 | K27: =IFERROR(__xludf.dummyfunction("""COMPUTED_VALUE"""),"DAVI EMANUEL FARIAS GINO") -> DAVI EMANUEL FARIAS GINO | L27: =IFERROR(__xludf.dummyfunction("""COMPUTED_VALUE"""),"178.842.614-21") -> 178.842.614-21 | M27: =IFERROR(__xludf.dummyfunction("""COMPUTED_VALUE"""),"16/10/2021") -> 16/10/2021 | O27: =IFERROR(__xludf.dummyfunction("""COMPUTED_VALUE"""),"0") -> 0
B28: {=_xlfn.XLOOKUP(D28,Tabela_Dados_Esc_JAB_2026[INEP],Tabela_Dados_Esc_JAB_2026[REGIONAL],"NE",0)} -> REGIONAL 7 | C28: =IFERROR(__xludf.dummyfunction("""COMPUTED_VALUE"""),"CEMEI ELIEL EUSTAQUIO DA SILVA") -> CEMEI ELIEL EUSTAQUIO DA SILVA | D28: =IFERROR(__xludf.dummyfunction("""COMPUTED_VALUE"""),"26109255") -> 26109255 | E28: =IFERROR(__xludf.dummyfunction("""COMPUTED_VALUE"""),"INFANTIL 4") -> INFANTIL 4 | F28: =IFERROR(__xludf.dummyfunction("""COMPUTED_VALUE"""),"Matutino/Manhã") -> Matutino/Manhã | G28: =IFERROR(__xludf.dummyfunction("""COMPUTED_VALUE"""),"Comum") -> Comum | H28: =IFERROR(__xludf.dummyfunction("""COMPUTED_VALUE"""),"11") -> 11 | I28: =IFERROR(__xludf.dummyfunction("""COMPUTED_VALUE"""),"26052109575") -> 26052109575 | J28: =IFERROR(__xludf.dummyfunction("""COMPUTED_VALUE"""),"27/05/2026 11:45:30") -> 27/05/2026 11:45:30 | K28: =IFERROR(__xludf.dummyfunction("""COMPUTED_VALUE"""),"Maria Beatriz da rocha Campelo") -> Maria Beatriz da rocha Campelo | L28: =IFERROR(__xludf.dummyfunction("""COMPUTED_VALUE"""),"177.413.554-06") -> 177.413.554-06 | M28: =IFERROR(__xludf.dummyfunction("""COMPUTED_VALUE"""),"09/07/2021") -> 09/07/2021 | O28: =IFERROR(__xludf.dummyfunction("""COMPUTED_VALUE"""),"0") -> 0
B29: {=_xlfn.XLOOKUP(D29,Tabela_Dados_Esc_JAB_2026[INEP],Tabela_Dados_Esc_JAB_2026[REGIONAL],"NE",0)} -> REGIONAL 7 | C29: =IFERROR(__xludf.dummyfunction("""COMPUTED_VALUE"""),"CEMEI JOÃO FERNANDES VIEIRA") -> CEMEI JOÃO FERNANDES VIEIRA | D29: =IFERROR(__xludf.dummyfunction("""COMPUTED_VALUE"""),"26109530") -> 26109530 | E29: =IFERROR(__xludf.dummyfunction("""COMPUTED_VALUE"""),"INFANTIL 4") -> INFANTIL 4 | F29: =IFERROR(__xludf.dummyfunction("""COMPUTED_VALUE"""),"Matutino/Manhã") -> Matutino/Manhã | G29: =IFERROR(__xludf.dummyfunction("""COMPUTED_VALUE"""),"Comum") -> Comum | H29: =IFERROR(__xludf.dummyfunction("""COMPUTED_VALUE"""),"1") -> 1 | I29: =IFERROR(__xludf.dummyfunction("""COMPUTED_VALUE"""),"26012511040") -> 26012511040 | J29: =IFERROR(__xludf.dummyfunction("""COMPUTED_VALUE"""),"28/01/2026 08:40:52") -> 28/01/2026 08:40:52 | K29: =IFERROR(__xludf.dummyfunction("""COMPUTED_VALUE"""),"VITORIA ALVES BELO DA SILVA") -> VITORIA ALVES BELO DA SILVA | L29: =IFERROR(__xludf.dummyfunction("""COMPUTED_VALUE"""),"177.337.994-14") -> 177.337.994-14 | M29: =IFERROR(__xludf.dummyfunction("""COMPUTED_VALUE"""),"05/07/2021") -> 05/07/2021 | O29: =IFERROR(__xludf.dummyfunction("""COMPUTED_VALUE"""),"0") -> 0
B30: {=_xlfn.XLOOKUP(D30,Tabela_Dados_Esc_JAB_2026[INEP],Tabela_Dados_Esc_JAB_2026[REGIONAL],"NE",0)} -> REGIONAL 7 | C30: =IFERROR(__xludf.dummyfunction("""COMPUTED_VALUE"""),"CEMEI JOÃO FERNANDES VIEIRA") -> CEMEI JOÃO FERNANDES VIEIRA | D30: =IFERROR(__xludf.dummyfunction("""COMPUTED_VALUE"""),"26109530") -> 26109530 | E30: =IFERROR(__xludf.dummyfunction("""COMPUTED_VALUE"""),"INFANTIL 4") -> INFANTIL 4 | F30: =IFERROR(__xludf.dummyfunction("""COMPUTED_VALUE"""),"Matutino/Manhã") -> Matutino/Manhã | G30: =IFERROR(__xludf.dummyfunction("""COMPUTED_VALUE"""),"Comum") -> Comum | H30: =IFERROR(__xludf.dummyfunction("""COMPUTED_VALUE"""),"2") -> 2 | I30: =IFERROR(__xludf.dummyfunction("""COMPUTED_VALUE"""),"26022386245") -> 26022386245 | J30: =IFERROR(__xludf.dummyfunction("""COMPUTED_VALUE"""),"04/02/2026 10:08:37") -> 04/02/2026 10:08:37 | K30: =IFERROR(__xludf.dummyfunction("""COMPUTED_VALUE"""),"MARIA VALLENTHINA SOPHIA NASCIMENTO") -> MARIA VALLENTHINA SOPHIA NASCIMENTO | L30: =IFERROR(__xludf.dummyfunction("""COMPUTED_VALUE"""),"180.367.124-66") -> 180.367.124-66 | M30: =IFERROR(__xludf.dummyfunction("""COMPUTED_VALUE"""),"04/02/2022") -> 04/02/2022 | O30: =IFERROR(__xludf.dummyfunction("""COMPUTED_VALUE"""),"0") -> 0
B31: {=_xlfn.XLOOKUP(D31,Tabela_Dados_Esc_JAB_2026[INEP],Tabela_Dados_Esc_JAB_2026[REGIONAL],"NE",0)} -> REGIONAL 7 | C31: =IFERROR(__xludf.dummyfunction("""COMPUTED_VALUE"""),"CEMEI JOÃO FERNANDES VIEIRA") -> CEMEI JOÃO FERNANDES VIEIRA | D31: =IFERROR(__xludf.dummyfunction("""COMPUTED_VALUE"""),"26109530") -> 26109530 | E31: =IFERROR(__xludf.dummyfunction("""COMPUTED_VALUE"""),"INFANTIL 4") -> INFANTIL 4 | F31: =IFERROR(__xludf.dummyfunction("""COMPUTED_VALUE"""),"Vespertino/Tarde") -> Vespertino/Tarde | G31: =IFERROR(__xludf.dummyfunction("""COMPUTED_VALUE"""),"Comum") -> Comum | H31: =IFERROR(__xludf.dummyfunction("""COMPUTED_VALUE"""),"1") -> 1 | I31: =IFERROR(__xludf.dummyfunction("""COMPUTED_VALUE"""),"26012971328") -> 26012971328 | J31: =IFERROR(__xludf.dummyfunction("""COMPUTED_VALUE"""),"29/01/2026 12:10:37") -> 29/01/2026 12:10:37 | K31: =IFERROR(__xludf.dummyfunction("""COMPUTED_VALUE"""),"MARIA CLARA DA SILVA") -> MARIA CLARA DA SILVA | L31: =IFERROR(__xludf.dummyfunction("""COMPUTED_VALUE"""),"177.832.344-88") -> 177.832.344-88 | M31: =IFERROR(__xludf.dummyfunction("""COMPUTED_VALUE"""),"30/04/2021") -> 30/04/2021 | O31: =IFERROR(__xludf.dummyfunction("""COMPUTED_VALUE"""),"0") -> 0
B32: {=_xlfn.XLOOKUP(D32,Tabela_Dados_Esc_JAB_2026[INEP],Tabela_Dados_Esc_JAB_2026[REGIONAL],"NE",0)} -> REGIONAL 7 | C32: =IFERROR(__xludf.dummyfunction("""COMPUTED_VALUE"""),"CEMEI JOÃO FERNANDES VIEIRA") -> CEMEI JOÃO FERNANDES VIEIRA | D32: =IFERROR(__xludf.dummyfunction("""COMPUTED_VALUE"""),"26109530") -> 26109530 | E32: =IFERROR(__xludf.dummyfunction("""COMPUTED_VALUE"""),"INFANTIL 5") -> INFANTIL 5 | F32: =IFERROR(__xludf.dummyfunction("""COMPUTED_VALUE"""),"Matutino/Manhã") -> Matutino/Manhã | G32: =IFERROR(__xludf.dummyfunction("""COMPUTED_VALUE"""),"Comum") -> Comum | H32: =IFERROR(__xludf.dummyfunction("""COMPUTED_VALUE"""),"1") -> 1 | I32: =IFERROR(__xludf.dummyfunction("""COMPUTED_VALUE"""),"26022172975") -> 26022172975 | J32: =IFERROR(__xludf.dummyfunction("""COMPUTED_VALUE"""),"02/02/2026 08:05:51") -> 02/02/2026 08:05:51 | K32: =IFERROR(__xludf.dummyfunction("""COMPUTED_VALUE"""),"GUILHERME BELO DA SILVA") -> GUILHERME BELO DA SILVA | L32: =IFERROR(__xludf.dummyfunction("""COMPUTED_VALUE"""),"171.947.514-88") -> 171.947.514-88 | M32: =IFERROR(__xludf.dummyfunction("""COMPUTED_VALUE"""),"21/05/2020") -> 21/05/2020 | O32: =IFERROR(__xludf.dummyfunction("""COMPUTED_VALUE"""),"0") -> 0
B33: {=_xlfn.XLOOKUP(D33,Tabela_Dados_Esc_JAB_2026[INEP],Tabela_Dados_Esc_JAB_2026[REGIONAL],"NE",0)} -> REGIONAL 6 | C33: =IFERROR(__xludf.dummyfunction("""COMPUTED_VALUE"""),"CEMEI LIGIA ARAUJO DE OLIVEIRA") -> CEMEI LIGIA ARAUJO DE OLIVEIRA | D33: =IFERROR(__xludf.dummyfunction("""COMPUTED_VALUE"""),"26191300") -> 26191300 | E33: =IFERROR(__xludf.dummyfunction("""COMPUTED_VALUE"""),"INFANTIL 1") -> INFANTIL 1 | F33: =IFERROR(__xludf.dummyfunction("""COMPUTED_VALUE"""),"Integral") -> Integral | G33: =IFERROR(__xludf.dummyfunction("""COMPUTED_VALUE"""),"Comum") -> Comum | H33: =IFERROR(__xludf.dummyfunction("""COMPUTED_VALUE"""),"1") -> 1 | I33: =IFERROR(__xludf.dummyfunction("""COMPUTED_VALUE"""),"26032957457") -> 26032957457 | J33: =IFERROR(__xludf.dummyfunction("""COMPUTED_VALUE"""),"09/03/2026 17:29:00") -> 09/03/2026 17:29:00 | K33: =IFERROR(__xludf.dummyfunction("""COMPUTED_VALUE"""),"MIGUEL DE CARVALHO MELO CARDOSO") -> MIGUEL DE CARVALHO MELO CARDOSO | L33: =IFERROR(__xludf.dummyfunction("""COMPUTED_VALUE"""),"003.288.894-58") -> 003.288.894-58 | M33: =IFERROR(__xludf.dummyfunction("""COMPUTED_VALUE"""),"21/05/2024") -> 21/05/2024 | O33: =IFERROR(__xludf.dummyfunction("""COMPUTED_VALUE"""),"0") -> 0
B34: {=_xlfn.XLOOKUP(D34,Tabela_Dados_Esc_JAB_2026[INEP],Tabela_Dados_Esc_JAB_2026[REGIONAL],"NE",0)} -> REGIONAL 6 | C34: =IFERROR(__xludf.dummyfunction("""COMPUTED_VALUE"""),"CEMEI LIGIA ARAUJO DE OLIVEIRA") -> CEMEI LIGIA ARAUJO DE OLIVEIRA | D34: =IFERROR(__xludf.dummyfunction("""COMPUTED_VALUE"""),"26191300") -> 26191300 | E34: =IFERROR(__xludf.dummyfunction("""COMPUTED_VALUE"""),"INFANTIL 1") -> INFANTIL 1 | F34: =IFERROR(__xludf.dummyfunction("""COMPUTED_VALUE"""),"Integral") -> Integral | G34: =IFERROR(__xludf.dummyfunction("""COMPUTED_VALUE"""),"Comum") -> Comum | H34: =IFERROR(__xludf.dummyfunction("""COMPUTED_VALUE"""),"2") -> 2 | I34: =IFERROR(__xludf.dummyfunction("""COMPUTED_VALUE"""),"26032662209") -> 26032662209 | J34: =IFERROR(__xludf.dummyfunction("""COMPUTED_VALUE"""),"23/03/2026 19:01:28") -> 23/03/2026 19:01:28 | K34: =IFERROR(__xludf.dummyfunction("""COMPUTED_VALUE"""),"LIAN SALAZAR SERNA") -> LIAN SALAZAR SERNA | L34: =IFERROR(__xludf.dummyfunction("""COMPUTED_VALUE"""),"003.732.314-82") -> 003.732.314-82 | M34: =IFERROR(__xludf.dummyfunction("""COMPUTED_VALUE"""),"15/05/2024") -> 15/05/2024 | O34: =IFERROR(__xludf.dummyfunction("""COMPUTED_VALUE"""),"0") -> 0
B35: {=_xlfn.XLOOKUP(D35,Tabela_Dados_Esc_JAB_2026[INEP],Tabela_Dados_Esc_JAB_2026[REGIONAL],"NE",0)} -> REGIONAL 6 | C35: =IFERROR(__xludf.dummyfunction("""COMPUTED_VALUE"""),"CEMEI LIGIA ARAUJO DE OLIVEIRA") -> CEMEI LIGIA ARAUJO DE OLIVEIRA | D35: =IFERROR(__xludf.dummyfunction("""COMPUTED_VALUE"""),"26191300") -> 26191300 | E35: =IFERROR(__xludf.dummyfunction("""COMPUTED_VALUE"""),"INFANTIL 1") -> INFANTIL 1 | F35: =IFERROR(__xludf.dummyfunction("""COMPUTED_VALUE"""),"Integral") -> Integral | G35: =IFERROR(__xludf.dummyfunction("""COMPUTED_VALUE"""),"Comum") -> Comum | H35: =IFERROR(__xludf.dummyfunction("""COMPUTED_VALUE"""),"3") -> 3 | I35: =IFERROR(__xludf.dummyfunction("""COMPUTED_VALUE"""),"26082426504") -> 26082426504 | J35: =IFERROR(__xludf.dummyfunction("""COMPUTED_VALUE"""),"25/08/2026 13:04:30") -> 25/08/2026 13:04:30 | K35: =IFERROR(__xludf.dummyfunction("""COMPUTED_VALUE"""),"Lucca ravi do santos ferraz") -> Lucca ravi do santos ferraz | L35: =IFERROR(__xludf.dummyfunction("""COMPUTED_VALUE"""),"037.044.904-58") -> 037.044.904-58 | M35: =IFERROR(__xludf.dummyfunction("""COMPUTED_VALUE"""),"26/12/2025") -> 26/12/2025 | O35: =IFERROR(__xludf.dummyfunction("""COMPUTED_VALUE"""),"0") -> 0
B36: {=_xlfn.XLOOKUP(D36,Tabela_Dados_Esc_JAB_2026[INEP],Tabela_Dados_Esc_JAB_2026[REGIONAL],"NE",0)} -> REGIONAL 6 | C36: =IFERROR(__xludf.dummyfunction("""COMPUTED_VALUE"""),"CEMEI LIGIA ARAUJO DE OLIVEIRA") -> CEMEI LIGIA ARAUJO DE OLIVEIRA | D36: =IFERROR(__xludf.dummyfunction("""COMPUTED_VALUE"""),"26191300") -> 26191300 | E36: =IFERROR(__xludf.dummyfunction("""COMPUTED_VALUE"""),"INFANTIL 1") -> INFANTIL 1 | F36: =IFERROR(__xludf.dummyfunction("""COMPUTED_VALUE"""),"Integral") -> Integral | G36: =IFERROR(__xludf.dummyfunction("""COMPUTED_VALUE"""),"Comum") -> Comum | H36: =IFERROR(__xludf.dummyfunction("""COMPUTED_VALUE"""),"4") -> 4 | I36: =IFERROR(__xludf.dummyfunction("""COMPUTED_VALUE"""),"26082015595") -> 26082015595 | J36: =IFERROR(__xludf.dummyfunction("""COMPUTED_VALUE"""),"29/08/2026 22:31:44") -> 29/08/2026 22:31:44 | K36: =IFERROR(__xludf.dummyfunction("""COMPUTED_VALUE"""),"Benício Alves Silva") -> Benício Alves Silva | L36: =IFERROR(__xludf.dummyfunction("""COMPUTED_VALUE"""),"007.002.114-70") -> 007.002.114-70 | M36: =IFERROR(__xludf.dummyfunction("""COMPUTED_VALUE"""),"05/08/2025") -> 05/08/2025 | O36: =IFERROR(__xludf.dummyfunction("""COMPUTED_VALUE"""),"0") -> 0
B37: {=_xlfn.XLOOKUP(D37,Tabela_Dados_Esc_JAB_2026[INEP],Tabela_Dados_Esc_JAB_2026[REGIONAL],"NE",0)} -> REGIONAL 6 | C37: =IFERROR(__xludf.dummyfunction("""COMPUTED_VALUE"""),"CEMEI LIGIA ARAUJO DE OLIVEIRA") -> CEMEI LIGIA ARAUJO DE OLIVEIRA | D37: =IFERROR(__xludf.dummyfunction("""COMPUTED_VALUE"""),"26191300") -> 26191300 | E37: =IFERROR(__xludf.dummyfunction("""COMPUTED_VALUE"""),"INFANTIL 2") -> INFANTIL 2 | F37: =IFERROR(__xludf.dummyfunction("""COMPUTED_VALUE"""),"Integral") -> Integral | G37: =IFERROR(__xludf.dummyfunction("""COMPUTED_VALUE"""),"Comum") -> Comum | H37: =IFERROR(__xludf.dummyfunction("""COMPUTED_VALUE"""),"1") -> 1 | I37: =IFERROR(__xludf.dummyfunction("""COMPUTED_VALUE"""),"26012747238") -> 26012747238 | J37: =IFERROR(__xludf.dummyfunction("""COMPUTED_VALUE"""),"28/01/2026 08:07:40") -> 28/01/2026 08:07:40 | K37: =IFERROR(__xludf.dummyfunction("""COMPUTED_VALUE"""),"ÍCARO MIGUEL ESPÍNDOLA DA SILVA") -> ÍCARO MIGUEL ESPÍNDOLA DA SILVA | L37: =IFERROR(__xludf.dummyfunction("""COMPUTED_VALUE"""),"001.566.454-67") -> 001.566.454-67 | M37: =IFERROR(__xludf.dummyfunction("""COMPUTED_VALUE"""),"19/08/2023") -> 19/08/2023 | O37: =IFERROR(__xludf.dummyfunction("""COMPUTED_VALUE"""),"0") -> 0
B38: {=_xlfn.XLOOKUP(D38,Tabela_Dados_Esc_JAB_2026[INEP],Tabela_Dados_Esc_JAB_2026[REGIONAL],"NE",0)} -> REGIONAL 6 | C38: =IFERROR(__xludf.dummyfunction("""COMPUTED_VALUE"""),"CEMEI LIGIA ARAUJO DE OLIVEIRA") -> CEMEI LIGIA ARAUJO DE OLIVEIRA | D38: =IFERROR(__xludf.dummyfunction("""COMPUTED_VALUE"""),"26191300") -> 26191300 | E38: =IFERROR(__xludf.dummyfunction("""COMPUTED_VALUE"""),"INFANTIL 2") -> INFANTIL 2 | F38: =IFERROR(__xludf.dummyfunction("""COMPUTED_VALUE"""),"Integral") -> Integral | G38: =IFERROR(__xludf.dummyfunction("""COMPUTED_VALUE"""),"Comum") -> Comum | H38: =IFERROR(__xludf.dummyfunction("""COMPUTED_VALUE"""),"2") -> 2 | I38: =IFERROR(__xludf.dummyfunction("""COMPUTED_VALUE"""),"26012677600") -> 26012677600 | J38: =IFERROR(__xludf.dummyfunction("""COMPUTED_VALUE"""),"29/01/2026 10:35:38") -> 29/01/2026 10:35:38 | K38: =IFERROR(__xludf.dummyfunction("""COMPUTED_VALUE"""),"OLIVER HEITOR LINS LIRA") -> OLIVER HEITOR LINS LIRA | L38: =IFERROR(__xludf.dummyfunction("""COMPUTED_VALUE"""),"185.479.534-18") -> 185.479.534-18 | M38: =IFERROR(__xludf.dummyfunction("""COMPUTED_VALUE"""),"27/05/2023") -> 27/05/2023 | O38: =IFERROR(__xludf.dummyfunction("""COMPUTED_VALUE"""),"0") -> 0
B39: {=_xlfn.XLOOKUP(D39,Tabela_Dados_Esc_JAB_2026[INEP],Tabela_Dados_Esc_JAB_2026[REGIONAL],"NE",0)} -> REGIONAL 6 | C39: =IFERROR(__xludf.dummyfunction("""COMPUTED_VALUE"""),"CEMEI LIGIA ARAUJO DE OLIVEIRA") -> CEMEI LIGIA ARAUJO DE OLIVEIRA | D39: =IFERROR(__xludf.dummyfunction("""COMPUTED_VALUE"""),"26191300") -> 26191300 | E39: =IFERROR(__xludf.dummyfunction("""COMPUTED_VALUE"""),"INFANTIL 2") -> INFANTIL 2 | F39: =IFERROR(__xludf.dummyfunction("""COMPUTED_VALUE"""),"Integral") -> Integral | G39: =IFERROR(__xludf.dummyfunction("""COMPUTED_VALUE"""),"Comum") -> Comum | H39: =IFERROR(__xludf.dummyfunction("""COMPUTED_VALUE"""),"3") -> 3 | I39: =IFERROR(__xludf.dummyfunction("""COMPUTED_VALUE"""),"26032167672") -> 26032167672 | J39: =IFERROR(__xludf.dummyfunction("""COMPUTED_VALUE"""),"11/03/2026 10:19:05") -> 11/03/2026 10:19:05 | K39: =IFERROR(__xludf.dummyfunction("""COMPUTED_VALUE"""),"ALISSON GABRIEL DOS SANTOS SILVA") -> ALISSON GABRIEL DOS SANTOS SILVA | L39: =IFERROR(__xludf.dummyfunction("""COMPUTED_VALUE"""),"001.878.044-00") -> 001.878.044-00 | M39: =IFERROR(__xludf.dummyfunction("""COMPUTED_VALUE"""),"30/12/2023") -> 30/12/2023 | O39: =IFERROR(__xludf.dummyfunction("""COMPUTED_VALUE"""),"0") -> 0
B40: {=_xlfn.XLOOKUP(D40,Tabela_Dados_Esc_JAB_2026[INEP],Tabela_Dados_Esc_JAB_2026[REGIONAL],"NE",0)} -> REGIONAL 6 | C40: =IFERROR(__xludf.dummyfunction("""COMPUTED_VALUE"""),"CEMEI LIGIA ARAUJO DE OLIVEIRA") -> CEMEI LIGIA ARAUJO DE OLIVEIRA | D40: =IFERROR(__xludf.dummyfunction("""COMPUTED_VALUE"""),"26191300") -> 26191300 | E40: =IFERROR(__xludf.dummyfunction("""COMPUTED_VALUE"""),"INFANTIL 2") -> INFANTIL 2 | F40: =IFERROR(__xludf.dummyfunction("""COMPUTED_VALUE"""),"Integral") -> Integral | G40: =IFERROR(__xludf.dummyfunction("""COMPUTED_VALUE"""),"Comum") -> Comum | H40: =IFERROR(__xludf.dummyfunction("""COMPUTED_VALUE"""),"4") -> 4 | I40: =IFERROR(__xludf.dummyfunction("""COMPUTED_VALUE"""),"26042573900") -> 26042573900 | J40: =IFERROR(__xludf.dummyfunction("""COMPUTED_VALUE"""),"20/04/2026 12:53:45") -> 20/04/2026 12:53:45 | K40: =IFERROR(__xludf.dummyfunction("""COMPUTED_VALUE"""),"ISABELA MARIA DIAS DA SILVA") -> ISABELA MARIA DIAS DA SILVA | L40: =IFERROR(__xludf.dummyfunction("""COMPUTED_VALUE"""),"166.511.419-37") -> 166.511.419-37 | M40: =IFERROR(__xludf.dummyfunction("""COMPUTED_VALUE"""),"02/05/2023") -> 02/05/2023 | O40: =IFERROR(__xludf.dummyfunction("""COMPUTED_VALUE"""),"0") -> 0
...

Sheet dados_01
A1: DATA DA SOLICITAÇÃO | B1: Posição | C1: ESTUDANTE | D1: DATA DE NASCIMENTO | E1: CPF | F1: ANO | G1: ESCOLA PRETENDIDA 1 | H1: Regional
A2: =IFERROR(__xludf.dummyfunction("QUERY(CandidatosFilaDeEspera!A1:M1599, ""SELECT Col10, Col8, Col11, Col13, Col12, Col5, Col3, Col2 where Col5 = 'INFANTIL 1' OR Col5 = 'INFANTIL 2' OR Col5 = 'INFANTIL 3'"",0)"),"24/03/2026 13:31:53") -> 24/03/2026 13:31:53 | B2: =IFERROR(__xludf.dummyfunction("""COMPUTED_VALUE"""),"1") -> 1 | C2: =IFERROR(__xludf.dummyfunction("""COMPUTED_VALUE"""),"MARIA EDUARDA SANTANA FELIX DA SILVA") -> MARIA EDUARDA SANTANA FELIX DA SILVA | D2: =IFERROR(__xludf.dummyfunction("""COMPUTED_VALUE"""),"09/06/2024") -> 09/06/2024 | E2: =IFERROR(__xludf.dummyfunction("""COMPUTED_VALUE"""),"004.110.684-90") -> 004.110.684-90 | F2: =IFERROR(__xludf.dummyfunction("""COMPUTED_VALUE"""),"INFANTIL 1") -> INFANTIL 1 | G2: =IFERROR(__xludf.dummyfunction("""COMPUTED_VALUE"""),"CEMEI DR. PAULO MENDES") -> CEMEI DR. PAULO MENDES | H2: =IFERROR(__xludf.dummyfunction("""COMPUTED_VALUE"""),"REGIONAL 7") -> REGIONAL 7
A3: =IFERROR(__xludf.dummyfunction("""COMPUTED_VALUE"""),"27/03/2026 12:51:51") -> 27/03/2026 12:51:51 | B3: =IFERROR(__xludf.dummyfunction("""COMPUTED_VALUE"""),"2") -> 2 | C3: =IFERROR(__xludf.dummyfunction("""COMPUTED_VALUE"""),"OLIVER BENJAMIN DA SILVA LIMA") -> OLIVER BENJAMIN DA SILVA LIMA | D3: =IFERROR(__xludf.dummyfunction("""COMPUTED_VALUE"""),"13/11/2025") -> 13/11/2025 | E3: =IFERROR(__xludf.dummyfunction("""COMPUTED_VALUE"""),"022.780.734-00") -> 022.780.734-00 | F3: =IFERROR(__xludf.dummyfunction("""COMPUTED_VALUE"""),"INFANTIL 1") -> INFANTIL 1 | G3: =IFERROR(__xludf.dummyfunction("""COMPUTED_VALUE"""),"CEMEI DR. PAULO MENDES") -> CEMEI DR. PAULO MENDES | H3: =IFERROR(__xludf.dummyfunction("""COMPUTED_VALUE"""),"REGIONAL 7") -> REGIONAL 7
A4: =IFERROR(__xludf.dummyfunction("""COMPUTED_VALUE"""),"21/05/2026 11:32:39") -> 21/05/2026 11:32:39 | B4: =IFERROR(__xludf.dummyfunction("""COMPUTED_VALUE"""),"3") -> 3 | C4: =IFERROR(__xludf.dummyfunction("""COMPUTED_VALUE"""),"KAUÊ HENRIQUE DE ARAÚJO SILVA") -> KAUÊ HENRIQUE DE ARAÚJO SILVA | D4: =IFERROR(__xludf.dummyfunction("""COMPUTED_VALUE"""),"01/04/2024") -> 01/04/2024 | E4: =IFERROR(__xludf.dummyfunction("""COMPUTED_VALUE"""),"002.527.454-69") -> 002.527.454-69 | F4: =IFERROR(__xludf.dummyfunction("""COMPUTED_VALUE"""),"INFANTIL 1") -> INFANTIL 1 | G4: =IFERROR(__xludf.dummyfunction("""COMPUTED_VALUE"""),"CEMEI DR. PAULO MENDES") -> CEMEI DR. PAULO MENDES | H4: =IFERROR(__xludf.dummyfunction("""COMPUTED_VALUE"""),"REGIONAL 7") -> REGIONAL 7
A5: =IFERROR(__xludf.dummyfunction("""COMPUTED_VALUE"""),"22/05/2026 09:22:30") -> 22/05/2026 09:22:30 | B5: =IFERROR(__xludf.dummyfunction("""COMPUTED_VALUE"""),"4") -> 4 | C5: =IFERROR(__xludf.dummyfunction("""COMPUTED_VALUE"""),"Aylla Eduarda Marques da Silva") -> Aylla Eduarda Marques da Silva | D5: =IFERROR(__xludf.dummyfunction("""COMPUTED_VALUE"""),"27/07/2024") -> 27/07/2024 | E5: =IFERROR(__xludf.dummyfunction("""COMPUTED_VALUE"""),"003.643.684-46") -> 003.643.684-46 | F5: =IFERROR(__xludf.dummyfunction("""COMPUTED_VALUE"""),"INFANTIL 1") -> INFANTIL 1 | G5: =IFERROR(__xludf.dummyfunction("""COMPUTED_VALUE"""),"CEMEI DR. PAULO MENDES") -> CEMEI DR. PAULO MENDES | H5: =IFERROR(__xludf.dummyfunction("""COMPUTED_VALUE"""),"REGIONAL 7") -> REGIONAL 7
A6: =IFERROR(__xludf.dummyfunction("""COMPUTED_VALUE"""),"23/06/2026 09:32:02") -> 23/06/2026 09:32:02 | B6: =IFERROR(__xludf.dummyfunction("""COMPUTED_VALUE"""),"5") -> 5 | C6: =IFERROR(__xludf.dummyfunction("""COMPUTED_VALUE"""),"MARIANA LEANDRA TOMAZ DE MELO") -> MARIANA LEANDRA TOMAZ DE MELO | D6: =IFERROR(__xludf.dummyfunction("""COMPUTED_VALUE"""),"25/11/2024") -> 25/11/2024 | E6: =IFERROR(__xludf.dummyfunction("""COMPUTED_VALUE"""),"004.786.214-93") -> 004.786.214-93 | F6: =IFERROR(__xludf.dummyfunction("""COMPUTED_VALUE"""),"INFANTIL 1") -> INFANTIL 1 | G6: =IFERROR(__xludf.dummyfunction("""COMPUTED_VALUE"""),"CEMEI DR. PAULO MENDES") -> CEMEI DR. PAULO MENDES | H6: =IFERROR(__xludf.dummyfunction("""COMPUTED_VALUE"""),"REGIONAL 7") -> REGIONAL 7
A7: =IFERROR(__xludf.dummyfunction("""COMPUTED_VALUE"""),"23/06/2026 09:36:48") -> 23/06/2026 09:36:48 | B7: =IFERROR(__xludf.dummyfunction("""COMPUTED_VALUE"""),"6") -> 6 | C7: =IFERROR(__xludf.dummyfunction("""COMPUTED_VALUE"""),"FERNANDA LEANDRA TOMAZ DE MELO") -> FERNANDA LEANDRA TOMAZ DE MELO | D7: =IFERROR(__xludf.dummyfunction("""COMPUTED_VALUE"""),"25/11/2024") -> 25/11/2024 | E7: =IFERROR(__xludf.dummyfunction("""COMPUTED_VALUE"""),"004.785.384-05") -> 004.785.384-05 | F7: =IFERROR(__xludf.dummyfunction("""COMPUTED_VALUE"""),"INFANTIL 1") -> INFANTIL 1 | G7: =IFERROR(__xludf.dummyfunction("""COMPUTED_VALUE"""),"CEMEI DR. PAULO MENDES") -> CEMEI DR. PAULO MENDES | H7: =IFERROR(__xludf.dummyfunction("""COMPUTED_VALUE"""),"REGIONAL 7") -> REGIONAL 7
A8: =IFERROR(__xludf.dummyfunction("""COMPUTED_VALUE"""),"23/07/2026 04:45:19") -> 23/07/2026 04:45:19 | B8: =IFERROR(__xludf.dummyfunction("""COMPUTED_VALUE"""),"7") -> 7 | C8: =IFERROR(__xludf.dummyfunction("""COMPUTED_VALUE"""),"Ramon Oliveira Silva") -> Ramon Oliveira Silva | D8: =IFERROR(__xludf.dummyfunction("""COMPUTED_VALUE"""),"17/11/2025") -> 17/11/2025 | E8: =IFERROR(__xludf.dummyfunction("""COMPUTED_VALUE"""),"024.777.004-30") -> 024.777.004-30 | F8: =IFERROR(__xludf.dummyfunction("""COMPUTED_VALUE"""),"INFANTIL 1") -> INFANTIL 1 | G8: =IFERROR(__xludf.dummyfunction("""COMPUTED_VALUE"""),"CEMEI DR. PAULO MENDES") -> CEMEI DR. PAULO MENDES | H8: =IFERROR(__xludf.dummyfunction("""COMPUTED_VALUE"""),"REGIONAL 7") -> REGIONAL 7
A9: =IFERROR(__xludf.dummyfunction("""COMPUTED_VALUE"""),"02/09/2026 11:53:05") -> 02/09/2026 11:53:05 | B9: =IFERROR(__xludf.dummyfunction("""COMPUTED_VALUE"""),"8") -> 8 | C9: =IFERROR(__xludf.dummyfunction("""COMPUTED_VALUE"""),"Efraim Miranda da Silva") -> Efraim Miranda da Silva | D9: =IFERROR(__xludf.dummyfunction("""COMPUTED_VALUE"""),"06/07/2025") -> 06/07/2025 | E9: =IFERROR(__xludf.dummyfunction("""COMPUTED_VALUE"""),"006.663.544-64") -> 006.663.544-64 | F9: =IFERROR(__xludf.dummyfunction("""COMPUTED_VALUE"""),"INFANTIL 1") -> INFANTIL 1 | G9: =IFERROR(__xludf.dummyfunction("""COMPUTED_VALUE"""),"CEMEI DR. PAULO MENDES") -> CEMEI DR. PAULO MENDES | H9: =IFERROR(__xludf.dummyfunction("""COMPUTED_VALUE"""),"REGIONAL 7") -> REGIONAL 7
A10: =IFERROR(__xludf.dummyfunction("""COMPUTED_VALUE"""),"10/06/2026 11:22:14") -> 10/06/2026 11:22:14 | B10: =IFERROR(__xludf.dummyfunction("""COMPUTED_VALUE"""),"1") -> 1 | C10: =IFERROR(__xludf.dummyfunction("""COMPUTED_VALUE"""),"BRUNO GABRIEL SOARES DA SILVA") -> BRUNO GABRIEL SOARES DA SILVA | D10: =IFERROR(__xludf.dummyfunction("""COMPUTED_VALUE"""),"10/11/2023") -> 10/11/2023 | E10: =IFERROR(__xludf.dummyfunction("""COMPUTED_VALUE"""),"001.026.744-18") -> 001.026.744-18 | F10: =IFERROR(__xludf.dummyfunction("""COMPUTED_VALUE"""),"INFANTIL 2") -> INFANTIL 2 | G10: =IFERROR(__xludf.dummyfunction("""COMPUTED_VALUE"""),"CEMEI DR. PAULO MENDES") -> CEMEI DR. PAULO MENDES | H10: =IFERROR(__xludf.dummyfunction("""COMPUTED_VALUE"""),"REGIONAL 7") -> REGIONAL 7
A11: =IFERROR(__xludf.dummyfunction("""COMPUTED_VALUE"""),"16/09/2026 22:07:06") -> 16/09/2026 22:07:06 | B11: =IFERROR(__xludf.dummyfunction("""COMPUTED_VALUE"""),"2") -> 2 | C11: =IFERROR(__xludf.dummyfunction("""COMPUTED_VALUE"""),"Theo Antonio Belarmino Cavalcanti") -> Theo Antonio Belarmino Cavalcanti | D11: =IFERROR(__xludf.dummyfunction("""COMPUTED_VALUE"""),"20/09/2023") -> 20/09/2023 | E11: =IFERROR(__xludf.dummyfunction("""COMPUTED_VALUE"""),"000.037.494-60") -> 000.037.494-60 | F11: =IFERROR(__xludf.dummyfunction("""COMPUTED_VALUE"""),"INFANTIL 2") -> INFANTIL 2 | G11: =IFERROR(__xludf.dummyfunction("""COMPUTED_VALUE"""),"CEMEI DR. PAULO MENDES") -> CEMEI DR. PAULO MENDES | H11: =IFERROR(__xludf.dummyfunction("""COMPUTED_VALUE"""),"REGIONAL 7") -> REGIONAL 7
A12: =IFERROR(__xludf.dummyfunction("""COMPUTED_VALUE"""),"18/05/2026 09:15:19") -> 18/05/2026 09:15:19 | B12: =IFERROR(__xludf.dummyfunction("""COMPUTED_VALUE"""),"1") -> 1 | C12: =IFERROR(__xludf.dummyfunction("""COMPUTED_VALUE"""),"HELLOYSE VITÓRIA SANTOS DUARTE") -> HELLOYSE VITÓRIA SANTOS DUARTE | D12: =IFERROR(__xludf.dummyfunction("""COMPUTED_VALUE"""),"11/01/2023") -> 11/01/2023 | E12: =IFERROR(__xludf.dummyfunction("""COMPUTED_VALUE"""),"184.035.244-20") -> 184.035.244-20 | F12: =IFERROR(__xludf.dummyfunction("""COMPUTED_VALUE"""),"INFANTIL 3") -> INFANTIL 3 | G12: =IFERROR(__xludf.dummyfunction("""COMPUTED_VALUE"""),"CEMEI DR. PAULO MENDES") -> CEMEI DR. PAULO MENDES | H12: =IFERROR(__xludf.dummyfunction("""COMPUTED_VALUE"""),"REGIONAL 7") -> REGIONAL 7
A13: =IFERROR(__xludf.dummyfunction("""COMPUTED_VALUE"""),"06/02/2026 09:17:41") -> 06/02/2026 09:17:41 | B13: =IFERROR(__xludf.dummyfunction("""COMPUTED_VALUE"""),"1") -> 1 | C13: =IFERROR(__xludf.dummyfunction("""COMPUTED_VALUE"""),"JOÃO VITOR CERQUEIRA CAMPOS") -> JOÃO VITOR CERQUEIRA CAMPOS | D13: =IFERROR(__xludf.dummyfunction("""COMPUTED_VALUE"""),"26/03/2023") -> 26/03/2023 | E13: =IFERROR(__xludf.dummyfunction("""COMPUTED_VALUE"""),"184.852.244-42") -> 184.852.244-42 | F13: =IFERROR(__xludf.dummyfunction("""COMPUTED_VALUE"""),"INFANTIL 3") -> INFANTIL 3 | G13: =IFERROR(__xludf.dummyfunction("""COMPUTED_VALUE"""),"CEMEI ELIEL EUSTAQUIO DA SILVA") -> CEMEI ELIEL EUSTAQUIO DA SILVA | H13: =IFERROR(__xludf.dummyfunction("""COMPUTED_VALUE"""),"REGIONAL 7") -> REGIONAL 7
A14: =IFERROR(__xludf.dummyfunction("""COMPUTED_VALUE"""),"04/05/2026 08:16:17") -> 04/05/2026 08:16:17 | B14: =IFERROR(__xludf.dummyfunction("""COMPUTED_VALUE"""),"2") -> 2 | C14: =IFERROR(__xludf.dummyfunction("""COMPUTED_VALUE"""),"ASAFE ALLAN DE PAULA SILVA") -> ASAFE ALLAN DE PAULA SILVA | D14: =IFERROR(__xludf.dummyfunction("""COMPUTED_VALUE"""),"24/12/2022") -> 24/12/2022 | E14: =IFERROR(__xludf.dummyfunction("""COMPUTED_VALUE"""),"183.832.884-09") -> 183.832.884-09 | F14: =IFERROR(__xludf.dummyfunction("""COMPUTED_VALUE"""),"INFANTIL 3") -> INFANTIL 3 | G14: =IFERROR(__xludf.dummyfunction("""COMPUTED_VALUE"""),"CEMEI ELIEL EUSTAQUIO DA SILVA") -> CEMEI ELIEL EUSTAQUIO DA SILVA | H14: =IFERROR(__xludf.dummyfunction("""COMPUTED_VALUE"""),"REGIONAL 7") -> REGIONAL 7
A15: =IFERROR(__xludf.dummyfunction("""COMPUTED_VALUE"""),"22/06/2026 14:09:23") -> 22/06/2026 14:09:23 | B15: =IFERROR(__xludf.dummyfunction("""COMPUTED_VALUE"""),"3") -> 3 | C15: =IFERROR(__xludf.dummyfunction("""COMPUTED_VALUE"""),"Isabella Valentina dos Santos") -> Isabella Valentina dos Santos | D15: =IFERROR(__xludf.dummyfunction("""COMPUTED_VALUE"""),"07/04/2022") -> 07/04/2022 | E15: =IFERROR(__xludf.dummyfunction("""COMPUTED_VALUE"""),"181.388.084-03") -> 181.388.084-03 | F15: =IFERROR(__xludf.dummyfunction("""COMPUTED_VALUE"""),"INFANTIL 3") -> INFANTIL 3 | G15: =IFERROR(__xludf.dummyfunction("""COMPUTED_VALUE"""),"CEMEI ELIEL EUSTAQUIO DA SILVA") -> CEMEI ELIEL EUSTAQUIO DA SILVA | H15: =IFERROR(__xludf.dummyfunction("""COMPUTED_VALUE"""),"REGIONAL 7") -> REGIONAL 7
A16: =IFERROR(__xludf.dummyfunction("""COMPUTED_VALUE"""),"10/09/2026 09:46:29") -> 10/09/2026 09:46:29 | B16: =IFERROR(__xludf.dummyfunction("""COMPUTED_VALUE"""),"4") -> 4 | C16: =IFERROR(__xludf.dummyfunction("""COMPUTED_VALUE"""),"Samuel dos Santos Pereira da Silva") -> Samuel dos Santos Pereira da Silva | D16: =IFERROR(__xludf.dummyfunction("""COMPUTED_VALUE"""),"08/10/2022") -> 08/10/2022 | E16: =IFERROR(__xludf.dummyfunction("""COMPUTED_VALUE"""),"183.072.104-61") -> 183.072.104-61 | F16: =IFERROR(__xludf.dummyfunction("""COMPUTED_VALUE"""),"INFANTIL 3") -> INFANTIL 3 | G16: =IFERROR(__xludf.dummyfunction("""COMPUTED_VALUE"""),"CEMEI ELIEL EUSTAQUIO DA SILVA") -> CEMEI ELIEL EUSTAQUIO DA SILVA | H16: =IFERROR(__xludf.dummyfunction("""COMPUTED_VALUE"""),"REGIONAL 7") -> REGIONAL 7
